{"text_format":"1","workbook":"xlsx","n_sheets":13,"sheets":["Instructions for Use","(1) Setup","(2) NE and SID Lysine","(3) Ractopamine","Growth Curve","(4) Temperature","(5) Feed Processing","(6) Floor Space","(7) Production Management","(8) Mortality","Summary","Sheet2","Sheet4"],"not_rendered":{"charts":9,"images":3,"macros":1,"external_links":1,"defined_names":42,"comments":0,"pivot_tables":0},"unopened":[],"bounds":{"document_bytes":16777216,"sheet_cells":100000,"rows_first":2000,"rows_last":500,"rows_between":2000,"halvings":0,"cell_chars":16384,"cell_head_chars":4096},"cells_cut":0,"cells_raw":0,"read":"whole","date_system":"1900"}

{"sheet":"Instructions for Use","index":0,"n_rows":40,"n_cols":16,"rows_kept":40,"cut":false,"hidden":false,"merged":[[3,1,3,11],[1,1,1,11],[20,1,20,11],[39,1,39,11],[31,1,31,11],[32,1,32,11],[33,1,33,11],[34,1,34,11],[35,1,35,11],[36,1,36,11],[25,1,25,11],[26,1,26,11],[28,1,28,11],[37,1,37,11],[38,1,38,11],[30,1,30,11],[7,1,7,11],[4,1,4,11],[29,1,29,11],[8,1,8,11],[9,1,9,11],[10,1,10,11],[11,1,11,11],[21,1,21,11],[22,1,22,11],[14,1,14,11],[15,1,15,11],[16,1,16,11],[17,1,17,11],[19,1,19,11],[23,1,23,11],[24,1,24,11]]}
[]
[null,"Feed Efficiency Evaluation Tool"]
[]
[null,"Created by: Jon De Jong, Kansas State University (© 2015, Jon De Jong, All Rights Reserved)"]
[null,"Instructions for Use"]
[]
[null,"Understanding the Spreadsheet"]
[null,"This tool is designed to allow producers to evaluate F/G using various scenarios from 7 areas of production. This spreadsheet is only designed to evaluate"]
[null,"pigs ranging from 50 - 300 lb BW. Each tab should be used separately from the others as not all areas of production and dietary formulation are additive in"]
[null,"regards to F/G. The last tab in the evaluator provides a summary of the 7 areas of production showing which area is capable of providing the largest"]
[null,"percentage change to the producer's current overall F/G."]
[]
[]
[null,"Guidelines "]
[null,"1) All decision cells that the user will utilize and provide inputs for are highlighted and bordered ",null,null,null,null,null,null,null,null,null,null,"Input"]
[null,"2) Overall F/G for the phases of production provided will be highlighted and bordered",null,null,null,null,null,null,null,null,null,null,"Overall F/G"]
[null,"3) Changes in F/G within a phase of production or for the overall period will be highlighted green (improvement),",null,null,null,null,null,null,null,null,null,null,"F/G Improved",2.5000000000000001E-2]
[null,"red (worsened), or white (no change) when compared to the initial scenario provided by the user.",null,null,null,null,null,null,null,null,null,null,"F/G Worsened",0.03]
[null,null,null,null,null,null,null,null,null,null,null,null,"F/G Stayed the Same",0]
[null,"4) Dropdown tabs are provided for decision cells when inputs are restricted by the creator.",null,null,null,null,null,null,null,null,null,null,"Drop Down Tab",null,null,"Double Click to Open"]
[null,"5) \"Clear\" buttons are provided throughout the evaluation tool so the user can quickly clear out previous inputs."]
[null,"Instructions and Step by Step guide                                                                                                                            A more detailed user guide can be found here                                                  "]
[null,"1) Starting in the \"Setup\" tab the user should input the appropiate values for the highlighted cells."]
[null,"2) The user is now free to explore each tab to evaluate the following seven areas on F/G."]
[null,"       -SID Lysine and NE"]
[null,"              -This tab evaluates NE and SID lysine levels of the diet. The user should enter their current NE and SID Lysine levels in the initial scenario lines. "]
[null,"              New NE and SID Lysine levels can then be evaluated in the 2nd scenario."]
[null,"       -Ractopamine"]
[null,"              -Users can enter ractopamine inclusion and feeding duration for 2 scenarios to compare to their current production practice."]
[null,"       -Temperature"]
[null,"              -Users can evaluate the effects of changing the ambient temperature of the barn."]
[null,"       -Feed Processing"]
[null,"              -Users can evaluate both meal vs. pellet diets and particle size of the major grain only within meal diets in two separate scenarios."]
[null,"       -Floor Space"]
[null,"              -Users can input the amount of floor space given to each animal for the overall period and compare using 2 scenarios."]
[null,"       -Production Management"]
[null,"              -Users can evaluate 2 separate changes in production practices."]
[null,"             "]
[null,"       -Mortality"]
[null,"              -Users can compare the effects of mortality for the overall period. In this scenario, mortality is assumed to occur 50% through the overall period."]

{"sheet":"(1) Setup","index":1,"n_rows":74,"n_cols":47,"rows_kept":74,"cut":false,"hidden":false,"merged":[[1,0,1,13],[20,2,20,3],[12,2,12,3],[11,2,11,3],[22,2,22,3],[4,2,4,3],[6,2,6,3],[8,2,8,3],[3,4,3,13],[13,2,13,3],[3,2,3,3],[14,2,14,3]]}
[]
["Step 1: Setup"]
[null,null,null,null,null,null,null,null,null,null,null,null,null,null,null,null,null,null,null,null,null,null,null,null,null,null,null,10,null,"Diet Form",null,"Percentage Fines",null,null,null,"Paylean","Duration"]
["Select Inputs",null,"*Clears All Inputs",null,"Phases",null,null,null,null,null,null,null,null,null,null,null,null,null,null,null,null,null,null,null,null,null,null,15,null,"Meal ",null,0,null,325,null,0,0]
["Number of Dietary Phases",10,null,null,{"$f":"IF($B$5>0,1,\"\")","v":1},{"$f":"IF($B$5>1,2,\"\")","v":2},{"$f":"IF($B$5>2,3,\"\")","v":3},{"$f":"IF($B$5>3,4,\"\")","v":4},{"$f":"IF($B$5>4,5,\"\")","v":5},{"$f":"IF($B$5>5,6,\"\")","v":6},{"$f":"IF($B$5>6,7,\"\")","v":7},{"$f":"IF($B$5>7,8,\"\")","v":8},{"$f":"IF($B$5>8,9,\"\")","v":9},{"$f":"IF($B$5>9,10,\"\")","v":10},{"$f":"IF($B$5>10,11,\"\")","v":""},{"$f":"IF($B$5>11,12,\"\")","v":""},null,null,null,null,null,null,null,null,null,1,null,20,null,"Pellet",null,5,null,350,null,4.5,7]
[null,null,null,null,null,null,null,null,null,null,null,null,null,null,null,null,null,null,null,null,null,null,null,null,null,2,null,25,null,null,null,10,null,375,null,6.75,14,null,null,null,"baseline","Change","baseline ","change","FG","FG","% Change"]
["Starting Weight, lb",45,"Choose Starting Weight for All Phases",null,{"$f":"B7","v":45},90,110,130,155,185,200,225,245,265,null,null,null,null,null,null,null,null,null,null,null,3,null,30,null,null,null,15,null,400,null,9,21,null,null,2,4,6,4.5,6.5,{"$f":"AP7/AN7","v":3},{"$f":"AR7/AN7","v":3.25},{"$f":"AS7/AT7","v":0.92307692307692313}]
[null,null,null,null,null,null,null,null,null,null,null,null,null,null,null,null,null,null,null,null,null,null,null,null,null,4,null,35,null,null,null,20,null,425,null,null,28,null,null,3,4,6,4.5,6.5,{"$f":"AP8/AN8","v":2},{"$f":"AR8/AN8","v":2.1666666666666665},{"$f":"AS8/AT8","v":0.92307692307692313}]
["Ending Weight, lb",300,"*Choose ending weight of final phase",null,{"$f":"IF(E5=1,(IF(F5=\"\",B9,F7)),\"\")","v":90},{"$f":"IF(F5=2,(IF(G5=\"\",B9,G7)),\"\")","v":110},{"$f":"IF(G5=3,(IF(H5=\"\",B9,H7)),\"\")","v":130},{"$f":"IF(H5=4,(IF(I5=\"\",B9,I7)),\"\")","v":155},{"$f":"IF(I5=5,(IF(J5=\"\",B9,J7)),\"\")","v":185},{"$f":"IF(J5=6,(IF(K5=\"\",B9,K7)),\"\")","v":200},{"$f":"IF(K5=7,(IF(L5=\"\",B9,L7)),\"\")","v":225},{"$f":"IF(L5=8,(IF(M5=\"\",B9,M7)),\"\")","v":245},{"$f":"IF(M5=9,(IF(N5=\"\",B9,N7)),\"\")","v":265},{"$f":"IF(N5=10,(IF(O5=\"\",B9,O7)),\"\")","v":300},{"$f":"IF(O5=11,(IF(P5=\"\",B9,P7)),\"\")","v":""},{"$f":"IF(P5=12,(IF(Q5=\"\",B9,Q7)),\"\")","v":""},null,null,null,null,null,null,null,null,null,5,null,40,null,null,null,25,null,450,null,null,null,null,null,4,4,6,4.5,6.5,1.5,1.625,0.92307692307692313]
[null,null,null,null,null,null,null,null,null,null,null,null,null,null,null,null,null,null,null,null,null,null,null,null,null,6,null,45,null,null,null,30,null,475,null,null,null,null,null,5,4,6,4.5,6.5,1.2,1.3,0.92307692307692302]
["Sex","Mixed",null,null,null,null,null,null,null,null,null,null,null,null,null,null,null,null,null,null,"Sex",null,null,null,null,7,null,50,null,null,null,35,null,500]
["Diet Form","Pellet","Percentage Fines if Pelleted",null,55,null,null,null,null,null,null,null,null,null,null,null,null,null,null,null,"Mixed",null,null,null,null,8,null,55,null,null,null,40,null,525]
["Grain Particle Size, µ",550,"*Average particle size of major grain used",null,null,null,null,null,null,null,null,null,null,null,null,null,null,null,null,null,"Barrow",null,null,null,null,9,null,60,null,null,null,45,null,550]
["Ractopamine, g/ton",9,"Feeding Duration, d",null,17,null,null,null,null,null,null,null,null,null,null,null,null,null,null,null,"Gilt",null,null,null,null,10,null,65,null,null,null,50,null,575]
["Mortality, %",0.02,"*Mortality for the overall period",null,null,null,null,null,null,null,null,null,null,null,null,null,null,null,null,null,null,null,null,null,null,null,null,70,null,null,null,55,null,600]
[null,null,null,null,null,null,null,null,null,null,null,null,null,null,null,null,null,null,null,null,null,null,null,null,null,null,null,75,null,null,null,60,null,625]
["Floor Space/Pig, ft2",7.8,null,null,null,null,null,null,null,null,null,null,null,null,null,null,null,null,null,null,null,null,null,null,null,null,null,80,null,null,null,null,null,650]
[null,null,null,null,null,null,null,null,null,null,null,null,null,null,null,null,null,null,null,null,null,null,null,null,null,null,null,85,null,null,null,null,null,675]
["Current Overall ADG, lb",2.15,null,null,null,null,null,null,null,null,null,null,null,null,null,null,null,null,null,null,null,null,null,null,null,null,null,90,null,null,null,null,null,700]
[null,null,null,null,null,null,null,null,null,null,null,null,null,null,null,null,null,null,null,null,null,null,null,null,null,null,null,95,null,null,null,null,null,725]
["Current Overall F/G",2.75,null,null,null,null,null,null,null,null,null,null,null,null,null,null,null,null,null,null,null,null,null,null,null,null,null,100,null,null,null,null,null,750]
[null,null,null,null,null,null,null,null,null,null,null,null,null,null,null,null,null,null,null,null,null,null,null,null,null,null,null,105,null,null,null,null,null,775]
[null,null,null,null,null,null,null,null,null,null,null,null,null,null,null,null,null,null,null,null,"Starting Wt","Ending Weight",null,null,null,null,null,110,null,null,null,null,null,800]
[null,null,null,null,null,null,null,null,null,null,null,null,null,null,null,null,null,null,null,null,null,null,null,null,null,null,null,115,null,null,null,null,null,825]
[null,null,null,null,null,null,null,null,null,null,null,null,null,null,null,null,null,null,null,null,50,55,null,null,null,null,null,120,null,null,null,null,null,850]
[null,null,null,null,null,null,null,null,null,null,null,null,null,null,null,null,null,null,null,null,55,60,null,null,null,null,null,125,null,null,null,null,null,875]
[null,null,null,null,null,null,null,null,null,null,null,null,null,null,null,null,null,null,null,null,60,65,null,null,null,null,null,130,null,null,null,null,null,900]
[null,null,null,null,null,null,null,null,null,null,null,null,null,null,null,null,null,null,null,null,65,70,null,null,null,null,null,135,null,null,null,null,null,925]
[null,null,null,null,null,null,null,null,null,null,null,null,null,null,null,null,null,null,null,null,70,75,null,null,null,null,null,140,null,null,null,null,null,950]
[null,null,null,null,null,null,null,null,null,null,null,null,null,null,null,null,null,null,null,null,75,80,null,null,null,null,null,145,null,null,null,null,null,975]
[null,null,null,null,null,null,null,null,null,null,null,null,null,null,null,null,null,null,null,null,80,85,null,null,null,null,null,150,null,null,null,null,null,1000]
[null,null,null,null,null,null,null,null,null,null,null,null,null,null,null,null,null,null,null,null,85,90,null,null,null,null,null,155]
[null,null,null,null,null,null,null,null,null,null,null,null,null,null,null,null,null,null,null,null,90,95,null,null,null,null,null,160]
[null,null,null,null,null,null,null,null,null,null,null,null,null,null,null,null,null,null,null,null,95,100,null,null,null,null,null,165]
[null,null,null,null,null,null,null,null,null,null,null,null,null,null,null,null,null,null,null,null,100,105,null,null,null,null,null,170]
[null,null,null,null,null,null,null,null,null,null,null,null,null,null,null,null,null,null,null,null,105,110,null,null,null,null,null,175]
[null,null,null,null,null,null,null,null,null,null,null,null,null,null,null,null,null,null,null,null,110,115,null,null,null,null,null,180]
[null,null,null,null,null,null,null,null,null,null,null,null,null,null,null,null,null,null,null,null,115,120,null,null,null,null,null,185]
[null,null,null,null,null,null,null,null,null,null,null,null,null,null,null,null,null,null,null,null,120,125,null,null,null,null,null,190]
[null,null,null,null,null,null,null,null,null,null,null,null,null,null,null,null,null,null,null,null,125,130,null,null,null,null,null,195]
[null,null,null,null,null,null,null,null,null,null,null,null,null,null,null,null,null,null,null,null,130,135,null,null,null,null,null,200]
[null,null,null,null,null,null,null,null,null,null,null,null,null,null,null,null,null,null,null,null,135,140,null,null,null,null,null,205]
[null,null,null,null,null,null,null,null,null,null,null,null,null,null,null,null,null,null,null,null,140,145,null,null,null,null,null,210]
[null,null,null,null,null,null,null,null,null,null,null,null,null,null,null,null,null,null,null,null,145,150,null,null,null,null,null,215]
[null,null,null,null,null,null,null,null,null,null,null,null,null,null,null,null,null,null,null,null,150,155,null,null,null,null,null,220]
[null,null,null,null,null,null,null,null,null,null,null,null,null,null,null,null,null,null,null,null,155,160,null,null,null,null,null,225]
[null,null,null,null,null,null,null,null,null,null,null,null,null,null,null,null,null,null,null,null,160,165,null,null,null,null,null,230]
[null,null,null,null,null,null,null,null,null,null,null,null,null,null,null,null,null,null,null,null,165,170,null,null,null,null,null,235]
[null,null,null,null,null,null,null,null,null,null,null,null,null,null,null,null,null,null,null,null,170,175,null,null,null,null,null,240]
[null,null,null,null,null,null,null,null,null,null,null,null,null,null,null,null,null,null,null,null,175,180,null,null,null,null,null,245]
[null,null,null,null,null,null,null,null,null,null,null,null,null,null,null,null,null,null,null,null,180,185,null,null,null,null,null,250]
[null,null,null,null,null,null,null,null,null,null,null,null,null,null,null,null,null,null,null,null,185,190,null,null,null,null,null,255]
[null,null,null,null,null,null,null,null,null,null,null,null,null,null,null,null,null,null,null,null,190,195,null,null,null,null,null,260]
[null,null,null,null,null,null,null,null,null,null,null,null,null,null,null,null,null,null,null,null,195,200,null,null,null,null,null,265]
[null,null,null,null,null,null,null,null,null,null,null,null,null,null,null,null,null,null,null,null,200,205,null,null,null,null,null,270]
[null,null,null,null,null,null,null,null,null,null,null,null,null,null,null,null,null,null,null,null,205,210,null,null,null,null,null,275]
[null,null,null,null,null,null,null,null,null,null,null,null,null,null,null,null,null,null,null,null,210,215,null,null,null,null,null,280]
[null,null,null,null,null,null,null,null,null,null,null,null,null,null,null,null,null,null,null,null,215,220,null,null,null,null,null,285]
[null,null,null,null,null,null,null,null,null,null,null,null,null,null,null,null,null,null,null,null,220,225,null,null,null,null,null,290]
[null,null,null,null,null,null,null,null,null,null,null,null,null,null,null,null,null,null,null,null,225,230,null,null,null,null,null,295]
[null,null,null,null,null,null,null,null,null,null,null,null,null,null,null,null,null,null,null,null,230,235,null,null,null,null,null,300]
[null,null,null,null,null,null,null,null,null,null,null,null,null,null,null,null,null,null,null,null,235,240]
[null,null,null,null,null,null,null,null,null,null,null,null,null,null,null,null,null,null,null,null,240,245]
[null,null,null,null,null,null,null,null,null,null,null,null,null,null,null,null,null,null,null,null,245,250]
[null,null,null,null,null,null,null,null,null,null,null,null,null,null,null,null,null,null,null,null,250,255]
[null,null,null,null,null,null,null,null,null,null,null,null,null,null,null,null,null,null,null,null,255,260]
[null,null,null,null,null,null,null,null,null,null,null,null,null,null,null,null,null,null,null,null,260,265]
[null,null,null,null,null,null,null,null,null,null,null,null,null,null,null,null,null,null,null,null,265,270]
[null,null,null,null,null,null,null,null,null,null,null,null,null,null,null,null,null,null,null,null,270,275]
[null,null,null,null,null,null,null,null,null,null,null,null,null,null,null,null,null,null,null,null,275,280]
[null,null,null,null,null,null,null,null,null,null,null,null,null,null,null,null,null,null,null,null,280,285]
[null,null,null,null,null,null,null,null,null,null,null,null,null,null,null,null,null,null,null,null,285,290]
[null,null,null,null,null,null,null,null,null,null,null,null,null,null,null,null,null,null,null,null,290,295]
[null,null,null,null,null,null,null,null,null,null,null,null,null,null,null,null,null,null,null,null,295,300]

{"sheet":"(2) NE and SID Lysine","index":2,"n_rows":68,"n_cols":14,"rows_kept":68,"cut":false,"hidden":false,"merged":[[38,0,38,11],[24,2,24,11],[6,2,6,11],[0,0,0,12],[11,2,11,11]]}
["Step 2: Selecting Dietary NE and SID Lysine Levels"]
[]
[]
[]
[]
[]
[null,null,"Phase"]
[null,null,{"$f":"'(1) Setup'!E5","v":1},{"$f":"'(1) Setup'!F5","v":2},{"$f":"'(1) Setup'!G5","v":3},{"$f":"'(1) Setup'!H5","v":4},{"$f":"'(1) Setup'!I5","v":5},{"$f":"'(1) Setup'!J5","v":6},{"$f":"'(1) Setup'!K5","v":7},{"$f":"'(1) Setup'!L5","v":8},{"$f":"'(1) Setup'!M5","v":9},{"$f":"'(1) Setup'!N5","v":10}]
["Initial Weight, lb",null,{"$f":"IF(C8=1,'(1) Setup'!E7,\"\")","v":45},{"$f":"IF(D8=2,'(1) Setup'!F7,\"\")","v":90},{"$f":"IF(E8=3,'(1) Setup'!G7,\"\")","v":110},{"$f":"IF(F8=4,'(1) Setup'!H7,\"\")","v":130},{"$f":"IF(G8=5,'(1) Setup'!I7,\"\")","v":155},{"$f":"IF(H8=6,'(1) Setup'!J7,\"\")","v":185},{"$f":"IF(I8=7,'(1) Setup'!K7,\"\")","v":200},{"$f":"IF(J8=8,'(1) Setup'!L7,\"\")","v":225},{"$f":"IF(K8=9,'(1) Setup'!M7,\"\")","v":245},{"$f":"IF(L8=10,'(1) Setup'!N7,\"\")","v":265},null,{"$f":"'(1) Setup'!P5","v":""}]
["Ending Weight, lb",null,{"$f":"IF(C8=1,'(1) Setup'!E9,\"\")","v":90},{"$f":"IF(D8=2,'(1) Setup'!F9,\"\")","v":110},{"$f":"IF(E8=3,'(1) Setup'!G9,\"\")","v":130},{"$f":"IF(F8=4,'(1) Setup'!H9,\"\")","v":155},{"$f":"IF(G8=5,'(1) Setup'!I9,\"\")","v":185},{"$f":"IF(H8=6,'(1) Setup'!J9,\"\")","v":200},{"$f":"IF(I8=7,'(1) Setup'!K9,\"\")","v":225},{"$f":"IF(J8=8,'(1) Setup'!L9,\"\")","v":245},{"$f":"IF(K8=9,'(1) Setup'!M9,\"\")","v":265},{"$f":"IF(L8=10,'(1) Setup'!N9,\"\")","v":300}]
[null,null,{"$f":"IF(C8=1,((C9+C10)/2),0)","v":67.5},{"$f":"IF(D8=2,((D9+D10)/2),0)","v":100},{"$f":"IF(E8=3,((E9+E10)/2),0)","v":120},{"$f":"IF(F8=4,((F9+F10)/2),0)","v":142.5},{"$f":"IF(G8=5,((G9+G10)/2),0)","v":170},{"$f":"IF(H8=6,((H9+H10)/2),0)","v":192.5},{"$f":"IF(I8=7,((I9+I10)/2),0)","v":212.5},{"$f":"IF(J8=8,((J9+J10)/2),0)","v":235},{"$f":"IF(K8=9,((K9+K10)/2),0)","v":255},{"$f":"IF(L8=10,((L9+L10)/2),0)","v":282.5}]
[null,null,"Enter Current NE (NRC, 2012) and SID Lysine Levels"]
["Initial Dietary NE, kcal/lb (NRC, 2012)"]
["Initial SID Lysine, %"]
["Initial Overall F/G  paylean adj.",null,{"$f":"IF(C10='(1) Setup'!$B$9,'(3) Ractopamine'!B54,IF(C8=1,(1/((0.000004365*(C13*2.204))-(0.00162*(C11/2.204))-(0.08023*(IF(C14>C16,C16,C14)))+((0.000094*(C13*2.204)*(IF(C14>C16,C16,C14)))+0.3496))),0)-C46)","v":1.9177965021464118},{"$f":"IF(D10='(1) Setup'!$B$9,'(3) Ractopamine'!C54,IF(D8=2,(1/((0.000004365*(D13*2.204))-(0.00162*(D11/2.204))-(0.08023*(IF(D14>D16,D16,D14)))+((0.000094*(D13*2.204)*(IF(D14>D16,D16,D14)))+0.3496))),0)-D46)","v":2.0837273693773923},{"$f":"IF(E10='(1) Setup'!$B$9,'(3) Ractopamine'!D54,IF(E8=3,(1/((0.000004365*(E13*2.204))-(0.00162*(E11/2.204))-(0.08023*(IF(E14>E16,E16,E14)))+((0.000094*(E13*2.204)*(IF(E14>E16,E16,E14)))+0.3496))),0)-E46)","v":2.2009129457586143},{"$f":"IF(F10='(1) Setup'!$B$9,'(3) Ractopamine'!E54,IF(F8=4,(1/((0.000004365*(F13*2.204))-(0.00162*(F11/2.204))-(0.08023*(IF(F14>F16,F16,F14)))+((0.000094*(F13*2.204)*(IF(F14>F16,F16,F14)))+0.3496))),0)-F46)","v":2.3495658534939974},{"$f":"IF(G10='(1) Setup'!$B$9,'(3) Ractopamine'!F54,IF(G8=5,(1/((0.000004365*(G13*2.204))-(0.00162*(G11/2.204))-(0.08023*(IF(G14>G16,G16,G14)))+((0.000094*(G13*2.204)*(IF(G14>G16,G16,G14)))+0.3496))),0)-G46)","v":2.5609762126589106},{"$f":"IF(H10='(1) Setup'!$B$9,'(3) Ractopamine'!G54,IF(H8=6,(1/((0.000004365*(H13*2.204))-(0.00162*(H11/2.204))-(0.08023*(IF(H14>H16,H16,H14)))+((0.000094*(H13*2.204)*(IF(H14>H16,H16,H14)))+0.3496))),0)-H46)","v":2.7644948831219667},{"$f":"IF(I10='(1) Setup'!$B$9,'(3) Ractopamine'!H54,IF(I8=7,(1/((0.000004365*(I13*2.204))-(0.00162*(I11/2.204))-(0.08023*(IF(I14>I16,I16,I14)))+((0.000094*(I13*2.204)*(IF(I14>I16,I16,I14)))+0.3496))),0)-I46)","v":2.9746198518345239},{"$f":"IF(J10='(1) Setup'!$B$9,'(3) Ractopamine'!I54,IF(J8=8,(1/((0.000004365*(J13*2.204))-(0.00162*(J11/2.204))-(0.08023*(IF(J14>J16,J16,J14)))+((0.000094*(J13*2.204)*(IF(J14>J16,J16,J14)))+0.3496))),0)-J46)","v":3.2527619138802573},{"$f":"IF(K10='(1) Setup'!$B$9,'(3) Ractopamine'!J54,IF(K8=9,(1/((0.000004365*(K13*2.204))-(0.00162*(K11/2.204))-(0.08023*(IF(K14>K16,K16,K14)))+((0.000094*(K13*2.204)*(IF(K14>K16,K16,K14)))+0.3496))),0)-K46)","v":3.5476249819531938},{"$f":"IF(L10='(1) Setup'!$B$9,'(3) Ractopamine'!K54,IF(L8=10,(1/((0.000004365*(L13*2.204))-(0.00162*(L11/2.204))-(0.08023*(IF(L14>L16,L16,L14)))+((0.000094*(L13*2.204)*(IF(L14>L16,L16,L14)))+0.3496))),0)-L46)","v":3.4583205814923201}]
["Lysine Requirement for Gilts (Nitikanchana et al. 2015)",null,{"$f":"ROUND(C17,2)","v":0},0,0,0,0,0,0,0,0,0.25,null,{"$f":"IF(N9=12,((N12*2.2046*(-0.000000153*(('(1) Setup'!P7+'(1) Setup'!P9)/2)^3+0.000104928*(('(1) Setup'!P7+'(1) Setup'!P9)/2)^2-0.030414451*(('(1) Setup'!P7+'(1) Setup'!P9)/2)+6.043540689))/10000),\"\")","v":""}]
["Estimated Lysine Requirement Not Rounded",null,{"$f":"IF('(1) Setup'!$B$14>0,(IF('(2) NE and SID Lysine'!C10='(1) Setup'!$B$9,(IF(C8=1,((C13*2.2046*(-0.000000153*(('(1) Setup'!E7+'(1) Setup'!E9)/2)^3+0.000104928*(('(1) Setup'!E7+'(1) Setup'!E9)/2)^2-0.030414451*(('(1) Setup'!E7+'(1) Setup'!E9)/2)+6.043540689))/10000),\"\"))+0.25,(IF(C8=1,((C13*2.2046*(-0.000000153*(('(1) Setup'!E7+'(1) Setup'!E9)/2)^3+0.000104928*(('(1) Setup'!E7+'(1) Setup'!E9)/2)^2-0.030414451*(('(1) Setup'!E7+'(1) Setup'!E9)/2)+6.043540689))/10000),\"\")))),(IF(C8=1,((C13*2.2046*(-0.000000153*(('(1) Setup'!E7+'(1) Setup'!E9)/2)^3+0.000104928*(('(1) Setup'!E7+'(1) Setup'!E9)/2)^2-0.030414451*(('(1) Setup'!E7+'(1) Setup'!E9)/2)+6.043540689))/10000),\"\")))","v":0},{"$f":"IF('(1) Setup'!$B$14>0,(IF('(2) NE and SID Lysine'!D10='(1) Setup'!$B$9,(IF(D8=2,((D13*2.2046*(-0.000000153*(('(1) Setup'!F7+'(1) Setup'!F9)/2)^3+0.000104928*(('(1) Setup'!F7+'(1) Setup'!F9)/2)^2-0.030414451*(('(1) Setup'!F7+'(1) Setup'!F9)/2)+6.043540689))/10000),\"\"))+0.25,(IF(D8=2,((D13*2.2046*(-0.000000153*(('(1) Setup'!F7+'(1) Setup'!F9)/2)^3+0.000104928*(('(1) Setup'!F7+'(1) Setup'!F9)/2)^2-0.030414451*(('(1) Setup'!F7+'(1) Setup'!F9)/2)+6.043540689))/10000),\"\")))),(IF(D8=2,((D13*2.2046*(-0.000000153*(('(1) Setup'!F7+'(1) Setup'!F9)/2)^3+0.000104928*(('(1) Setup'!F7+'(1) Setup'!F9)/2)^2-0.030414451*(('(1) Setup'!F7+'(1) Setup'!F9)/2)+6.043540689))/10000),\"\")))","v":0},{"$f":"IF('(1) Setup'!$B$14>0,(IF('(2) NE and SID Lysine'!E10='(1) Setup'!$B$9,(IF(E8=3,((E13*2.2046*(-0.000000153*(('(1) Setup'!G7+'(1) Setup'!G9)/2)^3+0.000104928*(('(1) Setup'!G7+'(1) Setup'!G9)/2)^2-0.030414451*(('(1) Setup'!G7+'(1) Setup'!G9)/2)+6.043540689))/10000),\"\"))+0.25,(IF(E8=3,((E13*2.2046*(-0.000000153*(('(1) Setup'!G7+'(1) Setup'!G9)/2)^3+0.000104928*(('(1) Setup'!G7+'(1) Setup'!G9)/2)^2-0.030414451*(('(1) Setup'!G7+'(1) Setup'!G9)/2)+6.043540689))/10000),\"\")))),(IF(E8=3,((E13*2.2046*(-0.000000153*(('(1) Setup'!G7+'(1) Setup'!G9)/2)^3+0.000104928*(('(1) Setup'!G7+'(1) Setup'!G9)/2)^2-0.030414451*(('(1) Setup'!G7+'(1) Setup'!G9)/2)+6.043540689))/10000),\"\")))","v":0},{"$f":"IF('(1) Setup'!$B$14>0,(IF('(2) NE and SID Lysine'!F10='(1) Setup'!$B$9,(IF(F8=4,((F13*2.2046*(-0.000000153*(('(1) Setup'!H7+'(1) Setup'!H9)/2)^3+0.000104928*(('(1) Setup'!H7+'(1) Setup'!H9)/2)^2-0.030414451*(('(1) Setup'!H7+'(1) Setup'!H9)/2)+6.043540689))/10000),\"\"))+0.25,(IF(F8=4,((F13*2.2046*(-0.000000153*(('(1) Setup'!H7+'(1) Setup'!H9)/2)^3+0.000104928*(('(1) Setup'!H7+'(1) Setup'!H9)/2)^2-0.030414451*(('(1) Setup'!H7+'(1) Setup'!H9)/2)+6.043540689))/10000),\"\")))),(IF(F8=4,((F13*2.2046*(-0.000000153*(('(1) Setup'!H7+'(1) Setup'!H9)/2)^3+0.000104928*(('(1) Setup'!H7+'(1) Setup'!H9)/2)^2-0.030414451*(('(1) Setup'!H7+'(1) Setup'!H9)/2)+6.043540689))/10000),\"\")))","v":0},{"$f":"IF('(1) Setup'!$B$14>0,(IF('(2) NE and SID Lysine'!G10='(1) Setup'!$B$9,(IF(G8=5,((G13*2.2046*(-0.000000153*(('(1) Setup'!I7+'(1) Setup'!I9)/2)^3+0.000104928*(('(1) Setup'!I7+'(1) Setup'!I9)/2)^2-0.030414451*(('(1) Setup'!I7+'(1) Setup'!I9)/2)+6.043540689))/10000),\"\"))+0.25,(IF(G8=5,((G13*2.2046*(-0.000000153*(('(1) Setup'!I7+'(1) Setup'!I9)/2)^3+0.000104928*(('(1) Setup'!I7+'(1) Setup'!I9)/2)^2-0.030414451*(('(1) Setup'!I7+'(1) Setup'!I9)/2)+6.043540689))/10000),\"\")))),(IF(G8=5,((G13*2.2046*(-0.000000153*(('(1) Setup'!I7+'(1) Setup'!I9)/2)^3+0.000104928*(('(1) Setup'!I7+'(1) Setup'!I9)/2)^2-0.030414451*(('(1) Setup'!I7+'(1) Setup'!I9)/2)+6.043540689))/10000),\"\")))","v":0},{"$f":"IF('(1) Setup'!$B$14>0,(IF('(2) NE and SID Lysine'!H10='(1) Setup'!$B$9,(IF(H8=6,((H13*2.2046*(-0.000000153*(('(1) Setup'!J7+'(1) Setup'!J9)/2)^3+0.000104928*(('(1) Setup'!J7+'(1) Setup'!J9)/2)^2-0.030414451*(('(1) Setup'!J7+'(1) Setup'!J9)/2)+6.043540689))/10000),\"\"))+0.25,(IF(H8=6,((H13*2.2046*(-0.000000153*(('(1) Setup'!J7+'(1) Setup'!J9)/2)^3+0.000104928*(('(1) Setup'!J7+'(1) Setup'!J9)/2)^2-0.030414451*(('(1) Setup'!J7+'(1) Setup'!J9)/2)+6.043540689))/10000),\"\")))),(IF(H8=6,((H13*2.2046*(-0.000000153*(('(1) Setup'!J7+'(1) Setup'!J9)/2)^3+0.000104928*(('(1) Setup'!J7+'(1) Setup'!J9)/2)^2-0.030414451*(('(1) Setup'!J7+'(1) Setup'!J9)/2)+6.043540689))/10000),\"\")))","v":0},{"$f":"IF('(1) Setup'!$B$14>0,(IF('(2) NE and SID Lysine'!I10='(1) Setup'!$B$9,(IF(I8=7,((I13*2.2046*(-0.000000153*(('(1) Setup'!K7+'(1) Setup'!K9)/2)^3+0.000104928*(('(1) Setup'!K7+'(1) Setup'!K9)/2)^2-0.030414451*(('(1) Setup'!K7+'(1) Setup'!K9)/2)+6.043540689))/10000),\"\"))+0.25,(IF(I8=7,((I13*2.2046*(-0.000000153*(('(1) Setup'!K7+'(1) Setup'!K9)/2)^3+0.000104928*(('(1) Setup'!K7+'(1) Setup'!K9)/2)^2-0.030414451*(('(1) Setup'!K7+'(1) Setup'!K9)/2)+6.043540689))/10000),\"\")))),(IF(I8=7,((I13*2.2046*(-0.000000153*(('(1) Setup'!K7+'(1) Setup'!K9)/2)^3+0.000104928*(('(1) Setup'!K7+'(1) Setup'!K9)/2)^2-0.030414451*(('(1) Setup'!K7+'(1) Setup'!K9)/2)+6.043540689))/10000),\"\")))","v":0},{"$f":"IF('(1) Setup'!$B$14>0,(IF('(2) NE and SID Lysine'!J10='(1) Setup'!$B$9,(IF(J8=8,((J13*2.2046*(-0.000000153*(('(1) Setup'!L7+'(1) Setup'!L9)/2)^3+0.000104928*(('(1) Setup'!L7+'(1) Setup'!L9)/2)^2-0.030414451*(('(1) Setup'!L7+'(1) Setup'!L9)/2)+6.043540689))/10000),\"\"))+0.25,(IF(J8=8,((J13*2.2046*(-0.000000153*(('(1) Setup'!L7+'(1) Setup'!L9)/2)^3+0.000104928*(('(1) Setup'!L7+'(1) Setup'!L9)/2)^2-0.030414451*(('(1) Setup'!L7+'(1) Setup'!L9)/2)+6.043540689))/10000),\"\")))),(IF(J8=8,((J13*2.2046*(-0.000000153*(('(1) Setup'!L7+'(1) Setup'!L9)/2)^3+0.000104928*(('(1) Setup'!L7+'(1) Setup'!L9)/2)^2-0.030414451*(('(1) Setup'!L7+'(1) Setup'!L9)/2)+6.043540689))/10000),\"\")))","v":0},{"$f":"IF('(1) Setup'!$B$14>0,(IF('(2) NE and SID Lysine'!K10='(1) Setup'!$B$9,(IF(K8=9,((K13*2.2046*(-0.000000153*(('(1) Setup'!M7+'(1) Setup'!M9)/2)^3+0.000104928*(('(1) Setup'!M7+'(1) Setup'!M9)/2)^2-0.030414451*(('(1) Setup'!M7+'(1) Setup'!M9)/2)+6.043540689))/10000),\"\"))+0.25,(IF(K8=9,((K13*2.2046*(-0.000000153*(('(1) Setup'!M7+'(1) Setup'!M9)/2)^3+0.000104928*(('(1) Setup'!M7+'(1) Setup'!M9)/2)^2-0.030414451*(('(1) Setup'!M7+'(1) Setup'!M9)/2)+6.043540689))/10000),\"\")))),(IF(K8=9,((K13*2.2046*(-0.000000153*(('(1) Setup'!M7+'(1) Setup'!M9)/2)^3+0.000104928*(('(1) Setup'!M7+'(1) Setup'!M9)/2)^2-0.030414451*(('(1) Setup'!M7+'(1) Setup'!M9)/2)+6.043540689))/10000),\"\")))","v":0},{"$f":"IF('(1) Setup'!$B$14>0,(IF('(2) NE and SID Lysine'!L10='(1) Setup'!$B$9,(IF(L8=10,((L13*2.2046*(-0.000000153*(('(1) Setup'!N7+'(1) Setup'!N9)/2)^3+0.000104928*(('(1) Setup'!N7+'(1) Setup'!N9)/2)^2-0.030414451*(('(1) Setup'!N7+'(1) Setup'!N9)/2)+6.043540689))/10000),\"\"))+0.25,(IF(L8=10,((L13*2.2046*(-0.000000153*(('(1) Setup'!N7+'(1) Setup'!N9)/2)^3+0.000104928*(('(1) Setup'!N7+'(1) Setup'!N9)/2)^2-0.030414451*(('(1) Setup'!N7+'(1) Setup'!N9)/2)+6.043540689))/10000),\"\")))),(IF(L8=10,((L13*2.2046*(-0.000000153*(('(1) Setup'!N7+'(1) Setup'!N9)/2)^3+0.000104928*(('(1) Setup'!N7+'(1) Setup'!N9)/2)^2-0.030414451*(('(1) Setup'!N7+'(1) Setup'!N9)/2)+6.043540689))/10000),\"\")))","v":0.25}]
[]
["Barrow lysine, not rounded",null,{"$f":"IF('(1) Setup'!$B$14>0,(IF(C10='(1) Setup'!$B$9,(((C13*2.2046)*(0.0000454*((C9+C10)/2)^2-0.0249885*((C9+C10)/2)+5.8980083))/10000)+0.25,(((C13*2.2046)*(0.0000454*((C9+C10)/2)^2-0.0249885*((C9+C10)/2)+5.8980083))/10000))),(((C13*2.2046)*(0.0000454*((C9+C10)/2)^2-0.0249885*((C9+C10)/2)+5.8980083))/10000))","v":0},{"$f":"IF('(1) Setup'!$B$14>0,(IF(D10='(1) Setup'!$B$9,(((D13*2.2046)*(0.0000454*((D9+D10)/2)^2-0.0249885*((D9+D10)/2)+5.8980083))/10000)+0.25,(((D13*2.2046)*(0.0000454*((D9+D10)/2)^2-0.0249885*((D9+D10)/2)+5.8980083))/10000))),(((D13*2.2046)*(0.0000454*((D9+D10)/2)^2-0.0249885*((D9+D10)/2)+5.8980083))/10000))","v":0},{"$f":"IF('(1) Setup'!$B$14>0,(IF(E10='(1) Setup'!$B$9,(((E13*2.2046)*(0.0000454*((E9+E10)/2)^2-0.0249885*((E9+E10)/2)+5.8980083))/10000)+0.25,(((E13*2.2046)*(0.0000454*((E9+E10)/2)^2-0.0249885*((E9+E10)/2)+5.8980083))/10000))),(((E13*2.2046)*(0.0000454*((E9+E10)/2)^2-0.0249885*((E9+E10)/2)+5.8980083))/10000))","v":0},{"$f":"IF('(1) Setup'!$B$14>0,(IF(F10='(1) Setup'!$B$9,(((F13*2.2046)*(0.0000454*((F9+F10)/2)^2-0.0249885*((F9+F10)/2)+5.8980083))/10000)+0.25,(((F13*2.2046)*(0.0000454*((F9+F10)/2)^2-0.0249885*((F9+F10)/2)+5.8980083))/10000))),(((F13*2.2046)*(0.0000454*((F9+F10)/2)^2-0.0249885*((F9+F10)/2)+5.8980083))/10000))","v":0},{"$f":"IF('(1) Setup'!$B$14>0,(IF(G10='(1) Setup'!$B$9,(((G13*2.2046)*(0.0000454*((G9+G10)/2)^2-0.0249885*((G9+G10)/2)+5.8980083))/10000)+0.25,(((G13*2.2046)*(0.0000454*((G9+G10)/2)^2-0.0249885*((G9+G10)/2)+5.8980083))/10000))),(((G13*2.2046)*(0.0000454*((G9+G10)/2)^2-0.0249885*((G9+G10)/2)+5.8980083))/10000))","v":0},{"$f":"IF('(1) Setup'!$B$14>0,(IF(H10='(1) Setup'!$B$9,(((H13*2.2046)*(0.0000454*((H9+H10)/2)^2-0.0249885*((H9+H10)/2)+5.8980083))/10000)+0.25,(((H13*2.2046)*(0.0000454*((H9+H10)/2)^2-0.0249885*((H9+H10)/2)+5.8980083))/10000))),(((H13*2.2046)*(0.0000454*((H9+H10)/2)^2-0.0249885*((H9+H10)/2)+5.8980083))/10000))","v":0},{"$f":"IF('(1) Setup'!$B$14>0,(IF(I10='(1) Setup'!$B$9,(((I13*2.2046)*(0.0000454*((I9+I10)/2)^2-0.0249885*((I9+I10)/2)+5.8980083))/10000)+0.25,(((I13*2.2046)*(0.0000454*((I9+I10)/2)^2-0.0249885*((I9+I10)/2)+5.8980083))/10000))),(((I13*2.2046)*(0.0000454*((I9+I10)/2)^2-0.0249885*((I9+I10)/2)+5.8980083))/10000))","v":0},{"$f":"IF('(1) Setup'!$B$14>0,(IF(J10='(1) Setup'!$B$9,(((J13*2.2046)*(0.0000454*((J9+J10)/2)^2-0.0249885*((J9+J10)/2)+5.8980083))/10000)+0.25,(((J13*2.2046)*(0.0000454*((J9+J10)/2)^2-0.0249885*((J9+J10)/2)+5.8980083))/10000))),(((J13*2.2046)*(0.0000454*((J9+J10)/2)^2-0.0249885*((J9+J10)/2)+5.8980083))/10000))","v":0},{"$f":"IF('(1) Setup'!$B$14>0,(IF(K10='(1) Setup'!$B$9,(((K13*2.2046)*(0.0000454*((K9+K10)/2)^2-0.0249885*((K9+K10)/2)+5.8980083))/10000)+0.25,(((K13*2.2046)*(0.0000454*((K9+K10)/2)^2-0.0249885*((K9+K10)/2)+5.8980083))/10000))),(((K13*2.2046)*(0.0000454*((K9+K10)/2)^2-0.0249885*((K9+K10)/2)+5.8980083))/10000))","v":0},{"$f":"IF('(1) Setup'!$B$14>0,(IF(L10='(1) Setup'!$B$9,(((L13*2.2046)*(0.0000454*((L9+L10)/2)^2-0.0249885*((L9+L10)/2)+5.8980083))/10000)+0.25,(((L13*2.2046)*(0.0000454*((L9+L10)/2)^2-0.0249885*((L9+L10)/2)+5.8980083))/10000))),(((L13*2.2046)*(0.0000454*((L9+L10)/2)^2-0.0249885*((L9+L10)/2)+5.8980083))/10000))","v":0.25}]
["Lysine Requirement for Barrows (Nitikanchana et al. 2015)",null,{"$f":"IF(C19>C16,C16,(ROUND(C19,2)))","v":0},{"$f":"IF(D19>D16,D16,(ROUND(D19,2)))","v":0},0,0,0,0,0,0,0,0.25]
["Lysine Requirement for Mixed Sex , not rounded",null,{"$f":"AVERAGE(C16,C20)","v":0},{"$f":"AVERAGE(D16,D20)","v":0},0,0,0,0,0,0,0,0.25]
["Lysine Requirement for Mixed Sex  adapted from: Nitikanchana et al. 2015",null,{"$f":"ROUND(C21,2)","v":0},{"$f":"ROUND(D21,2)","v":0},0,0,0,0,0,0,0,0.25,"Current Overall F/G"]
["Initial F/G ",null,{"$f":"IF(C13=\"\",0,C54)","v":0},{"$f":"IF(D13=\"\",0,D54)","v":0},0,0,0,0,0,0,0,0,{"$f":"C57","v":2.7524948609108542}]
[]
[null,null,"Enter NE (NRC, 2012) and SID Lysine Levels to Compare"]
["New Dietary NE, kcal/lb (NRC, 2012)"]
["New SID Lysine, %"]
["Lysine Requirement for Gilts (Nitikanchana et al. 2015)",null,{"$f":"ROUND(C29,2)","v":0},0,0,0,0,0,0,0,0,0.25]
["Un rounded Lysine Req gilts",null,{"$f":"IF('(1) Setup'!$B$14>0,(IF('(2) NE and SID Lysine'!C10='(1) Setup'!$B$9,(IF(C8=1,((C26*2.2046*(-0.000000153*(('(1) Setup'!E7+'(1) Setup'!E9)/2)^3+0.000104928*(('(1) Setup'!E7+'(1) Setup'!E9)/2)^2-0.030414451*(('(1) Setup'!E7+'(1) Setup'!E9)/2)+6.043540689))/10000),\"\"))+0.25,(IF(C8=1,((C26*2.2046*(-0.000000153*(('(1) Setup'!E7+'(1) Setup'!E9)/2)^3+0.000104928*(('(1) Setup'!E7+'(1) Setup'!E9)/2)^2-0.030414451*(('(1) Setup'!E7+'(1) Setup'!E9)/2)+6.043540689))/10000),\"\")))),(IF(C8=1,((C26*2.2046*(-0.000000153*(('(1) Setup'!E7+'(1) Setup'!E9)/2)^3+0.000104928*(('(1) Setup'!E7+'(1) Setup'!E9)/2)^2-0.030414451*(('(1) Setup'!E7+'(1) Setup'!E9)/2)+6.043540689))/10000),\"\")))","v":0},{"$f":"IF('(1) Setup'!$B$14>0,(IF('(2) NE and SID Lysine'!D10='(1) Setup'!$B$9,(IF(D8=2,((D26*2.2046*(-0.000000153*(('(1) Setup'!F7+'(1) Setup'!F9)/2)^3+0.000104928*(('(1) Setup'!F7+'(1) Setup'!F9)/2)^2-0.030414451*(('(1) Setup'!F7+'(1) Setup'!F9)/2)+6.043540689))/10000),\"\"))+0.25,(IF(D8=2,((D26*2.2046*(-0.000000153*(('(1) Setup'!F7+'(1) Setup'!F9)/2)^3+0.000104928*(('(1) Setup'!F7+'(1) Setup'!F9)/2)^2-0.030414451*(('(1) Setup'!F7+'(1) Setup'!F9)/2)+6.043540689))/10000),\"\")))),(IF(D8=2,((D26*2.2046*(-0.000000153*(('(1) Setup'!F7+'(1) Setup'!F9)/2)^3+0.000104928*(('(1) Setup'!F7+'(1) Setup'!F9)/2)^2-0.030414451*(('(1) Setup'!F7+'(1) Setup'!F9)/2)+6.043540689))/10000),\"\")))","v":0},{"$f":"IF('(1) Setup'!$B$14>0,(IF('(2) NE and SID Lysine'!E10='(1) Setup'!$B$9,(IF(E8=3,((E26*2.2046*(-0.000000153*(('(1) Setup'!G7+'(1) Setup'!G9)/2)^3+0.000104928*(('(1) Setup'!G7+'(1) Setup'!G9)/2)^2-0.030414451*(('(1) Setup'!G7+'(1) Setup'!G9)/2)+6.043540689))/10000),\"\"))+0.25,(IF(E8=3,((E26*2.2046*(-0.000000153*(('(1) Setup'!G7+'(1) Setup'!G9)/2)^3+0.000104928*(('(1) Setup'!G7+'(1) Setup'!G9)/2)^2-0.030414451*(('(1) Setup'!G7+'(1) Setup'!G9)/2)+6.043540689))/10000),\"\")))),(IF(E8=3,((E26*2.2046*(-0.000000153*(('(1) Setup'!G7+'(1) Setup'!G9)/2)^3+0.000104928*(('(1) Setup'!G7+'(1) Setup'!G9)/2)^2-0.030414451*(('(1) Setup'!G7+'(1) Setup'!G9)/2)+6.043540689))/10000),\"\")))","v":0},{"$f":"IF('(1) Setup'!$B$14>0,(IF('(2) NE and SID Lysine'!F10='(1) Setup'!$B$9,(IF(F8=4,((F26*2.2046*(-0.000000153*(('(1) Setup'!H7+'(1) Setup'!H9)/2)^3+0.000104928*(('(1) Setup'!H7+'(1) Setup'!H9)/2)^2-0.030414451*(('(1) Setup'!H7+'(1) Setup'!H9)/2)+6.043540689))/10000),\"\"))+0.25,(IF(F8=4,((F26*2.2046*(-0.000000153*(('(1) Setup'!H7+'(1) Setup'!H9)/2)^3+0.000104928*(('(1) Setup'!H7+'(1) Setup'!H9)/2)^2-0.030414451*(('(1) Setup'!H7+'(1) Setup'!H9)/2)+6.043540689))/10000),\"\")))),(IF(F8=4,((F26*2.2046*(-0.000000153*(('(1) Setup'!H7+'(1) Setup'!H9)/2)^3+0.000104928*(('(1) Setup'!H7+'(1) Setup'!H9)/2)^2-0.030414451*(('(1) Setup'!H7+'(1) Setup'!H9)/2)+6.043540689))/10000),\"\")))","v":0},{"$f":"IF('(1) Setup'!$B$14>0,(IF('(2) NE and SID Lysine'!G10='(1) Setup'!$B$9,(IF(G8=5,((G26*2.2046*(-0.000000153*(('(1) Setup'!I7+'(1) Setup'!I9)/2)^3+0.000104928*(('(1) Setup'!I7+'(1) Setup'!I9)/2)^2-0.030414451*(('(1) Setup'!I7+'(1) Setup'!I9)/2)+6.043540689))/10000),\"\"))+0.25,(IF(G8=5,((G26*2.2046*(-0.000000153*(('(1) Setup'!I7+'(1) Setup'!I9)/2)^3+0.000104928*(('(1) Setup'!I7+'(1) Setup'!I9)/2)^2-0.030414451*(('(1) Setup'!I7+'(1) Setup'!I9)/2)+6.043540689))/10000),\"\")))),(IF(G8=5,((G26*2.2046*(-0.000000153*(('(1) Setup'!I7+'(1) Setup'!I9)/2)^3+0.000104928*(('(1) Setup'!I7+'(1) Setup'!I9)/2)^2-0.030414451*(('(1) Setup'!I7+'(1) Setup'!I9)/2)+6.043540689))/10000),\"\")))","v":0},{"$f":"IF('(1) Setup'!$B$14>0,(IF('(2) NE and SID Lysine'!H10='(1) Setup'!$B$9,(IF(H8=6,((H26*2.2046*(-0.000000153*(('(1) Setup'!J7+'(1) Setup'!J9)/2)^3+0.000104928*(('(1) Setup'!J7+'(1) Setup'!J9)/2)^2-0.030414451*(('(1) Setup'!J7+'(1) Setup'!J9)/2)+6.043540689))/10000),\"\"))+0.25,(IF(H8=6,((H26*2.2046*(-0.000000153*(('(1) Setup'!J7+'(1) Setup'!J9)/2)^3+0.000104928*(('(1) Setup'!J7+'(1) Setup'!J9)/2)^2-0.030414451*(('(1) Setup'!J7+'(1) Setup'!J9)/2)+6.043540689))/10000),\"\")))),(IF(H8=6,((H26*2.2046*(-0.000000153*(('(1) Setup'!J7+'(1) Setup'!J9)/2)^3+0.000104928*(('(1) Setup'!J7+'(1) Setup'!J9)/2)^2-0.030414451*(('(1) Setup'!J7+'(1) Setup'!J9)/2)+6.043540689))/10000),\"\")))","v":0},{"$f":"IF('(1) Setup'!$B$14>0,(IF('(2) NE and SID Lysine'!I10='(1) Setup'!$B$9,(IF(I8=7,((I26*2.2046*(-0.000000153*(('(1) Setup'!K7+'(1) Setup'!K9)/2)^3+0.000104928*(('(1) Setup'!K7+'(1) Setup'!K9)/2)^2-0.030414451*(('(1) Setup'!K7+'(1) Setup'!K9)/2)+6.043540689))/10000),\"\"))+0.25,(IF(I8=7,((I26*2.2046*(-0.000000153*(('(1) Setup'!K7+'(1) Setup'!K9)/2)^3+0.000104928*(('(1) Setup'!K7+'(1) Setup'!K9)/2)^2-0.030414451*(('(1) Setup'!K7+'(1) Setup'!K9)/2)+6.043540689))/10000),\"\")))),(IF(I8=7,((I26*2.2046*(-0.000000153*(('(1) Setup'!K7+'(1) Setup'!K9)/2)^3+0.000104928*(('(1) Setup'!K7+'(1) Setup'!K9)/2)^2-0.030414451*(('(1) Setup'!K7+'(1) Setup'!K9)/2)+6.043540689))/10000),\"\")))","v":0},{"$f":"IF('(1) Setup'!$B$14>0,(IF('(2) NE and SID Lysine'!J10='(1) Setup'!$B$9,(IF(J8=8,((J26*2.2046*(-0.000000153*(('(1) Setup'!L7+'(1) Setup'!L9)/2)^3+0.000104928*(('(1) Setup'!L7+'(1) Setup'!L9)/2)^2-0.030414451*(('(1) Setup'!L7+'(1) Setup'!L9)/2)+6.043540689))/10000),\"\"))+0.25,(IF(J8=8,((J26*2.2046*(-0.000000153*(('(1) Setup'!L7+'(1) Setup'!L9)/2)^3+0.000104928*(('(1) Setup'!L7+'(1) Setup'!L9)/2)^2-0.030414451*(('(1) Setup'!L7+'(1) Setup'!L9)/2)+6.043540689))/10000),\"\")))),(IF(J8=8,((J26*2.2046*(-0.000000153*(('(1) Setup'!L7+'(1) Setup'!L9)/2)^3+0.000104928*(('(1) Setup'!L7+'(1) Setup'!L9)/2)^2-0.030414451*(('(1) Setup'!L7+'(1) Setup'!L9)/2)+6.043540689))/10000),\"\")))","v":0},{"$f":"IF('(1) Setup'!$B$14>0,(IF('(2) NE and SID Lysine'!K10='(1) Setup'!$B$9,(IF(K8=9,((K26*2.2046*(-0.000000153*(('(1) Setup'!M7+'(1) Setup'!M9)/2)^3+0.000104928*(('(1) Setup'!M7+'(1) Setup'!M9)/2)^2-0.030414451*(('(1) Setup'!M7+'(1) Setup'!M9)/2)+6.043540689))/10000),\"\"))+0.25,(IF(K8=9,((K26*2.2046*(-0.000000153*(('(1) Setup'!M7+'(1) Setup'!M9)/2)^3+0.000104928*(('(1) Setup'!M7+'(1) Setup'!M9)/2)^2-0.030414451*(('(1) Setup'!M7+'(1) Setup'!M9)/2)+6.043540689))/10000),\"\")))),(IF(K8=9,((K26*2.2046*(-0.000000153*(('(1) Setup'!M7+'(1) Setup'!M9)/2)^3+0.000104928*(('(1) Setup'!M7+'(1) Setup'!M9)/2)^2-0.030414451*(('(1) Setup'!M7+'(1) Setup'!M9)/2)+6.043540689))/10000),\"\")))","v":0},{"$f":"IF('(1) Setup'!$B$14>0,(IF('(2) NE and SID Lysine'!L10='(1) Setup'!$B$9,(IF(L8=10,((L26*2.2046*(-0.000000153*(('(1) Setup'!N7+'(1) Setup'!N9)/2)^3+0.000104928*(('(1) Setup'!N7+'(1) Setup'!N9)/2)^2-0.030414451*(('(1) Setup'!N7+'(1) Setup'!N9)/2)+6.043540689))/10000),\"\"))+0.25,(IF(L8=10,((L26*2.2046*(-0.000000153*(('(1) Setup'!N7+'(1) Setup'!N9)/2)^3+0.000104928*(('(1) Setup'!N7+'(1) Setup'!N9)/2)^2-0.030414451*(('(1) Setup'!N7+'(1) Setup'!N9)/2)+6.043540689))/10000),\"\")))),(IF(L8=10,((L26*2.2046*(-0.000000153*(('(1) Setup'!N7+'(1) Setup'!N9)/2)^3+0.000104928*(('(1) Setup'!N7+'(1) Setup'!N9)/2)^2-0.030414451*(('(1) Setup'!N7+'(1) Setup'!N9)/2)+6.043540689))/10000),\"\")))","v":0.25}]
["Barrow lysine, not rounded",null,{"$f":"IF('(1) Setup'!$B$14>0,(IF(C10='(1) Setup'!$B$9,(((C26*2.2046)*(0.0000454*((C9+C10)/2)^2-0.0249885*((C9+C10)/2)+5.8980083))/10000)+0.25,(((C26*2.2046)*(0.0000454*((C9+C10)/2)^2-0.0249885*((C9+C10)/2)+5.8980083))/10000))),(((C26*2.2046)*(0.0000454*((C9+C10)/2)^2-0.0249885*((C9+C10)/2)+5.8980083))/10000))","v":0},{"$f":"IF('(1) Setup'!$B$14>0,(IF(D10='(1) Setup'!$B$9,(((D26*2.2046)*(0.0000454*((D9+D10)/2)^2-0.0249885*((D9+D10)/2)+5.8980083))/10000)+0.25,(((D26*2.2046)*(0.0000454*((D9+D10)/2)^2-0.0249885*((D9+D10)/2)+5.8980083))/10000))),(((D26*2.2046)*(0.0000454*((D9+D10)/2)^2-0.0249885*((D9+D10)/2)+5.8980083))/10000))","v":0},{"$f":"IF('(1) Setup'!$B$14>0,(IF(E10='(1) Setup'!$B$9,(((E26*2.2046)*(0.0000454*((E9+E10)/2)^2-0.0249885*((E9+E10)/2)+5.8980083))/10000)+0.25,(((E26*2.2046)*(0.0000454*((E9+E10)/2)^2-0.0249885*((E9+E10)/2)+5.8980083))/10000))),(((E26*2.2046)*(0.0000454*((E9+E10)/2)^2-0.0249885*((E9+E10)/2)+5.8980083))/10000))","v":0},{"$f":"IF('(1) Setup'!$B$14>0,(IF(F10='(1) Setup'!$B$9,(((F26*2.2046)*(0.0000454*((F9+F10)/2)^2-0.0249885*((F9+F10)/2)+5.8980083))/10000)+0.25,(((F26*2.2046)*(0.0000454*((F9+F10)/2)^2-0.0249885*((F9+F10)/2)+5.8980083))/10000))),(((F26*2.2046)*(0.0000454*((F9+F10)/2)^2-0.0249885*((F9+F10)/2)+5.8980083))/10000))","v":0},{"$f":"IF('(1) Setup'!$B$14>0,(IF(G10='(1) Setup'!$B$9,(((G26*2.2046)*(0.0000454*((G9+G10)/2)^2-0.0249885*((G9+G10)/2)+5.8980083))/10000)+0.25,(((G26*2.2046)*(0.0000454*((G9+G10)/2)^2-0.0249885*((G9+G10)/2)+5.8980083))/10000))),(((G26*2.2046)*(0.0000454*((G9+G10)/2)^2-0.0249885*((G9+G10)/2)+5.8980083))/10000))","v":0},{"$f":"IF('(1) Setup'!$B$14>0,(IF(H10='(1) Setup'!$B$9,(((H26*2.2046)*(0.0000454*((H9+H10)/2)^2-0.0249885*((H9+H10)/2)+5.8980083))/10000)+0.25,(((H26*2.2046)*(0.0000454*((H9+H10)/2)^2-0.0249885*((H9+H10)/2)+5.8980083))/10000))),(((H26*2.2046)*(0.0000454*((H9+H10)/2)^2-0.0249885*((H9+H10)/2)+5.8980083))/10000))","v":0},{"$f":"IF('(1) Setup'!$B$14>0,(IF(I10='(1) Setup'!$B$9,(((I26*2.2046)*(0.0000454*((I9+I10)/2)^2-0.0249885*((I9+I10)/2)+5.8980083))/10000)+0.25,(((I26*2.2046)*(0.0000454*((I9+I10)/2)^2-0.0249885*((I9+I10)/2)+5.8980083))/10000))),(((I26*2.2046)*(0.0000454*((I9+I10)/2)^2-0.0249885*((I9+I10)/2)+5.8980083))/10000))","v":0},{"$f":"IF('(1) Setup'!$B$14>0,(IF(J10='(1) Setup'!$B$9,(((J26*2.2046)*(0.0000454*((J9+J10)/2)^2-0.0249885*((J9+J10)/2)+5.8980083))/10000)+0.25,(((J26*2.2046)*(0.0000454*((J9+J10)/2)^2-0.0249885*((J9+J10)/2)+5.8980083))/10000))),(((J26*2.2046)*(0.0000454*((J9+J10)/2)^2-0.0249885*((J9+J10)/2)+5.8980083))/10000))","v":0},{"$f":"IF('(1) Setup'!$B$14>0,(IF(K10='(1) Setup'!$B$9,(((K26*2.2046)*(0.0000454*((K9+K10)/2)^2-0.0249885*((K9+K10)/2)+5.8980083))/10000)+0.25,(((K26*2.2046)*(0.0000454*((K9+K10)/2)^2-0.0249885*((K9+K10)/2)+5.8980083))/10000))),(((K26*2.2046)*(0.0000454*((K9+K10)/2)^2-0.0249885*((K9+K10)/2)+5.8980083))/10000))","v":0},{"$f":"IF('(1) Setup'!$B$14>0,(IF(L10='(1) Setup'!$B$9,(((L26*2.2046)*(0.0000454*((L9+L10)/2)^2-0.0249885*((L9+L10)/2)+5.8980083))/10000)+0.25,(((L26*2.2046)*(0.0000454*((L9+L10)/2)^2-0.0249885*((L9+L10)/2)+5.8980083))/10000))),(((L26*2.2046)*(0.0000454*((L9+L10)/2)^2-0.0249885*((L9+L10)/2)+5.8980083))/10000))","v":0.25}]
["Lysine Requirement for Barrows (Nitikanchana et al. 2015)",null,{"$f":"IF(C30>C29,C28,(ROUND(C30,2)))","v":0},{"$f":"IF(D30>D29,D28,(ROUND(D30,2)))","v":0},0,0,0,0,0,0,0,0.25]
["Lysine Requirement for Mixed Sex , not rounded",null,{"$f":"AVERAGE(C31,C28)","v":0},{"$f":"AVERAGE(D31,D28)","v":0},0,0,0,0,0,0,0,0.25]
["Lysine Requirement for Mixed Sex  adapted from: Nitikanchana et al. 2015",null,{"$f":"ROUND(C32,2)","v":0},{"$f":"ROUND(D32,2)","v":0},0,0,0,0,0,0,0,0.25,"Scenario 1 Overall F/G"]
["New F/G",null,{"$f":"IF(C26=\"\",0,((IF(C8=1,(1/((0.000004365*(C26*2.204))-(0.00162*(C11/2.204))-(0.08023*(IF(C27>C28,C28,C27)))+((0.000094*(C26*2.204)*(IF(C27>C28,C28,C27)))+0.3496))),0)-C62-C67-C65)))","v":0},{"$f":"IF(D26=\"\",0,((IF(D8=2,(1/((0.000004365*(D26*2.204))-(0.00162*(D11/2.204))-(0.08023*(IF(D27>D28,D28,D27)))+((0.000094*(D26*2.204)*(IF(D27>D28,D28,D27)))+0.3496))),0)-D62-D67-D65)))","v":0},{"$f":"IF(E26=\"\",0,((IF(E8=3,(1/((0.000004365*(E26*2.204))-(0.00162*(E11/2.204))-(0.08023*(IF(E27>E28,E28,E27)))+((0.000094*(E26*2.204)*(IF(E27>E28,E28,E27)))+0.3496))),0)-E62-E67-E65)))","v":0},{"$f":"IF(F26=\"\",0,((IF(F8=4,(1/((0.000004365*(F26*2.204))-(0.00162*(F11/2.204))-(0.08023*(IF(F27>F28,F28,F27)))+((0.000094*(F26*2.204)*(IF(F27>F28,F28,F27)))+0.3496))),0)-F62-F67-F65)))","v":0},{"$f":"IF(G26=\"\",0,((IF(G8=5,(1/((0.000004365*(G26*2.204))-(0.00162*(G11/2.204))-(0.08023*(IF(G27>G28,G28,G27)))+((0.000094*(G26*2.204)*(IF(G27>G28,G28,G27)))+0.3496))),0)-G62-G67-G65)))","v":0},{"$f":"IF(H26=\"\",0,((IF(H8=6,(1/((0.000004365*(H26*2.204))-(0.00162*(H11/2.204))-(0.08023*(IF(H27>H28,H28,H27)))+((0.000094*(H26*2.204)*(IF(H27>H28,H28,H27)))+0.3496))),0)-H62-H67-H65)))","v":0},{"$f":"IF(I26=\"\",0,((IF(I8=7,(1/((0.000004365*(I26*2.204))-(0.00162*(I11/2.204))-(0.08023*(IF(I27>I28,I28,I27)))+((0.000094*(I26*2.204)*(IF(I27>I28,I28,I27)))+0.3496))),0)-I62-I67-I65)))","v":0},{"$f":"IF(J26=\"\",0,((IF(J8=8,(1/((0.000004365*(J26*2.204))-(0.00162*(J11/2.204))-(0.08023*(IF(J27>J28,J28,J27)))+((0.000094*(J26*2.204)*(IF(J27>J28,J28,J27)))+0.3496))),0)-J62-J67-J65)))","v":0},{"$f":"IF(K26=\"\",0,((IF(K8=9,(1/((0.000004365*(K26*2.204))-(0.00162*(K11/2.204))-(0.08023*(IF(K27>K28,K28,K27)))+((0.000094*(K26*2.204)*(IF(K27>K28,K28,K27)))+0.3496))),0)-K62-K67-K65)))","v":0},{"$f":"IF(L26=\"\",0,((IF(L8=10,(1/((0.000004365*(L26*2.204))-(0.00162*(L11/2.204))-(0.08023*(IF(L27>L28,L28,L27)))+((0.000094*(L26*2.204)*(IF(L27>L28,L28,L27)))+0.3496))),0)-L62-L67-L65)))","v":0},{"$f":"SUM(C58:L58)/SUM(C48:L48)","v":0}]
["% Change",null,{"$f":"IF(C26=\"\",0,ABS((C23-C34)/C23))","v":0},{"$f":"IF(D26=\"\",0,ABS((D23-D34)/D23))","v":0},{"$f":"IF(D26=\"\",0,ABS((E23-E34)/E23))","v":0},{"$f":"IF(F26=\"\",0,ABS((F23-F34)/F23))","v":0},0,0,0,0,0,0,{"$f":"IF(C26=\"\",0,ABS((M23-M34)/M23))","v":0}]
[]
[]
[]
["Calculations to get Initial F/G"]
["Nitikanchana not adjusted from producer",null,{"$f":"(IF(C8=1,(IF(D8=\"\",(1/((0.000004365*(C13*2.204))-(0.00162*(C11/2.204))-(0.08023*(IF(C14>C16,C16,C14)))+((0.000094*(C13*2.204)*(IF(C14>C16,C16,C14)))+0.3496)))-($O$4*(1/((0.000004365*(C13*2.204))-(0.00162*(C11/2.204))-(0.08023*(IF(C14>C16,C16,C14)))+((0.000094*(C13*2.204)*(IF(C14>C16,C16,C14)))+0.3496)))),(1/((0.000004365*(C13*2.204))-(0.00162*(C11/2.204))-(0.08023*(IF(C14>C16,C16,C14)))+((0.000094*(C13*2.204)*(IF(C14>C16,C16,C14)))+0.3496))))),\"\"))","v":3.3334926472590034},{"$f":"(IF(D8=2,(IF(E8=\"\",(1/((0.000004365*(D13*2.204))-(0.00162*(D11/2.204))-(0.08023*(IF(D14>D16,D16,D14)))+((0.000094*(D13*2.204)*(IF(D14>D16,D16,D14)))+0.3496)))-($O$4*(1/((0.000004365*(D13*2.204))-(0.00162*(D11/2.204))-(0.08023*(IF(D14>D16,D16,D14)))+((0.000094*(D13*2.204)*(IF(D14>D16,D16,D14)))+0.3496)))),(1/((0.000004365*(D13*2.204))-(0.00162*(D11/2.204))-(0.08023*(IF(D14>D16,D16,D14)))+((0.000094*(D13*2.204)*(IF(D14>D16,D16,D14)))+0.3496))))),\"\"))","v":3.6219118435859947},{"$f":"(IF(E8=3,(IF(F8=\"\",(1/((0.000004365*(E13*2.204))-(0.00162*(E11/2.204))-(0.08023*(IF(E14>E16,E16,E14)))+((0.000094*(E13*2.204)*(IF(E14>E16,E16,E14)))+0.3496)))-($O$4*(1/((0.000004365*(E13*2.204))-(0.00162*(E11/2.204))-(0.08023*(IF(E14>E16,E16,E14)))+((0.000094*(E13*2.204)*(IF(E14>E16,E16,E14)))+0.3496)))),(1/((0.000004365*(E13*2.204))-(0.00162*(E11/2.204))-(0.08023*(IF(E14>E16,E16,E14)))+((0.000094*(E13*2.204)*(IF(E14>E16,E16,E14)))+0.3496))))),\"\"))","v":3.8256025150385748},{"$f":"(IF(F8=4,(IF(G8=\"\",(1/((0.000004365*(F13*2.204))-(0.00162*(F11/2.204))-(0.08023*(IF(F14>F16,F16,F14)))+((0.000094*(F13*2.204)*(IF(F14>F16,F16,F14)))+0.3496)))-($O$4*(1/((0.000004365*(F13*2.204))-(0.00162*(F11/2.204))-(0.08023*(IF(F14>F16,F16,F14)))+((0.000094*(F13*2.204)*(IF(F14>F16,F16,F14)))+0.3496)))),(1/((0.000004365*(F13*2.204))-(0.00162*(F11/2.204))-(0.08023*(IF(F14>F16,F16,F14)))+((0.000094*(F13*2.204)*(IF(F14>F16,F16,F14)))+0.3496))))),\"\"))","v":4.0839893534622371},{"$f":"(IF(G8=5,(IF(H8=\"\",(1/((0.000004365*(G13*2.204))-(0.00162*(G11/2.204))-(0.08023*(IF(G14>G16,G16,G14)))+((0.000094*(G13*2.204)*(IF(G14>G16,G16,G14)))+0.3496)))-($O$4*(1/((0.000004365*(G13*2.204))-(0.00162*(G11/2.204))-(0.08023*(IF(G14>G16,G16,G14)))+((0.000094*(G13*2.204)*(IF(G14>G16,G16,G14)))+0.3496)))),(1/((0.000004365*(G13*2.204))-(0.00162*(G11/2.204))-(0.08023*(IF(G14>G16,G16,G14)))+((0.000094*(G13*2.204)*(IF(G14>G16,G16,G14)))+0.3496))))),\"\"))","v":4.451460499145254},{"$f":"(IF(H8=6,(IF(I8=\"\",(1/((0.000004365*(H13*2.204))-(0.00162*(H11/2.204))-(0.08023*(IF(H14>H16,H16,H14)))+((0.000094*(H13*2.204)*(IF(H14>H16,H16,H14)))+0.3496)))-($O$4*(1/((0.000004365*(H13*2.204))-(0.00162*(H11/2.204))-(0.08023*(IF(H14>H16,H16,H14)))+((0.000094*(H13*2.204)*(IF(H14>H16,H16,H14)))+0.3496)))),(1/((0.000004365*(H13*2.204))-(0.00162*(H11/2.204))-(0.08023*(IF(H14>H16,H16,H14)))+((0.000094*(H13*2.204)*(IF(H14>H16,H16,H14)))+0.3496))))),\"\"))","v":4.8052143988990723},{"$f":"(IF(I8=7,(IF(J8=\"\",(1/((0.000004365*(I13*2.204))-(0.00162*(I11/2.204))-(0.08023*(IF(I14>I16,I16,I14)))+((0.000094*(I13*2.204)*(IF(I14>I16,I16,I14)))+0.3496)))-($O$4*(1/((0.000004365*(I13*2.204))-(0.00162*(I11/2.204))-(0.08023*(IF(I14>I16,I16,I14)))+((0.000094*(I13*2.204)*(IF(I14>I16,I16,I14)))+0.3496)))),(1/((0.000004365*(I13*2.204))-(0.00162*(I11/2.204))-(0.08023*(IF(I14>I16,I16,I14)))+((0.000094*(I13*2.204)*(IF(I14>I16,I16,I14)))+0.3496))))),\"\"))","v":5.170451293128929},{"$f":"(IF(J8=8,(IF(K8=\"\",(1/((0.000004365*(J13*2.204))-(0.00162*(J11/2.204))-(0.08023*(IF(J14>J16,J16,J14)))+((0.000094*(J13*2.204)*(IF(J14>J16,J16,J14)))+0.3496)))-($O$4*(1/((0.000004365*(J13*2.204))-(0.00162*(J11/2.204))-(0.08023*(IF(J14>J16,J16,J14)))+((0.000094*(J13*2.204)*(IF(J14>J16,J16,J14)))+0.3496)))),(1/((0.000004365*(J13*2.204))-(0.00162*(J11/2.204))-(0.08023*(IF(J14>J16,J16,J14)))+((0.000094*(J13*2.204)*(IF(J14>J16,J16,J14)))+0.3496))))),\"\"))","v":5.6539147459432382},{"$f":"(IF(K8=9,(IF(L8=\"\",(1/((0.000004365*(K13*2.204))-(0.00162*(K11/2.204))-(0.08023*(IF(K14>K16,K16,K14)))+((0.000094*(K13*2.204)*(IF(K14>K16,K16,K14)))+0.3496)))-($O$4*(1/((0.000004365*(K13*2.204))-(0.00162*(K11/2.204))-(0.08023*(IF(K14>K16,K16,K14)))+((0.000094*(K13*2.204)*(IF(K14>K16,K16,K14)))+0.3496)))),(1/((0.000004365*(K13*2.204))-(0.00162*(K11/2.204))-(0.08023*(IF(K14>K16,K16,K14)))+((0.000094*(K13*2.204)*(IF(K14>K16,K16,K14)))+0.3496))))),\"\"))","v":6.1664424663083919},{"$f":"(IF(L8=10,(IF(M8=\"\",(1/((0.000004365*(L13*2.204))-(0.00162*(L11/2.204))-(0.08023*(IF(L14>L16,L16,L14)))+((0.000094*(L13*2.204)*(IF(L14>L16,L16,L14)))+0.3496)))-($O$4*(1/((0.000004365*(L13*2.204))-(0.00162*(L11/2.204))-(0.08023*(IF(L14>L16,L16,L14)))+((0.000094*(L13*2.204)*(IF(L14>L16,L16,L14)))+0.3496)))),(1/((0.000004365*(L13*2.204))-(0.00162*(L11/2.204))-(0.08023*(IF(L14>L16,L16,L14)))+((0.000094*(L13*2.204)*(IF(L14>L16,L16,L14)))+0.3496))))),\"\"))","v":7.0444953852801984}]
["NItikanchana Initial Gain not adj.",null,{"$f":"IF(C8=1,C10-C9,0)","v":45},{"$f":"IF(D8=2,D10-D9,0)","v":20},{"$f":"IF(E8=3,E10-E9,0)","v":20},{"$f":"IF(F8=4,F10-F9,0)","v":25},{"$f":"IF(G8=5,G10-G9,0)","v":30},{"$f":"IF(H8=6,H10-H9,0)","v":15},{"$f":"IF(I8=7,I10-I9,0)","v":25},{"$f":"IF(J8=8,J10-J9,0)","v":20},{"$f":"IF(K8=9,K10-K9,0)","v":20},{"$f":"IF(L8=10,L10-L9,0)","v":35}]
["Nitikanchana initial Feed intake not adj.",null,{"$f":"IF(C8=1,C40*C41,0)","v":150.00716912665516},{"$f":"IF(D8=2,D40*D41,0)","v":72.438236871719894},{"$f":"IF(E8=3,E40*E41,0)","v":76.512050300771492},{"$f":"IF(F8=4,F40*F41,0)","v":102.09973383655593},{"$f":"IF(G8=5,G40*G41,0)","v":133.54381497435762},{"$f":"IF(H8=6,H40*H41,0)","v":72.078215983486089},{"$f":"IF(I8=7,I40*I41,0)","v":129.26128232822322},{"$f":"IF(J8=8,J40*J41,0)","v":113.07829491886477},{"$f":"IF(K8=9,K40*K41,0)","v":123.32884932616784},{"$f":"IF(L8=10,L40*L41,0)","v":246.55733848480693}]
["Nitikanchana initial overall F/G not adj.",null,{"$f":"(SUM(C42:L42))/(SUM(C41:L41))","v":4.7800195535357215}]
["Producer F/G",null,{"$f":"'(1) Setup'!B21","v":2.75}]
["% diff between Predicted and producer",null,{"$f":"1-(C44/C43)","v":0.42468854589394744}]
["change for each phase to adj. Nitikanchana",null,{"$f":"IF(C8=1,C40*$C$45,0)","v":1.4156961451125916},{"$f":"IF(D8=2,D40*$C$45,0)","v":1.5381844742086026},{"$f":"IF(E8=3,E40*$C$45,0)","v":1.6246895692799606},{"$f":"IF(F8=4,F40*$C$45,0)","v":1.73442349996824},{"$f":"IF(G8=5,G40*$C$45,0)","v":1.8904842864863434},{"$f":"IF(H8=6,H40*$C$45,0)","v":2.0407195157771056},{"$f":"IF(I8=7,I40*$C$45,0)","v":2.1958314412944051},{"$f":"IF(J8=8,J40*$C$45,0)","v":2.4011528320629809},{"$f":"IF(K8=9,K40*$C$45,0)","v":2.6188174843551981},{"$f":"IF(L8=10,L40*$C$45,0)","v":2.9917165017312706}]
["Initial Adj. F/G",null,{"$f":"IF(C8=1,C40-C46,0)","v":1.9177965021464118},{"$f":"IF(D8=2,D40-D46,0)","v":2.0837273693773923},{"$f":"IF(E8=3,E40-E46,0)","v":2.2009129457586143},{"$f":"IF(F8=4,F40-F46,0)","v":2.3495658534939974},{"$f":"IF(G8=5,G40-G46,0)","v":2.5609762126589106},{"$f":"IF(H8=6,H40-H46,0)","v":2.7644948831219667},{"$f":"IF(I8=7,I40-I46,0)","v":2.9746198518345239},{"$f":"IF(J8=8,J40-J46,0)","v":3.2527619138802573},{"$f":"IF(K8=9,K40-K46,0)","v":3.5476249819531938},{"$f":"IF(L8=10,L40-L46,0)","v":4.0527788835489282}]
["Initial Gain",null,{"$f":"C41","v":45},{"$f":"D41","v":20},20,25,30,15,25,20,20,35]
["Initial adj. Feed Intake",null,{"$f":"IF(C8=1,C15*C48,0)","v":86.300842596588538},{"$f":"IF(D8=2,D15*D48,0)","v":41.674547387547847},{"$f":"IF(E8=3,E15*E48,0)","v":44.018258915172282},{"$f":"IF(F8=4,F15*F48,0)","v":58.739146337349936},{"$f":"IF(G8=5,G15*G48,0)","v":76.829286379767325},{"$f":"IF(H8=6,H15*H48,0)","v":41.467423246829497},{"$f":"IF(I8=7,I15*I48,0)","v":74.365496295863096},{"$f":"IF(J8=8,J15*J48,0)","v":65.055238277605142},{"$f":"IF(K8=9,K15*K48,0)","v":70.952499639063873},{"$f":"IF(L8=10,L15*L48,0)","v":121.04122035223121}]
[]
["Adj. Overall F/G",null,{"$f":"SUM(C49:L49)/SUM(C48:L48)","v":2.6684076840314459}]
["% Diff Between Paylean adj. and Producer",null,{"$f":"1-(C44/C51)","v":-3.0577155228875608E-2}]
["Change for each phase to adj. from paylean",null,{"$f":"C47*$C$52","v":-5.8640761343525506E-2},-6.3714455228109146E-2,-6.7297656787703025E-2,-7.1843039822751559E-2,-7.8307367191929461E-2,-8.4530389170652712E-2,-9.0955412956439205E-2,-9.9460205963291137E-2,-0.10847627976701983,-0.12392244903058476]
["Paylean Adj. F/G ",null,{"$f":"C15-C53","v":1.9764372634899374},2.1474418246055014,2.2682106025463171,2.421408893316749,2.6392835798508401,2.8490252722926193,3.0655752647909633,3.3522221198435482,3.6561012617202135,3.5822430305229047]
["Gain",null,{"$f":"C48","v":45},{"$f":"D48","v":20},20,25,30,15,25,20,20,35]
["Intake",null,{"$f":"C54*C55","v":88.939676857047189},{"$f":"D54*D55","v":42.948836492110026},45.364212050926341,60.535222332918728,79.178507395525202,42.735379084389287,76.639381619774085,67.044442396870963,73.122025234404276,125.37850606830166]
["New Overall F/G Adj. for paylean/producer",null,{"$f":"SUM(C56:L56)/SUM(C55:L55)","v":2.7524948609108542}]
["New Overall Feed Intake",null,{"$f":"IF(C8=1,C48*C34,0)","v":0},{"$f":"IF(D8=2,D48*D34,0)","v":0},{"$f":"IF(E8=3,E48*E34,0)","v":0},{"$f":"IF(F8=4,F48*F34,0)","v":0},{"$f":"IF(G8=5,G48*G34,0)","v":0},{"$f":"IF(H8=6,H48*H34,0)","v":0},{"$f":"IF(I8=7,I48*I34,0)","v":0},{"$f":"IF(J8=8,J48*J34,0)","v":0},{"$f":"IF(K8=9,K48*K34,0)","v":0},{"$f":"IF(L8=10,L48*L34,0)","v":0}]
["Based off new scenario of NE and SID L. and Paylean"]
[]
["Sues predicted for scenario 2",null,{"$f":"(1/((0.000004365*(C26*2.204))-(0.00162*(C11/2.204))-(0.08023*(IF(C27>C28,C28,C27)))+((0.000094*(C26*2.204)*(IF(C27>C28,C28,C27)))+0.3496)))","v":3.3334926472590034},3.6219118435859947,3.8256025150385748,4.0839893534622371,4.451460499145254,4.8052143988990723,5.170451293128929,5.6539147459432382,6.1664424663083919,7.0444953852801984]
["Sues adjustment for scenario 2",null,{"$f":"C61*$C$45","v":1.4156961451125916},1.5381844742086026,1.6246895692799606,1.73442349996824,1.8904842864863434,2.0407195157771056,2.1958314412944051,2.4011528320629809,2.6188174843551981,2.9917165017312706]
["Adjusted for Sues Scenario 2 ",null,{"$f":"C61-C62","v":1.9177965021464118},{"$f":"D61-D62","v":2.0837273693773923},2.2009129457586143,2.3495658534939974,2.5609762126589106,2.7644948831219667,2.9746198518345239,3.2527619138802573,3.5476249819531938,4.0527788835489282]
["Paylean Adjustment",null,{"$f":"'(3) Ractopamine'!B73","v":0},{"$f":"'(3) Ractopamine'!C73","v":0},{"$f":"'(3) Ractopamine'!D73","v":0},{"$f":"'(3) Ractopamine'!E73","v":0},{"$f":"'(3) Ractopamine'!F73","v":0},{"$f":"'(3) Ractopamine'!G73","v":0},{"$f":"'(3) Ractopamine'!H73","v":0},{"$f":"'(3) Ractopamine'!I73","v":0},{"$f":"'(3) Ractopamine'!J73","v":0},{"$f":"'(3) Ractopamine'!K73","v":0.14667918461321383}]
["Adjustment for paylean",null,{"$f":"C63*C64","v":0},{"$f":"D63*D64","v":0},0,0,0,0,0,0,0,0.59445830205660788]
["Adjusted for Sue and paylean",null,{"$f":"C63-C65","v":1.9177965021464118},{"$f":"D63-D65","v":2.0837273693773923},2.2009129457586143,2.3495658534939974,2.5609762126589106,2.7644948831219667,{"$f":"I63-I65","v":2.9746198518345239},{"$f":"J63-J65","v":3.2527619138802573},{"$f":"K63-K65","v":3.5476249819531938},{"$f":"L63-L65","v":3.4583205814923206}]
["Adjustment for producers initial input again",null,{"$f":"C63*$C$52","v":-5.8640761343525506E-2},-6.3714455228109146E-2,-6.7297656787703025E-2,-7.1843039822751559E-2,-7.8307367191929461E-2,-8.4530389170652712E-2,-9.0955412956439205E-2,-9.9460205963291137E-2,-0.10847627976701983,-0.12392244903058476]
["Scenario 2 F/G",null,{"$f":"C66-C67","v":1.9764372634899374},{"$f":"D66-D67","v":2.1474418246055014},2.2682106025463171,2.421408893316749,2.6392835798508401,2.8490252722926193,3.0655752647909633,3.3522221198435482,3.6561012617202135,3.5822430305229052]

{"sheet":"(3) Ractopamine","index":3,"n_rows":73,"n_cols":37,"rows_kept":73,"cut":false,"hidden":false,"merged":[[0,0,0,10],[1,1,1,12],[0,12,0,15]]}
[null,null,null,null,null,null,null,null,null,null,null,null,"Step 3: Ractopamine Inclusion and Feeding Duration"]
[]
[]
[]
[]
[]
[]
[null,{"$f":"'(1) Setup'!E5","v":1},{"$f":"'(1) Setup'!F5","v":2},{"$f":"'(1) Setup'!G5","v":3},{"$f":"'(1) Setup'!H5","v":4},{"$f":"'(1) Setup'!I5","v":5},{"$f":"'(1) Setup'!J5","v":6},{"$f":"'(1) Setup'!K5","v":7},{"$f":"'(1) Setup'!L5","v":8},{"$f":"'(1) Setup'!M5","v":9},{"$f":"'(1) Setup'!N5","v":10},null,null,"Current Scenario","Scenario 1","Scenario 2"]
[null,{"$f":"IF(B8=1,'(1) Setup'!E7,0)","v":45},{"$f":"IF(C8=2,'(1) Setup'!F7,0)","v":90},{"$f":"IF(D8=3,'(1) Setup'!G7,0)","v":110},{"$f":"IF(E8=4,'(1) Setup'!H7,0)","v":130},{"$f":"IF(F8=5,'(1) Setup'!I7,0)","v":155},{"$f":"IF(G8=6,'(1) Setup'!J7,0)","v":185},{"$f":"IF(H8=7,'(1) Setup'!K7,0)","v":200},{"$f":"IF(I8=8,'(1) Setup'!L7,0)","v":225},{"$f":"IF(J8=9,'(1) Setup'!M7,0)","v":245},{"$f":"IF(K8=10,'(1) Setup'!N7,0)","v":265},null,"Ractopamine g/ton",{"$f":"'(1) Setup'!B14","v":9}]
[null,{"$f":"IF(B8=1,'(1) Setup'!E9,0)","v":90},{"$f":"IF(C8=2,'(1) Setup'!F9,0)","v":110},{"$f":"IF(D8=3,'(1) Setup'!G9,0)","v":130},{"$f":"IF(E8=4,'(1) Setup'!H9,0)","v":155},{"$f":"IF(F8=5,'(1) Setup'!I9,0)","v":185},{"$f":"IF(G8=6,'(1) Setup'!J9,0)","v":200},{"$f":"IF(H8=7,'(1) Setup'!K9,0)","v":225},{"$f":"IF(I8=8,'(1) Setup'!L9,0)","v":245},{"$f":"IF(J8=9,'(1) Setup'!M9,0)","v":265},{"$f":"IF(K8=10,'(1) Setup'!N9,0)","v":300},null,"Duration, d",{"$f":"'(1) Setup'!E14","v":17}]
["Initial Overall F/G",{"$f":"'(2) NE and SID Lysine'!C47","v":1.9177965021464118},{"$f":"'(2) NE and SID Lysine'!D47","v":2.0837273693773923},{"$f":"'(2) NE and SID Lysine'!E47","v":2.2009129457586143},{"$f":"'(2) NE and SID Lysine'!F47","v":2.3495658534939974},{"$f":"'(2) NE and SID Lysine'!G47","v":2.5609762126589106},{"$f":"'(2) NE and SID Lysine'!H47","v":2.7644948831219667},{"$f":"'(2) NE and SID Lysine'!I47","v":2.9746198518345239},{"$f":"'(2) NE and SID Lysine'!J47","v":3.2527619138802573},{"$f":"'(2) NE and SID Lysine'!K47","v":3.5476249819531938},{"$f":"'(2) NE and SID Lysine'!L47","v":4.0527788835489282},null,"Overall F/G",{"$f":"N14+$N$16","v":2.75},{"$f":"IF(O9=\"\",0,O14+$N$16)","v":0},{"$f":"IF(P9=\"\",0,P14+$N$16)","v":0},null,null,null,null,null,null,null,null,null,null,null,"Extra Gain",null,null,null,"Feed Intake"]
["Gain",{"$f":"IF(B8=1,B10-B9,0)","v":45},{"$f":"IF(C8=2,C10-C9,0)","v":20},{"$f":"IF(D8=3,D10-D9,0)","v":20},{"$f":"IF(E8=4,E10-E9,0)","v":25},{"$f":"IF(F8=5,F10-F9,0)","v":30},{"$f":"IF(G8=6,G10-G9,0)","v":15},{"$f":"IF(H8=7,H10-H9,0)","v":25},{"$f":"IF(I8=8,I10-I9,0)","v":20},{"$f":"IF(J8=9,J10-J9,0)","v":20},{"$f":"IF(K8=10,K10-K9,0)","v":35},null,"% Change",null,{"$f":"IF(O9=\"\",0,(ABS((O11-$N$11)/$N$11)))","v":0},{"$f":"IF(P9=\"\",0,(ABS((P11-$N$11)/$N$11)))","v":0},null,null,null,null,null,null,null,null,null,null,null,null,null,null,null,null,null,null,null,"Paylean","Duration"]
["Intake",{"$f":"IF(B8=1,B12*B11,0)","v":86.300842596588538},{"$f":"IF(C8=2,C12*C11,0)","v":41.674547387547847},{"$f":"IF(D8=3,D12*D11,0)","v":44.018258915172282},{"$f":"IF(E8=4,E12*E11,0)","v":58.739146337349936},{"$f":"IF(F8=5,F12*F11,0)","v":76.829286379767325},{"$f":"IF(G8=6,G12*G11,0)","v":41.467423246829497},{"$f":"IF(H8=7,H12*H11,0)","v":74.365496295863096},{"$f":"IF(I8=8,I12*I11,0)","v":65.055238277605142},{"$f":"IF(J8=9,J12*J11,0)","v":70.952499639063873},{"$f":"IF(K8=10,K12*K11,0)","v":141.84726092421249},null,"Producer  F/G",{"$f":"SUM(B13:K13)/SUM(B12:K12)","v":2.75},{"$f":"SUM(B13:K13)/SUM(B12:K12)","v":2.75},{"$f":"SUM(B13:K13)/SUM(B12:K12)","v":2.75},null,null,null,null,null,null,null,null,null,null,"Level",4.5,6.75,9,"Level",4.5,6.75,9,null,0,0]
["ADFI",{"$f":"VLOOKUP(B9,$AB$21:$AC$41,2,TRUE)","v":0},{"$f":"VLOOKUP(C9,$AB$21:$AC$41,2,TRUE)","v":3.978581374422788},4.7136457548839132,5.072131151038775,5.4116668581869192,5.991288606763078,6.2105698614446396,6.4650901979321134,6.4896024810799986,6.3279111573899627,null,"Paylean F/G",{"$f":"SUM(B48:K48)/SUM(B51:K51)","v":2.6912720472229554},{"$f":"SUM(B49:K49)/SUM(B52:K52)","v":2.75},{"$f":"SUM(B50:K50)/SUM(B53:K53)","v":2.75},null,null,null,null,null,null,null,null,null,null,7,2.9,{"$f":"AD14-((AD14-AB14)/2)","v":3.45},4,7,1.5,{"$f":"AH14-((AH14-AF14)/2)","v":1.75},2,null,4.5,7]
["ADFI",{"$f":"VLOOKUP(B10,$AB$21:$AC$41,2,TRUE)","v":3.978581374422788},{"$f":"VLOOKUP(C10,$AB$21:$AC$41,2,TRUE)","v":4.7136457548839132},5.072131151038775,5.4116668581869192,5.991288606763078,6.2105698614446396,6.4650901979321134,6.4896024810799986,6.3279111573899627,5.629389404718836,null,null,null,null,null,null,null,null,null,null,null,null,null,null,null,14,4.7,{"$f":"AD15-((AD15-AB15)/2)","v":5.65},6.6,14,4.5,{"$f":"AH15-((AH15-AF15)/2)","v":4.5999999999999996},4.7,null,6.75,14]
["Avg. ADFI",{"$f":"AVERAGE(B14:B15)","v":1.989290687211394},4.3461135646533506,4.8928884529613441,5.2418990046128471,5.7014777324749986,6.1009292341038588,6.3378300296883765,6.477346339506056,6.4087568192349806,{"$f":"AVERAGE(K14:K15)","v":5.9786502810543993},null,"Diff",{"$f":"N13-N14","v":5.8727952777044568E-2},null,null,null,null,null,null,null,null,null,null,null,null,21,5.7,7.1,8.5,21,5.4,5.7,6,null,9,21]
["Gain with Paylean",{"$f":"B12+(IF($N$9=4.5,(-0.0077*($N$10^2)+0.415*$N$10+0.375),IF($N$9=6.75,(-0.0107*($N$10^2)+0.5564*$N$10+0.05),IF($N$9=9,(-0.0138*($N$10^2)+0.6979*$N$10-0.275),0))))","v":52.601100000000002},{"$f":"C12+(IF($N$9=4.5,(-0.0077*($N$10^2)+0.415*$N$10+0.375),IF($N$9=6.75,(-0.0107*($N$10^2)+0.5564*$N$10+0.05),IF($N$9=9,(-0.0138*($N$10^2)+0.6979*$N$10-0.275),0))))","v":27.601099999999999},{"$f":"D12+(IF($N$9=4.5,(-0.0077*($N$10^2)+0.415*$N$10+0.375),IF($N$9=6.75,(-0.0107*($N$10^2)+0.5564*$N$10+0.05),IF($N$9=9,(-0.0138*($N$10^2)+0.6979*$N$10-0.275),0))))","v":27.601099999999999},32.601100000000002,37.601100000000002,22.601099999999999,32.601100000000002,27.601099999999999,27.601099999999999,42.601100000000002,null,"F/G",{"$f":"N14+(N13-N14)","v":2.75},{"$f":"O14+(O13-O14)","v":2.75},{"$f":"P14+(P13-P14)","v":2.75},null,null,null,null,null,null,null,null,null,null,28,6,7.2,8.4,28,3.5,4.45,5.4,null,null,28]
["Gain with Paylean 1",{"$f":"B12+(IF($O$9=4.5,(-0.0077*($O$10^2)+0.415*$O$10+0.375),IF($O$9=6.75,(-0.0107*($O$10^2)+0.5564*$O$10+0.05),IF($O$9=9,(-0.0138*($O$10^2)+0.6979*$O$10-0.275),0))))","v":45},{"$f":"C12+(IF($O$9=4.5,(-0.0077*($O$10^2)+0.415*$O$10+0.375),IF($O$9=6.75,(-0.0107*($O$10^2)+0.5564*$O$10+0.05),IF($O$9=9,(-0.0138*($O$10^2)+0.6979*$O$10-0.275),0))))","v":20},{"$f":"D12+(IF($O$9=4.5,(-0.0077*($O$10^2)+0.415*$O$10+0.375),IF($O$9=6.75,(-0.0107*($O$10^2)+0.5564*$O$10+0.05),IF($O$9=9,(-0.0138*($O$10^2)+0.6979*$O$10-0.275),0))))","v":20},25,30,15,25,20,20,35]
["Gain with Paylean 2",{"$f":"B12+(IF($P$9=4.5,(-0.0077*($P$10^2)+0.415*$P$10+0.375),IF($P$9=6.75,(-0.0107*($P$10^2)+0.5564*$P$10+0.05),IF($P$9=9,(-0.0138*($P$10^2)+0.6979*$P$10-0.275),0))))","v":45},{"$f":"C12+(IF($P$9=4.5,(-0.0077*($P$10^2)+0.415*$P$10+0.375),IF($P$9=6.75,(-0.0107*($P$10^2)+0.5564*$P$10+0.05),IF($P$9=9,(-0.0138*($P$10^2)+0.6979*$P$10-0.275),0))))","v":20},20,25,30,15,25,20,20,35,null,null,null,null,null,null,null,null,null,null,null,null,null,null,null,"Growth Curve"]
["Intake with Paylean",{"$f":"B13+(IF($N$9=4.5,(-0.025*($N$10^2)+0.9736*$N$10-4.125),IF($N$9=6.75,(-0.0209*($N$10^2)+0.8636*$N$10-3.3),IF($N$9=9,(-0.0168*($N$10^2)+0.7536*$N$10-2.475),0))))","v":91.781842596588547},{"$f":"C13+(IF($N$9=4.5,(-0.025*($N$10^2)+0.9736*$N$10-4.125),IF($N$9=6.75,(-0.0209*($N$10^2)+0.8636*$N$10-3.3),IF($N$9=9,(-0.0168*($N$10^2)+0.7536*$N$10-2.475),0))))","v":47.155547387547848},49.499258915172284,64.220146337349945,82.310286379767319,46.948423246829499,79.846496295863091,70.53623827760515,76.433499639063882,147.32826092421249,null,null,null,null,null,null,null,null,null,null,null,null,null,null,null,{"$f":"'Growth Curve'!T18","v":"Week"},{"$f":"'Growth Curve'!V18","v":"Weight,lb"},{"$f":"'Growth Curve'!W18","v":"ADFI, lb"}]
["Intake with Paylean 1",{"$f":"B13+(IF($O$9=4.5,(-0.025*($O$10^2)+0.9736*$O$10-4.125),IF($O$9=6.75,(-0.0209*($O$10^2)+0.8636*$O$10-3.3),IF($O$9=9,(-0.0168*($O$10^2)+0.7536*$O$10-2.475),0))))","v":86.300842596588538},{"$f":"C13+(IF($O$9=4.5,(-0.025*($O$10^2)+0.9736*$O$10-4.125),IF($O$9=6.75,(-0.0209*($O$10^2)+0.8636*$O$10-3.3),IF($O$9=9,(-0.0168*($O$10^2)+0.7536*$O$10-2.475),0))))","v":41.674547387547847},{"$f":"D13+(IF($O$9=4.5,(-0.025*($O$10^2)+0.9736*$O$10-4.125),IF($O$9=6.75,(-0.0209*($O$10^2)+0.8636*$O$10-3.3),IF($O$9=9,(-0.0168*($O$10^2)+0.7536*$O$10-2.475),0))))","v":44.018258915172282},58.739146337349936,76.829286379767325,41.467423246829497,74.365496295863096,65.055238277605142,70.952499639063873,141.84726092421249,null,null,null,null,null,null,null,null,null,null,null,null,null,null,null,0,0,0]
["Intake with Paylean 2",{"$f":"B13+(IF($P$9=4.5,(-0.025*($P$10^2)+0.9736*$P$10-4.125),IF($P$9=6.75,(-0.0209*($P$10^2)+0.8636*$P$10-3.3),IF($P$9=9,(-0.0168*($P$10^2)+0.7536*$P$10-2.475),0))))","v":86.300842596588538},{"$f":"C13+(IF($P$9=4.5,(-0.025*($P$10^2)+0.9736*$P$10-4.125),IF($P$9=6.75,(-0.0209*($P$10^2)+0.8636*$P$10-3.3),IF($P$9=9,(-0.0168*($P$10^2)+0.7536*$P$10-2.475),0))))","v":41.674547387547847},44.018258915172282,58.739146337349936,76.829286379767325,41.467423246829497,74.365496295863096,65.055238277605142,70.952499639063873,141.84726092421249,null,null,null,null,null,null,null,null,null,null,null,null,null,null,null,{"$f":"'Growth Curve'!T19","v":1},{"$f":"'Growth Curve'!V19","v":53.564990635275585},{"$f":"'Growth Curve'!W19","v":2.3251012536876345}]
["Avg. ADFI with paylean",{"$f":"IF($N$10=0,$B$16,((B20-$B$13)/$N$10)+$B$16)","v":2.3117024519172769},{"$f":"IF($N$10=0,C16,((C20-C13)/$N$10)+C16)","v":4.668525329359233},5.2153002176672265,5.5643107693187304,6.023889497180881,6.4233409988097412,6.6602417943942589,6.7997581042119393,6.7311685839408639,6.3010620457602817,null,null,null,null,null,null,null,null,null,null,null,null,null,null,null,{"$f":"'Growth Curve'!T20","v":2},{"$f":"'Growth Curve'!V20","v":64.403975039922088},{"$f":"'Growth Curve'!W20","v":3.6183531252377179}]
["Avg. ADFI with paylean 1",{"$f":"IF($O$10=0,B16,((B21-B13)/$O$10)+B16)","v":1.989290687211394},4.3461135646533506,4.8928884529613441,5.2418990046128471,5.7014777324749986,6.1009292341038588,6.3378300296883765,6.477346339506056,6.4087568192349806,5.9786502810543993,null,null,null,null,null,null,null,null,null,null,null,null,null,null,null,{"$f":"'Growth Curve'!T21","v":3},{"$f":"'Growth Curve'!V21","v":78.549529854776978},{"$f":"'Growth Curve'!W21","v":3.978581374422788}]
["Avg. ADFI with paylean 2",{"$f":"IF($P$10=0,B16,((B22-B13)/$P$10)+B16)","v":1.989290687211394},4.3461135646533506,4.8928884529613441,5.2418990046128471,5.7014777324749986,6.1009292341038588,6.3378300296883765,6.477346339506056,6.4087568192349806,5.9786502810543993,null,null,null,null,null,null,null,null,null,null,null,null,null,null,null,{"$f":"'Growth Curve'!T22","v":4},{"$f":"'Growth Curve'!V22","v":93.210497333575049},{"$f":"'Growth Curve'!W22","v":4.3461748996722065}]
["ADG No Paylean",{"$f":"B16/B11","v":1.0372793385455472},2.0857400197953671,2.2231176668711243,2.2310074845604828,2.2262907809500856,2.2068875118387012,2.1306352896756455,1.9913373652912563,1.8064921889535661,1.4751977477288443,null,null,null,null,null,null,null,null,null,null,null,null,null,null,null,{"$f":"'Growth Curve'!T23","v":5},{"$f":"'Growth Curve'!V23","v":108.31899886337573},{"$f":"'Growth Curve'!W23","v":4.7136457548839132}]
["ADG Paylean",{"$f":"((B17-B12)/$N$10)+B26","v":1.484402867957312},2.5328635492071316,2.6702411962828889,2.6781310139722478,2.6734143103618506,2.6540110412504658,2.5777588190874106,2.4384608947030211,2.2536157183653307,1.9223212771406091,null,null,null,null,null,null,null,null,null,null,null,null,null,null,null,{"$f":"'Growth Curve'!T24","v":6},{"$f":"'Growth Curve'!V24","v":123.79300129305781},{"$f":"'Growth Curve'!W24","v":5.072131151038775}]
["ADG Paylean 1",{"$f":"((B18-B12)/$O$10)+B26","v":{"$error":"#DIV/0!"}},{"$error":"#DIV/0!"},{"$error":"#DIV/0!"},{"$error":"#DIV/0!"},{"$error":"#DIV/0!"},{"$error":"#DIV/0!"},{"$error":"#DIV/0!"},{"$error":"#DIV/0!"},{"$error":"#DIV/0!"},{"$error":"#DIV/0!"},null,null,null,null,null,null,null,null,null,null,null,null,null,null,null,{"$f":"'Growth Curve'!T25","v":7},{"$f":"'Growth Curve'!V25","v":139.53707847671166},{"$f":"'Growth Curve'!W25","v":5.4116668581869192}]
["ADG Paylean 2",{"$f":"((B19-B12)/$P$10)+B26","v":{"$error":"#DIV/0!"}},{"$error":"#DIV/0!"},{"$error":"#DIV/0!"},{"$error":"#DIV/0!"},{"$error":"#DIV/0!"},{"$error":"#DIV/0!"},{"$error":"#DIV/0!"},{"$error":"#DIV/0!"},{"$error":"#DIV/0!"},{"$error":"#DIV/0!"},null,null,null,null,null,null,null,null,null,null,null,null,null,null,null,{"$f":"'Growth Curve'!T26","v":8},{"$f":"'Growth Curve'!V26","v":155.44396411953718},{"$f":"'Growth Curve'!W26","v":5.721622806916173}]
["Gain on days with no paylean",{"$f":"B26*B60","v":27.366251244725696},-15.457580336521238,-17.793000336809115,-12.927127237528207,-7.8469432761514533,-22.517087701257925,-11.220799924485972,-13.852735209951357,-10.710367212210622,9.9216382886096461,null,null,null,null,null,null,null,null,null,null,null,null,null,null,null,{"$f":"'Growth Curve'!T27","v":9},{"$f":"'Growth Curve'!V27","v":171.39692572129408},{"$f":"'Growth Curve'!W27","v":5.991288606763078}]
["Gain on days with no paylean 1",{"$f":"B26*B61","v":45},{"$f":"C26*C61","v":20},20,25,30.000000000000004,15,25,20,20,{"$f":"K26*K61","v":35},null,null,null,null,null,null,null,null,null,null,null,null,null,null,null,{"$f":"'Growth Curve'!T28","v":10},{"$f":"'Growth Curve'!V28","v":187.27291114745285},{"$f":"'Growth Curve'!W28","v":6.2105698614446396}]
["Gain on days with no paylean 2",{"$f":"B26*B62","v":45},{"$f":"C26*C62","v":20},20,25,30.000000000000004,15,25,20,20,35,null,null,null,null,null,null,null,null,null,null,null,null,null,null,null,{"$f":"'Growth Curve'!T29","v":11},{"$f":"'Growth Curve'!V29","v":202.94633049905696},{"$f":"'Growth Curve'!W29","v":6.3707296821141881}]
["Gain on days with paylean",{"$f":"IF($N$10=0,0,B27*$N$10)","v":25.234848755274303},43.058680336521235,45.39410033680911,45.528227237528213,45.448043276151459,45.118187701257916,43.821899924485976,41.453835209951357,38.311467212210623,32.679461711390353,null,null,null,null,null,null,null,null,null,null,null,null,null,null,null,{"$f":"'Growth Curve'!T30","v":12},{"$f":"'Growth Curve'!V30","v":218.29324953175288},{"$f":"'Growth Curve'!W30","v":6.4650901979321134}]
["Gain on days with paylean 1",{"$f":"IF($O$10=0,0,B28*$O$10)","v":0},0,0,0,0,0,0,0,0,0,null,null,null,null,null,null,null,null,null,null,null,null,null,null,null,{"$f":"'Growth Curve'!T31","v":13},{"$f":"'Growth Curve'!V31","v":233.19570245560581},{"$f":"'Growth Curve'!W31","v":6.4896024810799986}]
["Gain on days with paylean 2",{"$f":"IF($P$10=0,0,B29*$P$10)","v":0},0,0,0,0,0,0,0,0,0,null,null,null,null,null,null,null,null,null,null,null,null,null,null,null,{"$f":"'Growth Curve'!T32","v":14},{"$f":"'Growth Curve'!V32","v":247.54579614848353},{"$f":"'Growth Curve'!W32","v":6.4432040953680598}]
["Total Gain Paylean Phase",{"$f":"IF(B8=1,B33+B30,0)","v":52.601100000000002},{"$f":"IF(C8=2,C33+C30,0)","v":27.601099999999995},{"$f":"IF(D8=3,D33+D30,0)","v":27.601099999999995},{"$f":"IF(E8=4,E33+E30,0)","v":32.601100000000002},{"$f":"IF(F8=5,F33+F30,0)","v":37.601100000000002},{"$f":"IF(G8=6,G33+G30,0)","v":22.601099999999992},{"$f":"IF(H8=7,H33+H30,0)","v":32.601100000000002},{"$f":"IF(I8=8,I33+I30,0)","v":27.601100000000002},{"$f":"IF(J8=9,J33+J30,0)","v":27.601100000000002},{"$f":"IF(K8=10,K33+K30,0)","v":42.601100000000002},null,null,null,null,null,null,null,null,null,null,null,null,null,null,null,{"$f":"'Growth Curve'!T33","v":15},{"$f":"'Growth Curve'!V33","v":261.24928433857303},{"$f":"'Growth Curve'!W33","v":6.3279111573899627}]
["Total Gain Paylean Phase 1",{"$f":"IF(B8=1,B34+B31,0)","v":45},{"$f":"IF(C8=2,C34+C31,0)","v":20},{"$f":"IF(D8=3,D34+D31,0)","v":20},{"$f":"IF(E8=4,E34+E31,0)","v":25},{"$f":"IF(F8=5,F34+F31,0)","v":30.000000000000004},{"$f":"IF(G8=6,G34+G31,0)","v":15},{"$f":"IF(H8=7,H34+H31,0)","v":25},{"$f":"IF(I8=8,I34+I31,0)","v":20},{"$f":"IF(J8=9,J34+J31,0)","v":20},{"$f":"IF(K8=10,K34+K31,0)","v":35},null,null,null,null,null,null,null,null,null,null,null,null,null,null,null,{"$f":"'Growth Curve'!T34","v":16},{"$f":"'Growth Curve'!V34","v":274.22834079431851},{"$f":"'Growth Curve'!W34","v":6.1486312698708616}]
["Total Gain Paylean Phase 2",{"$f":"IF(B8=1,B35+B32,0)","v":45},{"$f":"IF(C8=2,C35+C32,0)","v":20},{"$f":"IF(D8=3,D35+D32,0)","v":20},{"$f":"IF(E8=4,E35+E32,0)","v":25},{"$f":"IF(F8=5,F35+F32,0)","v":30.000000000000004},{"$f":"IF(G8=6,G35+G32,0)","v":15},{"$f":"IF(H8=7,H35+H32,0)","v":25},{"$f":"IF(I8=8,I35+I32,0)","v":20},{"$f":"IF(J8=9,J35+J32,0)","v":20},{"$f":"IF(K8=10,K35+K32,0)","v":35},null,null,null,null,null,null,null,null,null,null,null,null,null,null,null,{"$f":"'Growth Curve'!T35","v":17},{"$f":"'Growth Curve'!V35","v":286.42334750145221},{"$f":"'Growth Curve'!W35","v":5.9127262359260158}]
["Intake Days No Paylean",{"$f":"B16*B60","v":52.482900913994825},-32.209383211559107,-39.160844785170568,-30.373136741068461,-20.095835072307651,-62.248373732936102,-33.377614208839297,-45.059649493997803,-37.99636628793079,40.210206146287703,null,null,null,null,null,null,null,null,null,null,null,null,null,null,null,{"$f":"'Growth Curve'!T36","v":18},{"$f":"'Growth Curve'!V36","v":297.79362213632248},{"$f":"'Growth Curve'!W36","v":5.629389404718836}]
["Intake Days No Paylean 1",{"$f":"B16*B61","v":86.300842596588524},41.674547387547854,44.018258915172282,58.739146337349936,76.829286379767325,41.467423246829505,74.365496295863096,65.055238277605142,70.952499639063888,141.84726092421249,null,null,null,null,null,null,null,null,null,null,null,null,null,null,null,{"$f":"'Growth Curve'!T37","v":19},{"$f":"'Growth Curve'!V37","v":308.31712001131632},{"$f":"'Growth Curve'!W37","v":5.3089242228180638}]
["Intake Days No Paylean 2",{"$f":"B16*B62","v":86.300842596588524},41.674547387547854,44.018258915172282,58.739146337349936,76.829286379767325,41.467423246829505,74.365496295863096,65.055238277605142,70.952499639063888,141.84726092421249,null,null,null,null,null,null,null,null,null,null,null,null,null,null,null,{"$f":"'Growth Curve'!T38","v":20},{"$f":"'Growth Curve'!V38","v":317.98924115588153},{"$f":"'Growth Curve'!W38","v":4.962014734117588}]
["Intake Days On Paylean",{"$f":"IF(B8=1,B23*$N$10,0)","v":39.298941682593707},{"$f":"C23*$N$10","v":79.364930599106955},88.660103700342844,94.593283078418409,102.40612145207497,109.19679697976559,113.2241105047024,115.59588777160297,114.42986592699469,107.11805477792478]
["Intake Days On Paylean 1",{"$f":"IF(B8=1,B24*$O$10,0)","v":0},{"$f":"IF(C8=2,C24*$O$10,0)","v":0},{"$f":"IF(D8=3,D24*$O$10,0)","v":0},{"$f":"IF(E8=4,E24*$O$10,0)","v":0},{"$f":"IF(F8=5,F24*$O$10,0)","v":0},{"$f":"IF(G8=6,G24*$O$10,0)","v":0},{"$f":"IF(H8=7,H24*$O$10,0)","v":0},{"$f":"IF(I8=8,I24*$O$10,0)","v":0},{"$f":"IF(J8=9,J24*$O$10,0)","v":0},{"$f":"IF(K8=10,K24*$O$10,0)","v":0}]
["Intake Days On Paylean 2",{"$f":"IF(B8=1,B25*$P$10,0)","v":0},{"$f":"IF(C8=2,C25*$P$10,0)","v":0},{"$f":"IF(D8=3,D25*$P$10,0)","v":0},{"$f":"IF(E8=4,E25*$P$10,0)","v":0},{"$f":"IF(F8=5,F25*$P$10,0)","v":0},{"$f":"IF(G8=6,G25*$P$10,0)","v":0},{"$f":"IF(H8=7,H25*$P$10,0)","v":0},{"$f":"IF(I8=8,I25*$P$10,0)","v":0},{"$f":"IF(J8=9,J25*$P$10,0)","v":0},{"$f":"IF(K8=10,K25*$P$10,0)","v":0}]
["Total Intake Paylean Phase",{"$f":"IF(B8=1,B39+B42,0)","v":91.781842596588533},{"$f":"IF(C8=2,C39+C42,0)","v":47.155547387547848},{"$f":"IF(D8=3,D39+D42,0)","v":49.499258915172277},{"$f":"IF(E8=4,E39+E42,0)","v":64.220146337349945},{"$f":"IF(F8=5,F39+F42,0)","v":82.310286379767319},{"$f":"IF(G8=6,G39+G42,0)","v":46.948423246829492},{"$f":"IF(H8=7,H39+H42,0)","v":79.846496295863091},{"$f":"IF(I8=8,I39+I42,0)","v":70.536238277605179},{"$f":"IF(J8=9,J39+J42,0)","v":76.433499639063911},{"$f":"IF(K8=10,K39+K42,0)","v":147.32826092421249}]
["Total Intake Paylean Phase 1",{"$f":"IF(B8=1,B40+B43,0)","v":86.300842596588524},{"$f":"IF(C8=2,C40+C43,0)","v":41.674547387547854},{"$f":"IF(D8=3,D40+D43,0)","v":44.018258915172282},{"$f":"IF(E8=4,E40+E43,0)","v":58.739146337349936},{"$f":"IF(F8=5,F40+F43,0)","v":76.829286379767325},{"$f":"IF(G8=6,G40+G43,0)","v":41.467423246829505},{"$f":"IF(H8=7,H40+H43,0)","v":74.365496295863096},{"$f":"IF(I8=8,I40+I43,0)","v":65.055238277605142},{"$f":"IF(J8=9,J40+J43,0)","v":70.952499639063888},{"$f":"IF(K8=10,K40+K43,0)","v":141.84726092421249}]
["Total Intake Paylean Phase 2",{"$f":"IF(B8=1,B41+B44,0)","v":86.300842596588524},{"$f":"IF(C8=2,C41+C44,0)","v":41.674547387547854},{"$f":"IF(D8=3,D41+D44,0)","v":44.018258915172282},{"$f":"IF(E8=4,E41+E44,0)","v":58.739146337349936},{"$f":"IF(F8=5,F41+F44,0)","v":76.829286379767325},{"$f":"IF(G8=6,G41+G44,0)","v":41.467423246829505},{"$f":"IF(H8=7,H41+H44,0)","v":74.365496295863096},{"$f":"IF(I8=8,I41+I44,0)","v":65.055238277605142},{"$f":"IF(J8=9,J41+J44,0)","v":70.952499639063888},{"$f":"IF(K8=10,K41+K44,0)","v":141.84726092421249}]
["Total Intake for Adj. F/G",{"$f":"IF(B10='(1) Setup'!$B$9,'(3) Ractopamine'!B45,'(3) Ractopamine'!B13)","v":86.300842596588538},{"$f":"IF(C10='(1) Setup'!$B$9,'(3) Ractopamine'!C45,'(3) Ractopamine'!C13)","v":41.674547387547847},{"$f":"IF(D10='(1) Setup'!$B$9,'(3) Ractopamine'!D45,'(3) Ractopamine'!D13)","v":44.018258915172282},{"$f":"IF(E10='(1) Setup'!$B$9,'(3) Ractopamine'!E45,'(3) Ractopamine'!E13)","v":58.739146337349936},{"$f":"IF(F10='(1) Setup'!$B$9,'(3) Ractopamine'!F45,'(3) Ractopamine'!F13)","v":76.829286379767325},{"$f":"IF(G10='(1) Setup'!$B$9,'(3) Ractopamine'!G45,'(3) Ractopamine'!G13)","v":41.467423246829497},{"$f":"IF(H10='(1) Setup'!$B$9,'(3) Ractopamine'!H45,'(3) Ractopamine'!H13)","v":74.365496295863096},{"$f":"IF(I10='(1) Setup'!$B$9,'(3) Ractopamine'!I45,'(3) Ractopamine'!I13)","v":65.055238277605142},{"$f":"IF(J10='(1) Setup'!$B$9,'(3) Ractopamine'!J45,'(3) Ractopamine'!J13)","v":70.952499639063873},{"$f":"IF(K10='(1) Setup'!$B$9,'(3) Ractopamine'!K45,'(3) Ractopamine'!K13)","v":147.32826092421249}]
["Total Intake for Adj. F/G 1",{"$f":"IF(B10='(1) Setup'!$B$9,'(3) Ractopamine'!B46,'(3) Ractopamine'!B13)","v":86.300842596588538},{"$f":"IF(C10='(1) Setup'!$B$9,'(3) Ractopamine'!C46,'(3) Ractopamine'!C13)","v":41.674547387547847},{"$f":"IF(D10='(1) Setup'!$B$9,'(3) Ractopamine'!D46,'(3) Ractopamine'!D13)","v":44.018258915172282},{"$f":"IF(E10='(1) Setup'!$B$9,'(3) Ractopamine'!E46,'(3) Ractopamine'!E13)","v":58.739146337349936},{"$f":"IF(F10='(1) Setup'!$B$9,'(3) Ractopamine'!F46,'(3) Ractopamine'!F13)","v":76.829286379767325},{"$f":"IF(G10='(1) Setup'!$B$9,'(3) Ractopamine'!G46,'(3) Ractopamine'!G13)","v":41.467423246829497},{"$f":"IF(H10='(1) Setup'!$B$9,'(3) Ractopamine'!H46,'(3) Ractopamine'!H13)","v":74.365496295863096},{"$f":"IF(I10='(1) Setup'!$B$9,'(3) Ractopamine'!I46,'(3) Ractopamine'!I13)","v":65.055238277605142},{"$f":"IF(J10='(1) Setup'!$B$9,'(3) Ractopamine'!J46,'(3) Ractopamine'!J13)","v":70.952499639063873},{"$f":"IF(K10='(1) Setup'!$B$9,'(3) Ractopamine'!K46,'(3) Ractopamine'!K13)","v":141.84726092421249}]
["Total Intake for Adj. F/G 2",{"$f":"IF(B10='(1) Setup'!$B$9,'(3) Ractopamine'!B47,'(3) Ractopamine'!B13)","v":86.300842596588538},{"$f":"IF(C10='(1) Setup'!$B$9,'(3) Ractopamine'!C47,'(3) Ractopamine'!C13)","v":41.674547387547847},{"$f":"IF(D10='(1) Setup'!$B$9,'(3) Ractopamine'!D47,'(3) Ractopamine'!D13)","v":44.018258915172282},{"$f":"IF(E10='(1) Setup'!$B$9,'(3) Ractopamine'!E47,'(3) Ractopamine'!E13)","v":58.739146337349936},{"$f":"IF(F10='(1) Setup'!$B$9,'(3) Ractopamine'!F47,'(3) Ractopamine'!F13)","v":76.829286379767325},{"$f":"IF(G10='(1) Setup'!$B$9,'(3) Ractopamine'!G47,'(3) Ractopamine'!G13)","v":41.467423246829497},{"$f":"IF(H10='(1) Setup'!$B$9,'(3) Ractopamine'!H47,'(3) Ractopamine'!H13)","v":74.365496295863096},{"$f":"IF(I10='(1) Setup'!$B$9,'(3) Ractopamine'!I47,'(3) Ractopamine'!I13)","v":65.055238277605142},{"$f":"IF(J10='(1) Setup'!$B$9,'(3) Ractopamine'!J47,'(3) Ractopamine'!J13)","v":70.952499639063873},{"$f":"IF(K10='(1) Setup'!$B$9,'(3) Ractopamine'!K47,'(3) Ractopamine'!K13)","v":141.84726092421249}]
["Total Gain for Adj. F/G",{"$f":"IF(B10='(1) Setup'!$B$9,'(3) Ractopamine'!B36,'(3) Ractopamine'!B12)","v":45},{"$f":"IF(C10='(1) Setup'!$B$9,'(3) Ractopamine'!C36,'(3) Ractopamine'!C12)","v":20},{"$f":"IF(D10='(1) Setup'!$B$9,'(3) Ractopamine'!D36,'(3) Ractopamine'!D12)","v":20},{"$f":"IF(E10='(1) Setup'!$B$9,'(3) Ractopamine'!E36,'(3) Ractopamine'!E12)","v":25},{"$f":"IF(F10='(1) Setup'!$B$9,'(3) Ractopamine'!F36,'(3) Ractopamine'!F12)","v":30},{"$f":"IF(G10='(1) Setup'!$B$9,'(3) Ractopamine'!G36,'(3) Ractopamine'!G12)","v":15},{"$f":"IF(H10='(1) Setup'!$B$9,'(3) Ractopamine'!H36,'(3) Ractopamine'!H12)","v":25},{"$f":"IF(I10='(1) Setup'!$B$9,'(3) Ractopamine'!I36,'(3) Ractopamine'!I12)","v":20},{"$f":"IF(J10='(1) Setup'!$B$9,'(3) Ractopamine'!J36,'(3) Ractopamine'!J12)","v":20},{"$f":"IF(K10='(1) Setup'!$B$9,'(3) Ractopamine'!K36,'(3) Ractopamine'!K12)","v":42.601100000000002}]
["Total Gain for Adj. F/G 1",{"$f":"IF(B10='(1) Setup'!$B$9,'(3) Ractopamine'!B37,'(3) Ractopamine'!B12)","v":45},{"$f":"IF(C10='(1) Setup'!$B$9,'(3) Ractopamine'!C37,'(3) Ractopamine'!C12)","v":20},{"$f":"IF(D10='(1) Setup'!$B$9,'(3) Ractopamine'!D37,'(3) Ractopamine'!D12)","v":20},{"$f":"IF(E10='(1) Setup'!$B$9,'(3) Ractopamine'!E37,'(3) Ractopamine'!E12)","v":25},{"$f":"IF(F10='(1) Setup'!$B$9,'(3) Ractopamine'!F37,'(3) Ractopamine'!F12)","v":30},{"$f":"IF(G10='(1) Setup'!$B$9,'(3) Ractopamine'!G37,'(3) Ractopamine'!G12)","v":15},{"$f":"IF(H10='(1) Setup'!$B$9,'(3) Ractopamine'!H37,'(3) Ractopamine'!H12)","v":25},{"$f":"IF(I10='(1) Setup'!$B$9,'(3) Ractopamine'!I37,'(3) Ractopamine'!I12)","v":20},{"$f":"IF(J10='(1) Setup'!$B$9,'(3) Ractopamine'!J37,'(3) Ractopamine'!J12)","v":20},{"$f":"IF(K10='(1) Setup'!$B$9,'(3) Ractopamine'!K37,'(3) Ractopamine'!K12)","v":35}]
["Total Gain for Adj. F/G 2",{"$f":"IF(B10='(1) Setup'!$B$9,'(3) Ractopamine'!B38,'(3) Ractopamine'!B12)","v":45},{"$f":"IF(C10='(1) Setup'!$B$9,'(3) Ractopamine'!C38,'(3) Ractopamine'!C12)","v":20},{"$f":"IF(D10='(1) Setup'!$B$9,'(3) Ractopamine'!D38,'(3) Ractopamine'!D12)","v":20},{"$f":"IF(E10='(1) Setup'!$B$9,'(3) Ractopamine'!E38,'(3) Ractopamine'!E12)","v":25},{"$f":"IF(F10='(1) Setup'!$B$9,'(3) Ractopamine'!F38,'(3) Ractopamine'!F12)","v":30},{"$f":"IF(G10='(1) Setup'!$B$9,'(3) Ractopamine'!G38,'(3) Ractopamine'!G12)","v":15},{"$f":"IF(H10='(1) Setup'!$B$9,'(3) Ractopamine'!H38,'(3) Ractopamine'!H12)","v":25},{"$f":"IF(I10='(1) Setup'!$B$9,'(3) Ractopamine'!I38,'(3) Ractopamine'!I12)","v":20},{"$f":"IF(J10='(1) Setup'!$B$9,'(3) Ractopamine'!J38,'(3) Ractopamine'!J12)","v":20},{"$f":"IF(K10='(1) Setup'!$B$9,'(3) Ractopamine'!K38,'(3) Ractopamine'!K12)","v":35}]
["Adj. F/G ",{"$f":"B48/B51","v":1.9177965021464121},2.0837273693773923,2.2009129457586143,2.3495658534939974,2.5609762126589106,2.7644948831219667,2.9746198518345239,3.2527619138802573,3.5476249819531938,3.4583205814923201]
["Adj. F/G 1",{"$f":"B49/B52","v":1.9177965021464121},{"$f":"C49/C52","v":2.0837273693773923},2.2009129457586143,2.3495658534939974,2.5609762126589106,2.7644948831219667,2.9746198518345239,3.2527619138802573,3.5476249819531938,4.0527788835489282]
["Adj. F/G 2",{"$f":"B50/B53","v":1.9177965021464121},{"$f":"C50/C53","v":2.0837273693773923},2.2009129457586143,2.3495658534939974,2.5609762126589106,2.7644948831219667,2.9746198518345239,3.2527619138802573,3.5476249819531938,4.0527788835489282]
["Total Days",{"$f":"B12/B26","v":43.382720861960017},9.5889227852866394,8.9963749099023342,11.205699744626854,13.475328675258353,6.7969028414604269,11.733589564174469,10.043501592747328,11.07117989344048,23.725632752547654]
["Total Days 1",{"$f":"B12/B26","v":43.382720861960017},9.5889227852866394,8.9963749099023342,11.205699744626854,13.475328675258353,6.7969028414604269,11.733589564174469,10.043501592747328,11.07117989344048,23.725632752547654]
["Total Days 2",{"$f":"B12/B26","v":43.382720861960017},9.5889227852866394,8.9963749099023342,11.205699744626854,13.475328675258353,6.7969028414604269,11.733589564174469,10.043501592747328,11.07117989344048,23.725632752547654]
["Days No Paylean",{"$f":"B57-$N$10","v":26.382720861960017},-7.4110772147133606,-8.0036250900976658,-5.7943002553731464,-3.5246713247416466,-10.203097158539574,-5.2664104358255308,-6.9564984072526723,-5.9288201065595203,6.7256327525476536]
["Days No Paylean 1",{"$f":"B58-$O$10","v":43.382720861960017},9.5889227852866394,8.9963749099023342,11.205699744626854,13.475328675258353,6.7969028414604269,11.733589564174469,10.043501592747328,11.07117989344048,23.725632752547654]
["Days No Paylean 2",{"$f":"B59-$P$10","v":43.382720861960017},9.5889227852866394,8.9963749099023342,11.205699744626854,13.475328675258353,6.7969028414604269,11.733589564174469,10.043501592747328,11.07117989344048,23.725632752547654]
["Gain",{"$f":"B12","v":45},20,20,25,30,15,25,20,20,35]
["Intake",{"$f":"B13","v":86.300842596588538},41.674547387547847,44.018258915172282,58.739146337349936,76.829286379767325,41.467423246829497,74.365496295863096,65.055238277605142,70.952499639063873,141.84726092421249]
["Intake 1",{"$f":"B13","v":86.300842596588538},41.674547387547847,44.018258915172282,58.739146337349936,76.829286379767325,41.467423246829497,74.365496295863096,65.055238277605142,70.952499639063873,141.84726092421249]
["Intake 2",{"$f":"B13","v":86.300842596588538},41.674547387547847,44.018258915172282,58.739146337349936,76.829286379767325,41.467423246829497,74.365496295863096,65.055238277605142,70.952499639063873,141.84726092421249]
[]
[]
[]
[]
[]
["Diff. Between Adj and Initial",{"$f":"B11-B54","v":0},0,0,0,0,0,0,0,0,0.5944583020566081]
["% difference from original.",{"$f":"1-(B54/B11)","v":0},{"$f":"1-(C54/C11)","v":0},0,0,0,0,0,0,0,0.14667918461321383]

{"sheet":"Growth Curve","index":4,"n_rows":218,"n_cols":36,"rows_kept":218,"cut":false,"hidden":true,"merged":[[0,1,0,11],[0,13,0,23],[2,1,2,11],[2,13,2,23]]}
[null,"K-State Growth and Feed Intake Curve Calculator",null,null,null,null,null,null,null,null,null,null,null,"K-State Growth and Feed Intake Curve Calculator"]
[]
[null,"Information in yellow cells can be changed.",null,null,null,null,null,null,null,null,null,null,null,"Information in yellow cells can be changed.",null,null,null,null,null,null,null,null,null,null,null,null,"Day","Weight","Day","ADG","Cum Feed","Feed/d"]
[null,null,"Model and Template: Dr. Steve Dritz, K-State College of Veterinary Medicine",null,null,null,null,null,null,null,null,null,null,null,"Model and Template: Dr. Steve Dritz, K-State College of Veterinary Medicine",null,null,null,null,null,null,null,null,null,null,null,null,{"$f":"R7","v":12.125300000000001},null,null,{"$f":"IF(AB4<$R$13,(-0.00011*$AB4^3+0.02188*$AB4^2 + 0.80366*$AB4 - 9.4)*$U$7/1.775,(0.00463*$AB4^2 + 1.68*$AB4 - 22.05)*$U$11/3.069)","v":3.1252847240805819},null,null,{"$f":"((0.004404447*(21+AA4)^2+0.08509693*(21+AA4)+2.014352066)/(((0.004404447*((($F$13-$F$7)/($J$7/1000))+21)^2+0.08509693*((($F$13-$F$7)/($J$7/1000))+21)+2.014352066)-(0.004404447*(21)^2+0.08509693*21+2.014352066)))*($F$13-$F$7))","v":5.2896190581174425}]
[null,null,null,null,null,"Nursery Close Out Averages",null,null,null,null,null,null,null,null,null,null,null,"Nursery Close Out Averages",null,null,null,null,null,null,null,null,1,{"$f":"IF(AB4<60,AJ5*2.2046,( -0.0000000283*AB4^3 - 0.0000208677*AB4^2 + 0.0088789486*AB4+ 1.0393148087+($V$11-1.68))+AB4)","v":12.682591436047618},1,{"$f":"AB5-AB4","v":0.55729143604761688},3.7958384023059799,{"$f":"AE5-AE4","v":0.67055367822539802},null,{"$f":"((0.004404447*(21+AA5)^2+0.08509693*(21+AA5)+2.014352066)/(((0.004404447*((($F$13-$F$7)/($J$7/1000))+21)^2+0.08509693*((($F$13-$F$7)/($J$7/1000))+21)+2.014352066)-(0.004404447*(21)^2+0.08509693*21+2.014352066)))*($F$13-$F$7))","v":5.5424047952342059},{"$f":"AH5-AH4","v":0.25278573711676344},{"$f":"$F$7+AI5","v":5.7527857371167634}]
[null,null,null,null,null,"Initial wt","Final wt","F/G","Adj. F/G","ADG, g",null,null,null,null,null,null,null,"Initial wt","Final wt","F/G","Adj. F/G","ADG",null,null,null,null,2,{"$f":"IF(AB5<60,AJ6*2.2046,( -0.0000000283*AB5^3 - 0.0000208677*AB5^2 + 0.0088789486*AB5+ 1.0393148087+($V$11-1.68))+AB5)","v":13.257767509990771},2,0.57517607394315284,4.498613852229127,0.70277544992314711,null,5.8033029508829195,{"$f":"AH6-AH5","v":0.26089815564871355},{"$f":"AJ5+AI6","v":6.013683892765477}]
[null,null,null,null,null,5.5,{"$f":"F11","v":20.417422867513611},1.5,{"$f":"$T$7-((G7-10)*0.011)+((50-H7)*0.011)","v":1.9189083484573501},400,null,null,null,null,null,null,null,{"$f":"F7*2.2046","v":12.125300000000001},{"$f":"R11","v":45.012250453720512},{"$f":"H7","v":1.5},{"$f":"$T$7-((S7-10)*0.011)+((50-T7)*0.011)","v":1.6483652450090744},{"$f":"J7*2.2046/1000","v":0.88184000000000007},null,null,null,null,3,13.850828221829465,3,0.59306071183869413,5.2345030561014569,0.73588920387232992,null,6.072313525063584,0.26901057418066454,{"$f":"AJ6+AI7","v":6.2826944669461415}]
[null,null,null,null,null,null,null,null,null,null,null,null,null,null,null,null,null,null,null,null,null,null,null,null,null,null,4,14.461773571563697,4,0.61094534973423187,6.0044067449576097,0.76990368885615279,null,6.3494365177761996,0.27712299271261553,6.5598174596587571]
[null,null,null,null,null,"Finisher Close Out Averages",null,null,null,null,null,null,null,null,null,null,null,"Finisher Close Out Averages",null,null,null,null,null,null,null,null,5,15.09060355919347,5,0.62882998762977316,6.8092326546023401,0.80482590964473033,null,6.634671929020767,0.28523541124456742,6.8450528709033245]
[null,null,null,null,null,"Initial wt","Final wt","F/G","Adj. F/G","ADG, g",null,null,null,null,null,null,null,"Initial wt","Final wt","F/G","Adj. F/G","ADG",null,null,null,null,6,15.737318184718784,6,0.64671462552531445,7.6498937290040576,0.84066107440171756,null,6.9280197587972863,0.2933478297765193,7.1384007006798438]
[null,null,null,null,null,{"$f":"F13","v":20.417422867513611},{"$f":"'(1) Setup'!B9/2.204","v":136.11615245009074},{"$f":"'(1) Setup'!B21","v":2.75},{"$f":"$T$11-((F11-50)*0.006)+((250-G11)*0.006)","v":3.6107985480943738},{"$f":"'(1) Setup'!B19*453.6","v":975.24},null,null,null,null,null,null,null,{"$f":"R13","v":45.012250453720512},{"$f":"G11*2.2046","v":300.08166969147004},{"$f":"H11","v":2.75},{"$f":"$T$11-((R11-50)*0.006)+((250-S11)*0.006)","v":2.4794364791288568},{"$f":"J11*2.2046/1000","v":2.1500141040000003},null,null,null,null,7,16.401917448139638,7,0.66459926342085396,8.5273062710950533,0.87741254209099573,null,7.2294800071057566,0.30146024830847029,7.4398609489883141]
[null,null,null,null,null,null,null,null,null,null,null,null,null,null,null,null,null,null,null,null,null,null,null,null,null,null,8,17.08440134945603,8,0.68248390131639169,9.4423880409783827,0.91508176988332934,null,7.539052673946177,0.3095726668404204,7.7494336158287345]
[null,null,null,null,"Initial Weight, kg:",{"$f":"'(1) Setup'!B7/2.204","v":20.417422867513611},"= Weight at the time of transfer from nursery to finishing.",null,null,null,null,null,null,null,null,null,"Initial Weight, lb:",{"$f":"F13*2.2046","v":45.012250453720512},"= Weight at the time of transfer from nursery to finishing.",null,null,null,null,null,null,null,9,17.784769888667959,9,0.70036853921192943,10.396056301541407,0.95366826056302401,null,7.8567377593185483,0.31768508537237139,8.0671187012011067]
[null,null,null,null,"Group Size, pigs",1000,null,null,null,null,null,null,null,null,null,null,"Group Size, pigs",{"$f":"F14","v":1000},null,null,null,null,null,null,null,null,10,18.503023065775434,10,0.71825317710747427,11.389225811476004,0.99316950993459763,null,8.1825352632228725,0.32579750390432416,8.3929162051054309]
[null,null,null,null,null,null,null,null,null,null,null,null,null,null,null,null,null,null,null,null,null,null,null,null,null,null,11,19.239160880778442,11,0.73613781500300846,12.422806765705387,1.0335809542293823,null,8.5164451856591459,0.33390992243627338,8.7268261275417043]
[null,null,null,null,null,null,null,null,null,null,null,null,null,null,null,null,null,null,null,null,null,null,null,null,null,null,12,19.993183333676999,12,0.75402245289855685,13.497702683217701,1.0748959175123147,null,8.8584675266273738,0.34202234096822792,9.0688484685099322]
[null,"Nusery",null,null,null,null,null,"Finisher",null,null,null,null,null,"Nusery",null,null,null,null,null,"Finisher",null,null,null,null,7,{"$f":"VLOOKUP(R13,AB5:AC218,2,TRUE)","v":37},13,20.765090424471087,13,0.77190709079408748,14.614808242306131,1.1171055590884293,null,9.2086022861275509,0.35013475950017714,9.4189832280101093]
[null,"Week","Weight","Wt, kg","ADFI, g","Tonnes/d",null,"Week",null,"Wt, kg","ADFI, g","Tonnes/d",null,"Week","Weight","Weight,lb","ADFI, lb","Tons/d",null,"Week",null,"Weight,lb","ADFI, lb","Tons/d",{"$f":"Y17+7","v":14},44,14,21.554882153160719,14,0.78979172868963232,15.775007063215833,1.1601988209097023,null,9.5668494641596791,0.35824717803212813,9.7772304060422375]
[null,1,{"$f":"VLOOKUP(N17,$AA$4:$AB$218,2,FALSE)","v":{"$error":"#N/A"}},{"$f":"IF(P19=\" \",\"\",P19/2.2046)","v":7.4398609489883141},{"$f":"IF(Q19=\" \",\"\",Q19/2.2046*1000)","v":397.99171826680379},{"$f":"IF(D19=\"\",\" \",E19*$F$14/1000/1000)","v":0.3979917182668038},null,1,null,{"$f":"IF(V19=\" \",\"\",V19/2.2046)","v":24.296920364363412},{"$f":"IF(W19=\" \",\"\",W19/2.2046*1000)","v":1054.6590101096047},{"$f":"IF(J19=\"\",\" \",K19*$F$14/1000/1000)","v":1.0546590101096047},null,1,{"$f":"VLOOKUP(Y17,$AA$4:$AB$218,2,FALSE)","v":16.401917448139638},{"$f":"IF(O19>$R$13+5,\" \",O19)","v":16.401917448139638},{"$f":"IF(P19=\" \",\" \",VLOOKUP(O19,$AB$5:$AF$218,5,TRUE))","v":0.87741254209099573},{"$f":"IF(P19=\" \",\" \",Q19*$R$14/2000)","v":0.43870627104549786},null,1,null,{"$f":"VLOOKUP(Z18,$AA$4:$AB$218,2,FALSE)","v":53.564990635275585},{"$f":"VLOOKUP(V19,$AB$5:$AF$218,5,TRUE)","v":2.3251012536876345},{"$f":"W19*$R$14/2000","v":1.1625506268438173},21,51,15,22.362558519745885,15,0.80767636658516651,16.979169438197356,1.2041623749815233,null,9.9332090607237582,0.36635959656407913,10.143590002606317]
[null,2,{"$error":"#N/A"},{"$f":"IF(P20=\" \",\"\",P20/2.2046)","v":9.7772304060422375},{"$f":"IF(Q20=\" \",\"\",Q20/2.2046*1000)","v":526.26273288111327},{"$f":"IF(D20=\"\",\" \",E20*$F$14/1000/1000)","v":0.52626273288111325},null,2,null,{"$f":"IF(V20=\" \",\"\",V20/2.2046)","v":29.213451437867224},{"$f":"IF(W20=\" \",\"\",W20/2.2046*1000)","v":1641.2742108490054},{"$f":"IF(J20=\"\",\" \",K20*$F$14/1000/1000)","v":1.6412742108490055},null,2,21.554882153160719,21.554882153160719,1.1601988209097023,0.58009941045485114,null,2,null,64.403975039922088,3.6183531252377179,1.809176562618859,28,58,16,23.1881195242266,16,0.8255610044807149,18.228150008966896,1.2489805707695396,null,10.30768107581979,0.3744720150960319,10.518062017702348]
[null,3,12.682591436047618,12.512108371161771,673.67059883865613,0.6736705988386561,null,3,null,35.629833010422288,1804.6726727854432,1.8046726727854432,null,3,27.584194115063241,27.584194115063241,1.4851742021997012,0.74258710109985049,null,3,null,78.549529854776978,3.978581374422788,1.989290687211394,35,65,17,24.031565166602846,17,0.84344564237624553,19.522785391573048,1.2946353826061525,null,10.690265509447771,0.38258443362798111,10.90064645133033]
[null,4,13.257767509990771,15.644494844346918,836.59810623127089,0.83659810623127084,null,4,null,42.280004233681865,1971.4120020285795,1.9714120020285795,null,4,34.489853333847215,34.489853333847215,1.8443641849974597,0.92218209249872984,null,4,null,93.210497333575049,4.3461748996722065,2.1730874498361032,42,72,18,24.892895446874636,18,0.86133028027179037,20.86389174867038,1.3411063570973312,null,11.080962361607705,0.39069685215993388,11.291343303490263]
[null,5,13.850828221829465,19.174389825597668,1008.4976476301972,1.0084976476301972,null,5,null,49.13317557079548,2138.0956885076262,2.1380956885076263,null,5,42.27185980951262,42.27185980951262,2.2233339139655328,1.1116669569827664,null,5,null,108.31899886337573,4.7136457548839132,2.3568228774419566,49,79,19,25.772110365041968,19,0.87921491816733166,22.252262309199509,1.388370560529129,null,11.479771632299592,0.39880927069188665,11.69015257418215]
[null,6,14.461773571563697,"",""," ",null,6,null,56.152137028512115,2300.7035974955884,2.3007035974955885,null,6,50.930213542059491," "," "," ",null,6,null,123.79300129305781,5.072131151038775,2.5360655755193875,56,86,20,26.669209921104834,20,0.89709955606286584,23.688664835473972,1.4364025262744633,null,11.886693321523426,0.40692168922383409,12.097074263405984]
[null,7,15.09060355919347,"",""," ",null,7,null,63.293603590996845,2454.7159839367318,2.4547159839367318,null,7,60.464914531487779," "," "," ",null,7,null,139.53707847671166,5.4116668581869192,2.7058334290934596,63,93,21,27.584194115063241,21,0.91498419395840713,25.173839037673673,1.4851742021997012,null,12.301727429279213,0.41503410775578686,12.512108371161771]
[null,8,15.737318184718784,"",""," ",null,8,null,70.508919586109585,2595.3110799764913,2.5953110799764914,null,8,74.452738829319799," "," "," ",null,8,null,155.44396411953718,5.721622806916173,2.8608114034580869,70,100,22,28.517062946917193,22,0.93286883185395197,26.708493935745061,1.5346548980713877,null,12.724873955566952,0.42314652628773963,12.935254897449511]
[null,9,16.401917448139638,"",""," ",null,9,null,77.745135499090111,2717.6306843704429,2.7176306843704428,null,9,88.972745980290469," "," "," ",null,9,null,171.39692572129408,5.991288606763078,2.995644303381539,77,107,23,29.467816416666679,23,0.95075346974948616,28.293305168707853,1.5848112329627924,null,13.156132900386641,0.43125894481968885,13.3665138422692]
[null,10,17.08440134945603,"",""," ",null,10,null,84.946435247869374,2817.0960090014692,2.8170960090014692,null,10,103.96114018965704," "," "," ",null,10,null,187.27291114745285,6.2105698614446396,3.1052849307223194,null,114,24,30.436454524311699,24,0.96863810764502034,29.928912251368583,1.6356070826607301,null,13.595504263738279,0.43937136335163807,13.805885205620838]
[null,null,null,null,null,null,null,11,null,92.055851627985547,2889.744027086178,2.8897440270861781,null,null,null,null,null,null,null,11,null,202.94633049905696,6.3707296821141881,3.1853648410570941,null,121,25,31.422977269852275,25,0.98652274554057584,31.615915778440698,1.6870035270721147,null,14.042988045621875,0.44748378188359617,14.253368987504434]
[null,null,null,null,null,null,null,12,null,99.01716843497816,2932.5456762823696,2.9325456762823698,null,null,null,null,null,null,null,12,null,218.29324953175288,6.4650901979321134,3.2325450989660567,null,128,26,32.427384653288378,26,1.0044073834361029,33.354874576071261,1.7389587976305627,null,14.498584246037417,0.45559620041554183,14.708965187919976]
[null,null,null,null,null,null,null,13,null,105.77687673755139,2943.6643749795876,2.9436643749795874,null,null,null,null,null,null,null,13,null,233.19570245560581,6.4896024810799986,3.2448012405399997,null,135,27,33.449676674620022,27,1.0222920213316442,35.146302800774528,1.7914282247032673,null,14.962292864984908,0.46370861894749105,15.172673806867467]
[null,null,null,null,null,null,null,14,null,112.28603653655244,2922.6182052835252,2.9226182052835252,null,null,null,null,null,null,null,14,null,247.54579614848353,6.4432040953680598,3.2216020476840299,null,142,28,34.489853333847215,28,1.0401766592271926,36.990666985771988,1.8443641849974597,null,15.434113902464359,0.47182103747945092,15.644494844346918]
[null,null,null,null,null,null,null,15,null,118.50189800352582,2870.3216716819211,2.8703216716819209,null,null,null,null,null,null,null,15,null,261.24928433857303,6.3279111573899627,3.1639555786949813,null,149,29,35.547914630969942,29,1.0580612971227268,38.888383034739093,1.897716048967105,null,15.914047358475756,0.47993345601139659,16.124428300358314]
[null,null,null,null,null,null,null,16,null,124.38915939141727,2789.0008481678587,2.7890008481678588,null,null,null,null,null,null,null,16,null,274.22834079431851,6.1486312698708616,3.0743156349354308,null,{"$f":"Z33+7","v":156},30,36.623860565988203,30,1.075945935018261,40.839813162958748,1.9514301282196556,null,16.402093233019102,0.4880458745433458,16.61247417490166]
[null,null,null,null,null,null,null,17,null,129.92077814635408,2681.9950267286654,2.6819950267286652,null,null,null,null,null,null,null,17,null,286.42334750145221,5.9127262359260158,2.9563631179630079,null,{"$f":"Z34+7","v":163},31,37.717691138902012,31,1.0938305729138094,42.845262785881395,2.0054496229226473,null,16.898251526094402,0.49615829307530035,17.10863246797696]
[null,null,null,null,null,null,null,18,null,135.07830088738206,2553.4742831891663,2.5534742831891664,null,null,null,null,null,null,null,18,null,297.79362213632248,5.629389404718836,2.814694702359418,null,{"$f":"Z35+7","v":170},32,38.829406349711356,32,1.1117152108093435,44.904977355091724,2.0597145692103282,null,17.402522237701653,0.50427071160725134,17.612903179584212]
[null,null,null,null,null,null,null,19,null,139.85172820979602,2408.112230254043,2.408112230254043,null,null,null,null,null,null,null,19,null,308.31712001131632,5.3089242228180638,2.6544621114090319,null,{"$f":"Z36+7","v":177},33,39.959006198416233,33,1.1295998487048777,47.019139141682132,2.1141617865904081,null,17.914905367840852,0.51238313013919878,18.12528630972341]
[null,null,null,null,null,null,null,20,null,144.23897358064116,2250.7551184421609,2.2507551184421608,null,null,null,null,null,null,null,20,null,317.98924115588153,4.962014734117588,2.481007367058794,null,null,34,41.106490685016666,34,1.1474844866004332,49.187863967032804,2.1687248253506723,null,18.435400916512009,0.52049554867115688,18.645781858394567]
[null,null,null,null,null,null,null,null,null,null,null,null,null,null,null,null,null,null,null,null,null,null,null,null,null,null,35,42.27185980951262,35,1.1653691244959532,51.411197880998337,2.2233339139655328,null,18.96400888371511,0.52860796720310077,19.174389825597668]
[null,null,null,null,null,null,null,null,null,null,null,null,null,null,null,null,null,null,null,null,null,null,null,null,null,null,36,43.455113571904135,36,1.1832537623915158,53.689113787501356,2.2779159065030186,null,19.500729269450169,0.53672038573505887,19.711110211332727]
[null,null,null,null,null,null,null,null,null,null,null,null,null,null,null,null,null,null,null,null,null,null,null,null,null,null,37,44.656251972191171,37,1.2011384002870358,56.021508017532284,2.3323942300309284,null,20.045562073717175,0.54483280426700631,20.255943015599733]
[null,null,null,null,null,null,null,null,null,null,null,null,null,null,null,null,null,null,null,null,null,null,null,null,null,null,38,45.875275010373755,38,1.2190230381825842,52.323046465672348,-3.6984615518599355,null,20.598507296516132,0.5529452227989573,20.808888238398691]
[null,null,null,null,null,null,null,null,null,null,null,null,null,null,null,null,null,null,null,null,null,null,null,null,null,null,39,47.112182686451874,39,1.2369076760781184,54.432088859483109,2.1090423938107605,null,21.159564937847041,0.5610576413309083,21.369945879729599]
[null,null,null,null,null,null,null,null,null,null,null,null,null,null,null,null,null,null,null,null,null,null,null,null,null,null,40,48.366975000425541,40,1.2547923139736668,56.583321341095953,2.1512324816128441,null,21.728734997709903,0.56917005986286284,21.939115939592462]
[null,null,null,null,null,null,null,null,null,null,null,null,null,null,null,null,null,null,null,null,null,null,null,null,null,null,41,49.639651952294741,41,1.2726769518692009,58.777247573850623,2.19392623275467,null,22.306017476104714,0.57728247839481028,22.516398417987272]
[null,null,null,null,null,null,null,null,null,null,null,null,null,null,null,null,null,null,null,null,null,null,null,null,null,null,42,50.930213542059491,42,1.2905615897647493,61.014378399833753,2.2371308259831295,null,22.891412373031478,0.58539489692676483,23.101793314914037]
[null,null,null,null,null,null,null,null,null,null,null,null,null,null,null,null,null,null,null,null,null,null,null,null,null,null,43,52.238659769719767,43,1.3084462276602764,63.295231839878895,2.2808534400451421,null,23.484919688490191,0.59350731545871227,23.695300630372749]
[null,null,null,null,null,null,null,null,null,null,null,null,null,null,null,null,null,null,null,null,null,null,null,null,null,null,44,53.564990635275585,44,1.3263308655558177,65.620333093566529,2.3251012536876345,null,24.086539422480854,0.60161973399066326,24.296920364363412]
[null,null,null,null,null,null,null,null,null,null,null,null,null,null,null,null,null,null,null,null,null,null,null,null,null,null,45,54.909206138726944,45,1.344215503451359,67.990214539224013,2.3698814456574837,null,24.696271575003472,0.60973215252261781,24.90665251688603]
[null,null,null,null,null,null,null,null,null,null,null,null,null,null,null,null,null,null,null,null,null,null,null,null,null,null,46,56.271306280073837,46,1.3621001413468932,70.405415733925693,2.4152011947016803,null,25.314116146058037,0.61784457105456525,25.524497087940595]
[null,null,null,null,null,null,null,null,null,null,null,null,null,null,null,null,null,null,null,null,null,null,null,null,null,null,47,57.651291059316279,47,1.3799847792424416,72.866483413492759,2.4610676795670656,null,25.940073135644557,0.6259569895865198,26.150454077527115]
[null,null,null,null,null,null,null,null,null,null,null,null,null,null,null,null,null,null,null,null,null,null,null,null,null,null,48,59.049160476454261,48,1.3978694171379829,75.373971492493354,2.5074880790005949,null,26.574142543763028,0.63406940811847079,26.784523485645586]
[null,null,null,null,null,null,null,null,null,null,null,null,null,null,null,null,null,null,null,null,null,null,null,null,null,null,49,60.464914531487779,49,1.415754055033517,77.928441064242492,2.5544695717491379,null,27.216324370413449,0.64218182665042178,27.426705312296008]
[null,null,null,null,null,null,null,null,null,null,null,null,null,null,null,null,null,null,null,null,null,null,null,null,null,null,50,62.428559877953568,50,1.963645346465789,81.496302551605964,3.5678614873634729,null,27.866618615595822,0.65029424518237278,28.076999557478381]
[null,null,null,null,null,null,null,null,null,null,null,null,null,null,null,null,null,null,null,null,null,null,null,null,null,null,51,64.403975039922088,51,1.9754151619685203,85.114655676843682,3.6183531252377179,null,28.525025279310146,0.65840666371432377,28.735406221192704]
[null,null,null,null,null,null,null,null,null,null,null,null,null,null,null,null,null,null,null,null,null,null,null,null,null,null,52,66.391026941794834,52,1.9870519018727464,88.783775539557752,3.6691198627140693,null,29.191544361556421,0.66651908224627476,29.401925303438979]
[null,null,null,null,null,null,null,null,null,null,null,null,null,null,null,null,null,null,null,null,null,null,null,null,null,null,53,68.389576773785564,53,1.9985498319907293,92.503921672297679,3.7201461327399272,null,29.866175862334646,0.67463150077822576,30.076556804217205]
[null,null,null,null,null,null,null,null,null,null,null,null,null,null,null,null,null,null,null,null,null,null,null,null,null,null,54,70.399479947267608,54,2.0099031734820443,96.275337410141134,3.771415737843455,null,30.54891978164482,0.6827439193101732,30.759300723527378]
[null,null,null,null,null,null,null,null,null,null,null,null,null,null,null,null,null,null,null,null,null,null,null,null,null,null,55,72.420586053986867,55,2.0211061067192588,100.09824925767008,3.8229118475289425,null,31.239776119486947,0.69085633784212774,31.450157061369506]
[null,null,null,null,null,null,null,null,null,null,null,null,null,null,null,null,null,null,null,null,null,null,null,null,null,null,56,74.452738829319799,56,2.032152775332932,103.97286625423601,3.8746169965659334,null,31.938744875861033,0.69896875637408584,32.149125817743595]
[null,null,null,null,null,null,null,null,null,null,null,null,null,null,null,null,null,null,null,null,null,null,null,null,null,null,57,76.495776119755035,57,2.0430372904352367,107.89937933844961,3.926513084213596,null,32.645826050767063,0.70708117490602973,32.856206992649625]
[null,null,null,null,null,null,null,null,null,null,null,null,null,null,null,null,null,null,null,null,null,null,null,null,null,null,58,78.549529854776978,58,2.0537537350219424,111.87796071287239,3.978581374422788,null,33.361019644205051,0.71519359343798783,33.571400586087613]
[null,null,null,null,null,null,null,null,null,null,null,null,null,null,null,null,null,null,null,null,null,null,null,null,null,null,59,80.613826023328585,59,2.064296168551607,115.90876320992795,4.0308024970555607,null,34.084325656174975,0.72330601196992461,34.294706598057537]
[null,null,null,null,null,null,null,null,null,null,null,null,null,null,null,null,null,null,null,null,null,null,null,null,null,null,60,82.68848465502893,60,2.0746586317003448,119.99191966009111,4.083156450163159,null,34.815744086676865,0.73141843050188982,35.026125028559427]
[null,null,null,null,null,null,null,null,null,null,null,null,null,null,null,null,null,null,null,null,null,null,null,null,null,null,61,84.77331980631935,61,2.0848351512904202,124.12754226345143,4.1356226033603178,null,35.555274935710699,0.7395308490338337,35.765655877593261]
[null,null,null,null,null,null,null,null,null,null,null,null,null,null,null,null,null,null,null,null,null,null,null,null,null,null,62,86.868139551709348,62,2.0948197453899979,128.31572196578654,4.1881797023351055,null,36.302918203276491,0.7476432675657918,36.513299145159053]
[null,null,null,null,null,null,null,null,null,null,null,null,null,null,null,null,null,null,null,null,null,null,null,null,null,null,63,88.972745980290469,63,2.1046064285811212,132.55652784031594,4.2408058745293999,null,37.058673889374234,0.7557556860977428,37.269054831256796]
[null,null,null,null,null,null,null,null,null,null,null,null,null,null,null,null,null,null,null,null,null,null,null,null,null,null,64,91.086935197682834,64,2.1141892173923651,{"$f":"IF(AB68<$R$13,(-0.00011*$AB68^3+0.02188*$AB68^2 + 0.80366*$AB68 - 9.4)*$U$7/1.775,(0.00463*$AB68^2 + 1.68*$AB68 - 22.05)*$U$11/3.069)","v":136.85000647634152},4.2934786360255828,null,37.82254199400392,0.76386810462968668,38.032922935886482]
[null,null,null,null,null,null,null,null,null,null,null,null,null,null,null,null,null,null,null,null,null,null,null,null,null,null,65,93.210497333575049,65,{"$f":"AB69-AB68","v":2.1235621358922145},141.19618137601373,{"$f":"AE69-AE68","v":4.3461748996722065},null,{"$f":"((0.004404447*(21+AA69)^2+0.08509693*(21+AA69)+2.014352066)/(((0.004404447*((($F$13-$F$7)/($J$7/1000))+21)^2+0.08509693*((($F$13-$F$7)/($J$7/1000))+21)+2.014352066)-(0.004404447*(21)^2+0.08509693*21+2.014352066)))*($F$13-$F$7))","v":38.594522517165558},0.77198052316163768,38.80490345904812]
[null,null,null,null,null,null,null,null,null,null,null,null,null,null,null,null,null,null,null,null,null,null,null,null,null,null,66,{"$f":"IF(AB69<60,AJ70*2.2046,( -0.0000000283*AB69^3 - 0.0000208677*AB69^2 + 0.0088789486*AB69+ 1.0393148087+($V$11-1.68))+AB69)","v":95.343216555013441},66,2.1327192214383928,145.59505236049347,4.3988709844797427,null,39.374615458859154,{"$f":"AH70-AH69","v":0.78009294169359578},39.584996400741716]
[null,null,null,null,null,null,null,null,null,null,null,null,null,null,null,null,null,null,null,null,null,null,null,null,null,null,67,97.484871085591493,67,2.1416545305780517,150.0465949868092,4.4515426263157281,null,40.162820819084693,0.78820536022553966,{"$f":"AJ70+AI71","v":40.373201760967255}]
[null,null,null,null,null,null,null,null,null,null,null,null,null,null,null,null,null,null,null,null,null,null,null,null,null,null,68,99.635233230684662,68,2.1503621450931689,154.55075997673376,4.5041649899245613,null,40.959138597842191,0.79631777875749776,41.169519539724753]
[null,null,null,null,null,null,null,null,null,null,null,null,null,null,null,null,null,null,null,null,null,null,null,null,null,null,69,101.79406940886921,69,2.1588361781845435,159.10747265903123,4.5567126822974728,null,41.763568795131633,0.80443019728944165,41.973949737014195]
[null,null,null,null,null,null,null,null,null,null,null,null,null,null,null,null,null,null,null,null,null,null,null,null,null,null,70,103.96114018965704,70,2.1670707807878387,163.71663242644345,4.6091597674122227,null,42.576111410953033,0.81254261582139975,42.786492352835594]
[null,null,null,null,null,null,null,null,null,null,null,null,null,null,null,null,null,null,null,null,null,null,null,null,null,null,71,106.13620033767086,71,2.175060148013813,168.37811220880485,4.6614797823613969,null,43.396766445306376,0.82065503435334364,43.607147387188938]
[null,null,null,null,null,null,null,null,null,null,null,null,null,null,null,null,null,null,null,null,null,null,null,null,null,null,72,108.31899886337573,72,2.1827985257048681,173.09175796368876,4.7136457548839132,null,44.225533898191678,0.82876745288530174,44.43591484007424]
[null,null,null,null,null,null,null,null,null,null,null,null,null,null,null,null,null,null,null,null,null,null,null,null,null,null,73,110.50927908047485,73,2.1902802170991293,177.85738818599944,4.7656302223106763,null,45.062413769608931,0.83687987141725273,45.272794711491493]
[null,null,null,null,null,null,null,null,null,null,null,null,null,null,null,null,null,null,null,null,null,null,null,null,null,null,74,112.70677867006762,74,2.1974995895927663,182.67479343793244,4.8174052519329962,null,45.907406059558127,0.84499228994919662,46.117787001440689]
[null,null,null,null,null,null,null,null,null,null,null,null,null,null,null,null,null,null,null,null,null,null,null,null,null,null,75,114.91122975165834,75,2.2044510815907188,187.54373590072885,4.8689424627964115,null,46.760510768039289,0.85310470848116182,46.970891709921851]
[null,null,null,null,null,null,null,null,null,null,null,null,null,null,null,null,null,null,null,null,null,null,null,null,null,null,76,117.12235896109361,76,2.2111292094352706,192.46394894964988,4.9202130489210276,null,47.621727895052395,0.86121712701310571,47.832108836934957]
[null,null,null,null,null,null,null,null,null,null,null,null,null,null,null,null,null,null,null,null,null,null,null,null,null,null,77,119.33988753549525,77,2.2175285744016406,197.4351367535931,4.9711878039432236,null,48.491057440597444,0.8693295455450496,48.701438382480006]
[null,null,null,null,null,null,null,null,null,null,null,null,null,null,null,null,null,null,null,null,null,null,null,null,null,null,78,121.56353140524409,78,2.223643869748841,202.4569739007643,5.0218371471711976,null,49.368499404674452,0.8774419640770077,49.578880346557014]
[null,null,null,null,null,null,null,null,null,null,null,null,null,null,null,null,null,null,null,null,null,null,null,null,null,null,79,123.79300129305781,79,2.2294698878137211,207.52910505180307,5.072131151038775,null,50.254053787283411,0.88555438260895869,50.464434729165973]
[null,null,null,null,null,null,null,null,null,null,null,null,null,null,null,null,null,null,null,null,null,null,null,null,null,null,80,126.02800282019341,80,2.2350015271355943,212.65114462174705,5.1220395699439791,null,51.147720588424313,0.89366680114090258,51.358101530306875]
[null,null,null,null,null,null,null,null,null,null,null,null,null,null,null,null,null,null,null,null,null,null,null,null,null,null,81,128.26823661979182,81,2.2402337995984141,217.82267649219182,5.1715318704447668,null,52.049499808097181,0.90177921967286778,52.259880749979743]
[null,null,null,null,null,null,null,null,null,null,null,null,null,null,null,null,null,null,null,null,null,null,null,null,null,null,82,130.5133984573684,82,2.2451618375765747,223.04325375498144,5.2205772627896181,null,52.959391446302,0.90989163820481878,53.169772388184562]
[null,null,null,null,null,null,null,null,null,null,null,null,null,null,null,null,null,null,null,null,null,null,null,null,null,null,83,132.76317935843915,83,2.2497809010707499,228.31239848872724,5.2691447337458044,null,53.877395503038755,0.91800405673675556,54.087776444921317]
[null,null,null,null,null,null,null,null,null,null,null,null,null,null,null,null,null,null,null,null,null,null,null,null,null,null,84,135.01726574325787,84,2.25408638481872,233.62960156942026,5.3172030806930195,null,54.803511978307469,0.92611647526871366,55.013892920190031]
[null,null,null,null,null,null,null,null,null,null,null,null,null,null,null,null,null,null,null,null,null,null,null,null,null,null,85,137.27533956862476,85,2.2580738253668926,238.99432251635554,5.3647209469352788,null,55.737740872108141,0.93422889380067176,55.948121813990703]
[null,null,null,null,null,null,null,null,null,null,null,null,null,null,null,null,null,null,null,null,null,null,null,null,null,null,86,139.53707847671166,86,2.2617389080868975,244.40598937454246,5.4116668581869192,null,56.680082184440757,0.94234131233261564,56.890463126323318]
[null,null,null,null,null,null,null,null,null,null,null,null,null,null,null,null,null,null,null,null,null,null,null,null,null,null,87,141.80215595083368,87,2.2650774741220232,249.86399863472192,5.4580092601794661,null,57.630535915305323,0.95045373086456664,57.840916857187885]
[null,null,null,null,null,null,null,null,null,null,null,null,null,null,null,null,null,null,null,null,null,null,null,null,null,null,88,144.0702414780811,88,2.2680855272474219,255.36771519205098,5.5037165573290565,null,58.589102064701841,0.95856614939651763,58.799483006584403]
[null,null,null,null,null,null,null,null,null,null,null,null,null,null,null,null,null,null,null,null,null,null,null,null,null,null,89,146.34100071870947,89,2.2707592406283652,260.91647234445782,5.5487571524068358,null,59.555780632630317,0.96667856792847573,59.766161574512878]
[null,null,null,null,null,null,null,null,null,null,null,null,null,null,null,null,null,null,null,null,null,null,null,null,null,null,90,148.61409568216962,90,2.2730949634601529,266.50957183159653,5.5930994871387156,null,60.530571619090736,0.97479098646041962,60.740952560973298]
[null,null,null,null,null,null,null,null,null,null,null,null,null,null,null,null,null,null,null,null,null,null,null,null,null,null,91,150.88918490964321,91,2.2750892274735861,272.14628391526327,5.6367120836667368,null,61.513475024083107,0.98290340499237061,61.723855965965669]
[null,null,null,null,null,null,null,null,null,null,null,null,null,null,null,null,null,null,null,null,null,null,null,null,null,null,92,153.16592366293247,92,2.2767387532892656,277.82584750205501,5.679563586791744,null,62.504490847607435,0.99101582352432871,62.714871789489997]
[null,null,null,null,null,null,null,null,null,null,null,null,null,null,null,null,null,null,null,null,null,null,null,null,null,null,93,155.44396411953718,93,2.2780404566047139,283.54747030897119,5.721622806916173,null,63.503619089663694,0.99912824205625839,63.714000031546256]
[null,null,null,null,null,null,null,null,null,null,null,null,null,null,null,null,null,null,null,null,null,null,null,null,null,null,94,157.72295557373482,94,2.2789914541976373,289.31032907257202,5.7628587636008319,null,64.510859750251925,1.0072406605882307,64.721240692134486]
[null,null,null,null,null,null,null,null,null,null,null,null,null,null,null,null,null,null,null,null,null,null,null,null,null,null,95,160.00254464346409,95,2.2795890697292691,295.11356980221643,5.8032407296444148,null,65.526212829372113,1.0153530791201888,65.736593771254675]
[null,null,null,null,null,null,null,null,null,null,null,null,null,null,null,null,null,null,null,null,null,null,null,null,null,null,96,162.2823754827956,96,2.2798308393315097,300.95630807780736,5.8427382755909321]
[null,null,null,null,null,null,null,null,null,null,null,null,null,null,null,null,null,null,null,null,null,null,null,null,null,null,97,164.56208999975746,97,2.2797145169618602,306.83762939237425,5.8813213145668897]
[null,null,null,null,null,null,null,null,null,null,null,null,null,null,null,null,null,null,null,null,null,null,null,null,null,null,98,166.84132807926835,98,2.2792380795108897,312.75658953971936,5.9189601473451035]
[null,null,null,null,null,null,null,null,null,null,null,null,null,null,null,null,null,null,null,null,null,null,null,null,null,null,99,169.1197278109147,99,2.2783997316463456,318.71221504725048,5.9556255075311242]
[null,null,null,null,null,null,null,null,null,null,null,null,null,null,null,null,null,null,null,null,null,null,null,null,null,null,100,171.39692572129408,100,2.2771979103793853,324.70350365401356,5.991288606763078]
[null,null,null,null,null,null,null,null,null,null,null,null,null,null,null,null,null,null,null,null,null,null,null,null,null,null,101,173.67255701063254,101,2.2756312893384631,330.72942483382769,6.0259211798141337]
[null,null,null,null,null,null,null,null,null,null,null,null,null,null,null,null,null,null,null,null,null,null,null,null,null,null,102,175.94625579336903,102,2.2736987827364885,336.78892036331354,6.0594955294858437]
[null,null,null,null,null,null,null,null,null,null,null,null,null,null,null,null,null,null,null,null,null,null,null,null,null,null,103,178.21765534238733,103,2.2713995490182981,342.88090493448794,6.0919845711744074]
[null,null,null,null,null,null,null,null,null,null,null,null,null,null,null,null,null,null,null,null,null,null,null,null,null,null,104,180.48638833656292,104,2.2687329941755934,349.00426681148804,6.123361877000093]
[null,null,null,null,null,null,null,null,null,null,null,null,null,null,null,null,null,null,null,null,null,null,null,null,null,null,105,182.75208711127993,105,2.2656987747170092,355.15786853086234,6.1536017193743078]
[null,null,null,null,null,null,null,null,null,null,null,null,null,null,null,null,null,null,null,null,null,null,null,null,null,null,106,185.01438391156236,106,2.262296800282428,361.3405476447569,6.1826791138945509]
[null,null,null,null,null,null,null,null,null,null,null,null,null,null,null,null,null,null,null,null,null,null,null,null,null,null,107,187.27291114745285,107,2.2585272358904831,367.55111750620154,6.2105698614446396]
[null,null,null,null,null,null,null,null,null,null,null,null,null,null,null,null,null,null,null,null,null,null,null,null,null,null,108,189.52730165126317,108,2.2543905038103276,373.78836809558783,6.2372505893862922]
[null,null,null,null,null,null,null,null,null,null,null,null,null,null,null,null,null,null,null,null,null,null,null,null,null,null,109,191.77718893631123,109,2.2498872850480609,380.05106688731075,6.2626987917229258]
[null,null,null,null,null,null,null,null,null,null,null,null,null,null,null,null,null,null,null,null,null,null,null,null,null,null,110,194.02220745675189,110,2.2450185204406523,386.33795975543495,6.2868928681241982]
[null,null,null,null,null,null,null,null,null,null,null,null,null,null,null,null,null,null,null,null,null,null,null,null,null,null,111,196.26199286810225,111,2.2397854113503683,392.64777191712994,6.3098121616949925]
[null,null,null,null,null,null,null,null,null,null,null,null,null,null,null,null,null,null,null,null,null,null,null,null,null,null,112,198.49618228805605,112,2.2341894199537933,398.97920891251164,6.3314369953816936]
[null,null,null,null,null,null,null,null,null,null,null,null,null,null,null,null,null,null,null,null,null,null,null,null,null,null,113,200.72441455717686,113,2.2282322691208094,405.33095761941598,6.3517487069043455]
[null,null,null,null,null,null,null,null,null,null,null,null,null,null,null,null,null,null,null,null,null,null,null,null,null,null,114,202.94633049905696,114,2.2219159418800984,411.70168730153017,6.3707296821141881]
[null,null,null,null,null,null,null,null,null,null,null,null,null,null,null,null,null,null,null,null,null,null,null,null,null,null,115,205.16157317952536,115,2.2152426804684069,418.09005068820204,6.3883633866718696]
[null,null,null,null,null,null,null,null,null,null,null,null,null,null,null,null,null,null,null,null,null,null,null,null,null,null,116,207.36978816448783,116,2.208214984962467,424.49468508415725,6.4046343959552132]
[null,null,null,null,null,null,null,null,null,null,null,null,null,null,null,null,null,null,null,null,null,null,null,null,null,null,117,209.5706237759812,117,2.2008356114933747,430.91421350725608,6.419528423098825]
[null,null,null,null,null,null,null,null,null,null,null,null,null,null,null,null,null,null,null,null,null,null,null,null,null,null,118,211.76373134602537,118,2.1931075700441625,437.34724585233897,6.4330323450828928]
[null,null,null,null,null,null,null,null,null,null,null,null,null,null,null,null,null,null,null,null,null,null,null,null,null,null,119,213.94876546785875,119,2.1850341218333824,443.79238007912966,6.4451342267906853]
[null,null,null,null,null,null,null,null,null,null,null,null,null,null,null,null,null,null,null,null,null,null,null,null,null,null,120,216.1253842441462,120,2.1766187762874551,450.24820342208488,6.4558233429552274]
[null,null,null,null,null,null,null,null,null,null,null,null,null,null,null,null,null,null,null,null,null,null,null,null,null,null,121,218.29324953175288,121,2.1678652876066735,456.713293620017,6.4650901979321134]
[null,null,null,null,null,null,null,null,null,null,null,null,null,null,null,null,null,null,null,null,null,null,null,null,null,null,122,220.45202718268371,122,2.1587776509308299,463.18622016324844,6.4729265432314378]
[null,null,null,null,null,null,null,null,null,null,null,null,null,null,null,null,null,null,null,null,null,null,null,null,null,null,123,222.6013872807946,123,2.1493600981108898,469.66554555600283,6.4793253927543901]
[null,null,null,null,null,null,null,null,null,null,null,null,null,null,null,null,null,null,null,null,null,null,null,null,null,null,124,224.74100437388989,124,2.1396170930952962,476.1498265916926,6.4842810356897758]
[null,null,null,null,null,null,null,null,null,null,null,null,null,null,null,null,null,null,null,null,null,null,null,null,null,null,125,226.87055770082966,125,2.1295533269397708,482.63761563871549,6.4877890470228863]
[null,null,null,null,null,null,null,null,null,null,null,null,null,null,null,null,null,null,null,null,null,null,null,null,null,null,126,228.98973141328077,126,2.1191737124511008,489.12746193434663,6.4898462956311391]
[null,null,null,null,null,null,null,null,null,null,null,null,null,null,null,null,null,null,null,null,null,null,null,null,null,null,127,231.09821479175696,127,2.108483378476194,495.61791288427958,6.4904509499329492]
[null,null,null,null,null,null,null,null,null,null,null,null,null,null,null,null,null,null,null,null,null,null,null,null,null,null,128,233.19570245560581,128,2.0974876638488524,{"$f":"IF(AB132<$R$13,(-0.00011*$AB132^3+0.02188*$AB132^2 + 0.80366*$AB132 - 9.4)*$U$7/1.775,(0.00463*$AB132^2 + 1.68*$AB132 - 22.05)*$U$11/3.069)","v":502.10751536535957},6.4896024810799986]
[null,null,null,null,null,null,null,null,null,null,null,null,null,null,null,null,null,null,null,null,null,null,null,null,null,null,129,235.28189456661332,129,{"$f":"AB133-AB132","v":2.0861921110075059},508.59481702903622,{"$f":"AE133-AE132","v":6.4873016636766465}]
[null,null,null,null,null,null,null,null,null,null,null,null,null,null,null,null,null,null,null,null,null,null,null,null,null,null,130,{"$f":"IF(AB133<60,AJ134*2.2046,( -0.0000000283*AB133^3 - 0.0000208677*AB133^2 + 0.0088789486*AB133+ 1.0393148087+($V$11-1.68))+AB133)","v":237.35649702591155},130,2.0746024592982337,515.07836760306407,6.483550574027845]
[null,null,null,null,null,null,null,null,null,null,null,null,null,null,null,null,null,null,null,null,null,null,null,null,null,null,131,239.41922166389006,131,2.0627246379785049,521.55672018898554,6.4783525859214706]
[null,null,null,null,null,null,null,null,null,null,null,null,null,null,null,null,null,null,null,null,null,null,null,null,null,null,132,241.46978642282721,132,2.0505647589371563,528.0284325529467,6.47171236396116]
[null,null,null,null,null,null,null,null,null,null,null,null,null,null,null,null,null,null,null,null,null,null,null,null,null,null,133,243.50791553197499,133,2.0381291091477749,534.49206840741158,6.4636358544648829]
[null,null,null,null,null,null,null,null,null,null,null,null,null,null,null,null,null,null,null,null,null,null,null,null,null,null,134,245.53333967484767,134,2.02542414287268,540.94619868138057,6.4541302739689854]
[null,null,null,null,null,null,null,null,null,null,null,null,null,null,null,null,null,null,null,null,null,null,null,null,null,null,135,247.54579614848353,135,2.012456473635865,547.38940277674863,6.4432040953680598]
[null,null,null,null,null,null,null,null,null,null,null,null,null,null,null,null,null,null,null,null,null,null,null,null,null,null,136,249.54502901446682,136,1.9992328659832879,553.82026980848707,6.430867031738444]
[null,null,null,null,null,null,null,null,null,null,null,null,null,null,null,null,null,null,null,null,null,null,null,null,null,null,137,251.53078924151654,137,1.9857602270497239,560.23739982638278,6.4171300178957154]
[null,null,null,null,null,null,null,null,null,null,null,null,null,null,null,null,null,null,null,null,null,null,null,null,null,null,138,253.50283483946859,138,1.9720455979520466,566.63940501613331,6.4020051897505255]
[null,null,null,null,null,null,null,null,null,null,null,null,null,null,null,null,null,null,null,null,null,null,null,null,null,null,139,255.460930984497,139,1.9580961450284065,573.02491087765407,6.3855058615207554]
[null,null,null,null,null,null,null,null,null,null,null,null,null,null,null,null,null,null,null,null,null,null,null,null,null,null,140,257.40485013544094,140,1.9439191509439411,579.39255737853489,6.3676465008808236]
[null,null,null,null,null,null,null,null,null,null,null,null,null,null,null,null,null,null,null,null,null,null,null,null,null,null,141,259.33437214112394,141,1.9295220056829976,585.74100008065307,6.3484427021181773]
[null,null,null,null,null,null,null,null,null,null,null,null,null,null,null,null,null,null,null,null,null,null,null,null,null,null,142,261.24928433857303,142,1.9149121974490981,592.06891123804303,6.3279111573899627]
[null,null,null,null,null,null,null,null,null,null,null,null,null,null,null,null,null,null,null,null,null,null,null,null,null,null,143,263.14938164206535,143,1.9000973034923163,598.37498086420442,6.3060696261613884]
[null,null,null,null,null,null,null,null,null,null,null,null,null,null,null,null,null,null,null,null,null,null,null,null,null,null,144,265.03446662295067,144,1.8850849808853241,604.65791776712729,6.2829369029228701]
[null,null,null,null,null,null,null,null,null,null,null,null,null,null,null,null,null,null,null,null,null,null,null,null,null,null,145,266.90434958021916,145,1.8698829572684872,610.91645055041522,6.2585327832879329]
[null,null,null,null,null,null,null,null,null,null,null,null,null,null,null,null,null,null,null,null,null,null,null,null,null,null,146,268.75884860180321,146,1.8544990215840471,617.1493285789827,6.2328780285674839]
[null,null,null,null,null,null,null,null,null,null,null,null,null,null,null,null,null,null,null,null,null,null,null,null,null,null,147,270.597789616623,147,1.8389410148197953,623.35532290791696,6.2059943289342527]
[null,null,null,null,null,null,null,null,null,null,null,null,null,null,null,null,null,null,null,null,null,null,null,null,null,null,148,272.42100643740446,148,1.8232168207814539,629.53322717319429,6.1779042652773342]
[null,null,null,null,null,null,null,null,null,null,null,null,null,null,null,null,null,null,null,null,null,null,null,null,null,null,149,274.22834079431851,149,1.8073343569140548,635.68185844306515,6.1486312698708616]
[null,null,null,null,null,null,null,null,null,null,null,null,null,null,null,null,null,null,null,null,null,null,null,null,null,null,150,276.01964235950896,150,1.7913015651904516,641.80005802902042,6.1181995859552671]
[null,null,null,null,null,null,null,null,null,null,null,null,null,null,null,null,null,null,null,null,null,null,null,null,null,null,151,277.79476876259497,151,1.7751264030860057,647.88669225538274,6.086634226362321]
[null,null,null,null,null,null,null,null,null,null,null,null,null,null,null,null,null,null,null,null,null,null,null,null,null,null,152,279.55358559725175,152,1.7588168346567841,653.94065318666878,6.0539609312860421]
[null,null,null,null,null,null,null,null,null,null,null,null,null,null,null,null,null,null,null,null,null,null,null,null,null,null,153,281.29596641899099,153,1.742380821739232,659.96085931199639,6.0202061253276042]
[null,null,null,null,null,null,null,null,null,null,null,null,null,null,null,null,null,null,null,null,null,null,null,null,null,null,154,283.02179273427879,154,1.7258263152878044,665.94625618592056,5.9853968739241736]
[null,null,null,null,null,null,null,null,null,null,null,null,null,null,null,null,null,null,null,null,null,null,null,null,null,null,155,284.73095398114486,155,1.7091612468660742,671.8958170252015,5.9495608392809345]
[null,null,null,null,null,null,null,null,null,null,null,null,null,null,null,null,null,null,null,null,null,null,null,null,null,null,156,286.42334750145221,156,1.6923935203073484,677.80854326112751,5.9127262359260158]
[null,null,null,null,null,null,null,null,null,null,null,null,null,null,null,null,null,null,null,null,null,null,null,null,null,null,157,288.09887850501087,157,1.6755310035586604,683.68346504712281,5.8749217859952978]
[null,null,null,null,null,null,null,null,null,null,null,null,null,null,null,null,null,null,null,null,null,null,null,null,null,null,158,289.75746002573294,158,1.6585815207220662,689.51964172148894,5.8361766743661292]
[null,null,null,null,null,null,null,null,null,null,null,null,null,null,null,null,null,null,null,null,null,null,null,null,null,null,159,291.39901287003897,159,1.6415528443060339,695.31616222524281,5.7965205037538681]
[null,null,null,null,null,null,null,null,null,null,null,null,null,null,null,null,null,null,null,null,null,null,null,null,null,null,160,293.02346555773778,160,1.6244526876988061,701.07214547511194,5.7559832498691321]
[null,null,null,null,null,null,null,null,null,null,null,null,null,null,null,null,null,null,null,null,null,null,null,null,null,null,161,294.630754255613,161,1.6072886978752194,706.78674069186695,5.7145952167550149]
[null,null,null,null,null,null,null,null,null,null,null,null,null,null,null,null,null,null,null,null,null,null,null,null,null,null,162,296.22082270395953,162,1.5900684483465284,712.45912768426592,5.6723869923989696]
[null,null,null,null,null,null,null,null,null,null,null,null,null,null,null,null,null,null,null,null,null,null,null,null,null,null,163,297.79362213632248,163,1.5727994323629559,718.08851708898476,5.629389404718836]
[null,null,null,null,null,null,null,null,null,null,null,null,null,null,null,null,null,null,null,null,null,null,null,null,null,null,164,299.34911119270015,164,1.5554890563776667,723.67415056701202,5.5856334780272618]
[null,null,null,null,null,null,null,null,null,null,null,null,null,null,null,null,null,null,null,null,null,null,null,null,null,null,165,300.88725582647896,165,1.5381446337788134,729.21530095706601,5.5411503900539856]
[null,null,null,null,null,null,null,null,null,null,null,null,null,null,null,null,null,null,null,null,null,null,null,null,null,null,166,302.40802920537578,166,1.5207733788968198,734.71127238669169,5.4959714296256834]
[null,null,null,null,null,null,null,null,null,null,null,null,null,null,null,null,null,null,null,null,null,null,null,null,null,null,167,303.91141160666825,167,1.5033824012924697,740.16140034176999,5.4501279550783011]
[null,null,null,null,null,null,null,null,null,null,null,null,null,null,null,null,null,null,null,null,null,null,null,null,null,null,168,305.39739030699843,168,1.485978700330179,745.56505169525633,5.4036513534863388]
[null,null,null,null,null,null,null,null,null,null,null,null,null,null,null,null,null,null,null,null,null,null,null,null,null,null,169,306.86595946703932,169,1.4685691600408859,750.92162469603556,5.3565730007792354]
[null,null,null,null,null,null,null,null,null,null,null,null,null,null,null,null,null,null,null,null,null,null,null,null,null,null,170,308.31712001131632,170,1.4511605442770019,756.23054891885363,5.3089242228180638]
[null,null,null,null,null,null,null,null,null,null,null,null,null,null,null,null,null,null,null,null,null,null,null,null,null,null,171,309.75087950347796,171,1.4337594921616414,761.49128517634574,5.2607362574921126]
[null,null,null,null,null,null,null,null,null,null,null,null,null,null,null,null,null,null,null,null,null,null,null,null,null,null,172,311.16725201731157,172,1.4163725138336076,766.70332539424624,5.2120402179004941]
[null,null,null,null,null,null,null,null,null,null,null,null,null,null,null,null,null,null,null,null,null,null,null,null,null,null,173,312.56625800380027,173,1.399005986488703,771.86619245091447,5.1628670566682331]
[null,null,null,null,null,null,null,null,null,null,null,null,null,null,null,null,null,null,null,null,null,null,null,null,null,null,174,313.94792415451644,174,1.3816661507161712,776.9794399823636,5.113247531449133]
[null,null,null,null,null,null,null,null,null,null,null,null,null,null,null,null,null,null,null,null,null,null,null,null,null,null,175,315.31228326164688,175,1.36435910713044,782.04265215401983,5.0632121716562324]
[null,null,null,null,null,null,null,null,null,null,null,null,null,null,null,null,null,null,null,null,null,null,null,null,null,null,176,316.65937407494232,176,1.3470908132954378,787.05544340048471,5.0127912464648716]
[null,null,null,null,null,null,null,null,null,null,null,null,null,null,null,null,null,null,null,null,null,null,null,null,null,null,177,317.98924115588153,177,1.3298670809392092,792.01745813460229,4.962014734117588]
[null,null,null,null,null,null,null,null,null,null,null,null,null,null,null,null,null,null,null,null,null,null,null,null,null,null,178,319.30193472933706,178,1.3126935734555332,796.92837042715837,4.9109122925560769]
[null,null,null,null,null,null,null,null,null,null,null,null,null,null,null,null,null,null,null,null,null,null,null,null,null,null,179,320.59751053302631,179,1.2955758036892462,801.78788365857747,4.8595132314191005]
[null,null,null,null,null,null,null,null,null,null,null,null,null,null,null,null,null,null,null,null,null,null,null,null,null,null,180,321.87602966502658,180,1.2785191320002696,806.59573014398632,4.8078464854088452]
[null,null,null,null,null,null,null,null,null,null,null,null,null,null,null,null,null,null,null,null,null,null,null,null,null,null,181,323.13755842962803,181,1.2615287646014508,811.35167073303739,4.7559405890510789]
[null,null,null,null,null,null,null,null,null,null,null,null,null,null,null,null,null,null,null,null,null,null,null,null,null,null,182,324.38216818179291,182,1.2446097521648767,816.0554943858923,4.7038236528549078]
[null,null,null,null,null,null,null,null,null,null,null,null,null,null,null,null,null,null,null,null,null,null,null,null,null,null,183,325.60993517048411,183,1.2277669886912008,820.70701772677637,4.6515233408840686]
[null,null,null,null,null,null,null,null,null,null,null,null,null,null,null,null,null,null,null,null,null,null,null,null,null,null,184,326.82094038111848,184,1.2110052106343687,825.30608457650817,4.5990668497317984]
[null,null,null,null,null,null,null,null,null,null,null,null,null,null,null,null,null,null,null,null,null,null,null,null,null,null,185,328.01526937739442,185,1.1943289962759422,829.85256546541314,4.5464808889049664]
[null,null,null,null,null,null,null,null,null,null,null,null,null,null,null,null,null,null,null,null,null,null,null,null,null,null,186,329.19301214273599,186,1.1777427653415771,834.34635712802333,4.4937916626101924]
[null,null,null,null,null,null,null,null,null,null,null,null,null,null,null,null,null,null,null,null,null,null,null,null,null,null,187,330.35426292158814,187,1.1612507788521498,838.78738198095289,4.4410248529295586]
[null,null,null,null,null,null,null,null,null,null,null,null,null,null,null,null,null,null,null,null,null,null,null,null,null,null,188,331.49912006078944,188,1.1448571392012923,843.17558758532596,4.3882056043730699]
[null,null,null,null,null,null,null,null,null,null,null,null,null,null,null,null,null,null,null,null,null,null,null,null,null,null,189,332.62768585124144,189,1.1285657904520008,847.51094609511983,4.3353585097938776]
[null,null,null,null,null,null,null,null,null,null,null,null,null,null,null,null,null,null,null,null,null,null,null,null,null,null,190,333.74006637008523,190,1.1123805188437927,851.79345369276484,4.282507597645008]
[null,null,null,null,null,null,null,null,null,null,null,null,null,null,null,null,null,null,null,null,null,null,null,null,null,null,191,334.83637132358677,191,1.0963049535015443,856.02313001332016,4.2296763205553134]
[null,null,null,null,null,null,null,null,null,null,null,null,null,null,null,null,null,null,null,null,null,null,null,null,null,null,192,335.91671389092465,192,1.0803425673378797,{"$f":"IF(AB196<$R$13,(-0.00011*$AB196^3+0.02188*$AB196^2 + 0.80366*$AB196 - 9.4)*$U$7/1.775,(0.00463*$AB196^2 + 1.68*$AB196 - 22.05)*$U$11/3.069)","v":860.20001755851865},4.1768875451984968]
[null,null,null,null,null,null,null,null,null,null,null,null,null,null,null,null,null,null,null,null,null,null,null,null,null,null,193,336.9812105690649,193,{"$f":"AB197-AB196","v":1.0644966781402445},864.32418110194703,{"$f":"AE197-AE196","v":4.1241635434283808}]
[null,null,null,null,null,null,null,null,null,null,null,null,null,null,null,null,null,null,null,null,null,null,null,null,null,null,194,{"$f":"IF(AB197<60,AJ198*2.2046,( -0.0000000283*AB197^3 - 0.0000208677*AB197^2 + 0.0088789486*AB197+ 1.0393148087+($V$11-1.68))+AB197)","v":338.02998101889881},194,1.0487704498339099,868.39570708660119,4.0715259846541585]
[null,null,null,null,null,null,null,null,null,null,null,null,null,null,null,null,null,null,null,null,null,null,null,null,null,null,195,339.06314791281056,195,1.0331668939117549,872.41470301601714,4.0189959294159507]
[null,null,null,null,null,null,null,null,null,null,null,null,null,null,null,null,null,null,null,null,null,null,null,null,null,null,196,340.08083678383292,196,1.0176888710223579,876.38129684015371,3.9665938241365666]
[null,null,null,null,null,null,null,null,null,null,null,null,null,null,null,null,null,null,null,null,null,null,null,null,null,null,197,341.08317587654005,197,1.0023390927071318,880.29563633715509,3.9143394970013787]
[null,null,null,null,null,null,null,null,null,null,null,null,null,null,null,null,null,null,null,null,null,null,null,null,null,null,198,342.07029599981797,198,0.98712012327791854,884.15788849210435,3.8622521549492603]
[null,null,null,null,null,null,null,null,null,null,null,null,null,null,null,null,null,null,null,null,null,null,null,null,null,null,199,343.04233038164409,199,0.9720343818261199,887.96823887381697,3.8103503817126239]
[null,null,null,null,null,null,null,null,null,null,null,null,null,null,null,null,null,null,null,null,null,null,null,null,null,null,200,343.99941452599859,200,0.9570841443544964,891.72689101070432,3.7586521368873491]
[null,null,null,null,null,null,null,null,null,null,null,null,null,null,null,null,null,null,null,null,null,null,null,null,null,null,201,344.94168607202209,201,0.94227154602350538,895.43406576668622,3.7071747559818959]
[null,null,null,null,null,null,null,null,null,null,null,null,null,null,null,null,null,null,null,null,null,null,null,null,null,null,202,345.86928465552478,202,0.92759858350268587,899.09000071809692,3.6559349514106998]
[null,null,null,null,null,null,null,null,null,null,null,null,null,null,null,null,null,null,null,null,null,null,null,null,null,null,203,346.78235177294476,203,0.9130671174199847,902.69494953247874,3.604948814381828]
[null,null,null,null,null,null,null,null,null,null,null,null,null,null,null,null,null,null,null,null,null,null,null,null,null,null,204,347.68103064784447,204,0.89867887489970144,906.24918135013252,3.5542318176537719]
[null,null,null,null,null,null,null,null,null,null,null,null,null,null,null,null,null,null,null,null,null,null,null,null,null,null,205,348.56546610002624,205,0.88443545218177633,909.7529801692325,3.503798819099984]
[null,null,null,null,null,null,null,null,null,null,null,null,null,null,null,null,null,null,null,null,null,null,null,null,null,null,206,349.43580441733991,206,0.87033831731366718,913.20664423528456,3.4536640660520561]
[null,null,null,null,null,null,null,null,null,null,null,null,null,null,null,null,null,null,null,null,null,null,null,null,null,null,207,350.29219323024847,207,0.85638881290856261,916.61048543566426,3.4038412003797021]
[null,null,null,null,null,null,null,null,null,null,null,null,null,null,null,null,null,null,null,null,null,null,null,null,null,null,208,351.13478138920937,208,0.84258815896089345,919.96482869992269,3.3543432642584321]
[null,null,null,null,null,null,null,null,null,null,null,null,null,null,null,null,null,null,null,null,null,null,null,null,null,null,209,351.9637188449222,209,0.82893745571283262,923.27001140651089,3.305182706588198]
[null,null,null,null,null,null,null,null,null,null,null,null,null,null,null,null,null,null,null,null,null,null,null,null,null,null,210,352.77915653148699,210,0.81543768656479187,926.52638279653786,3.2563713900269704]
[null,null,null,null,null,null,null,null,null,null,null,null,null,null,null,null,null,null,null,null,null,null,null,null,null,null,211,353.58124625250974,211,0.80208972102275311,929.73430339512254,3.2079205985846784]
[null,null,null,null,null,null,null,null,null,null,null,null,null,null,null,null,null,null,null,null,null,null,null,null,null,null,212,354.37014057018553,212,0.78889431767578344,932.89414444087731,3.1598410457547743]
[null,null,null,null,null,null,null,null,null,null,null,null,null,null,null,null,null,null,null,null,null,null,null,null,null,null,213,355.14599269738403,213,0.7758521271985046,936.0062873240131,3.1121428831357889]
[null,null,null,null,null,null,null,null,null,null,null,null,null,null,null,null,null,null,null,null,null,null,null,null,null,null,214,355.90895639275487,214,0.76296369537084274,939.07112303351039,3.064835709497288]

{"sheet":"(4) Temperature","index":5,"n_rows":402,"n_cols":48,"rows_kept":402,"cut":false,"hidden":false,"merged":[[18,2,18,11],[3,21,3,22],[0,2,0,11],[10,2,10,11],[1,2,1,11],[3,17,3,18],[14,2,14,11]]}
[null,null,"Step 4: Effects of Effective Environmental Temperature on F/G"]
[null,null,"Phase"]
[null,null,{"$f":"'(1) Setup'!E5","v":1},{"$f":"'(1) Setup'!F5","v":2},{"$f":"'(1) Setup'!G5","v":3},{"$f":"'(1) Setup'!H5","v":4},{"$f":"'(1) Setup'!I5","v":5},{"$f":"'(1) Setup'!J5","v":6},{"$f":"'(1) Setup'!K5","v":7},{"$f":"'(1) Setup'!L5","v":8},{"$f":"'(1) Setup'!M5","v":9},{"$f":"'(1) Setup'!N5","v":10},{"$f":"'(1) Setup'!O5","v":""},null,{"$f":"'(1) Setup'!P5","v":""}]
["Initial Weight, lb",null,{"$f":"IF(C3=\"\",\"\",'(1) Setup'!E7)","v":45},{"$f":"IF(D3=\"\",\"\",'(1) Setup'!F7)","v":90},{"$f":"IF(E3=\"\",\"\",'(1) Setup'!G7)","v":110},{"$f":"IF(F3=\"\",\"\",'(1) Setup'!H7)","v":130},{"$f":"IF(G3=\"\",\"\",'(1) Setup'!I7)","v":155},{"$f":"IF(H3=\"\",\"\",'(1) Setup'!J7)","v":185},{"$f":"IF(I3=\"\",\"\",'(1) Setup'!K7)","v":200},{"$f":"IF(J3=\"\",\"\",'(1) Setup'!L7)","v":225},{"$f":"IF(K3=\"\",\"\",'(1) Setup'!M7)","v":245},{"$f":"IF(L3=\"\",\"\",'(1) Setup'!N7)","v":265},null,null,null,null,null,"Zhang",null,null,null,"PIC"]
["Final Weight, lb",null,{"$f":"'(1) Setup'!E9","v":90},{"$f":"'(1) Setup'!F9","v":110},{"$f":"'(1) Setup'!G9","v":130},{"$f":"'(1) Setup'!H9","v":155},{"$f":"'(1) Setup'!I9","v":185},{"$f":"'(1) Setup'!J9","v":200},{"$f":"'(1) Setup'!K9","v":225},{"$f":"'(1) Setup'!L9","v":245},{"$f":"'(1) Setup'!M9","v":265},{"$f":"'(1) Setup'!N9","v":300},{"$f":"IF(M3=11,(AVERAGE('(1) Setup'!O7,'(1) Setup'!O9)),\"\")","v":""},null,{"$f":"IF(O3=12,(AVERAGE('(1) Setup'!P7,'(1) Setup'!P9)),\"\")","v":""},null,"Weight","Winter ","Summer",null,null,"Weight","Temp",null,"Phase","Wt","Requirement","Adapted from Baker et al. (2004) & Mount (1975)",null,null,null,null,null,null,null,null,null,"Phase",{"$f":"C3","v":1},2,3,4,5,6,7,8,9,10]
["Ambient Temperature Requirement",null,{"$f":"VLOOKUP(AVERAGE(C4:C5),$V$6:$W$402,2,TRUE)","v":70.81919999999991},66.961539999999999,66.192339999999987,64.827594999999903,62.857279999999946,61.645900000000012,61,61,61,61,null,null,null,null,7,29,28,null,null,7,89,null,1,{"$f":"C5","v":90},{"$f":"IF(Z6=\"\",\"\",VLOOKUP(Z6,V6:W402,2,TRUE))","v":68.039899999999918},null,null,null,null,null,null,null,null,null,null,"Wt",{"$f":"AVERAGE(C4,C5)","v":67.5},100,120,142.5,170,192.5,212.5,235,255,282.5]
["Upper Critical Temperature¹",null,{"$f":"IF(C3=\"\",\"\",C8+(C8-C9))","v":81.326520813762556},{"$f":"IF(D3=\"\",\"\",D8+(D8-D9))","v":80.307830747311812},79.63869606488683,78.885784217363096,77.889343865165642,77.113492168953584,76.408299817841325,75.616469743456008,74.900181844729971,73.854680964785913]
["Estimated Temperature Requirement",null,{"$f":"IF(C3=\"\",\"\",((VLOOKUP(C27,$C$90:$E$275,3,TRUE))*(9/5)+32))","v":75.66132203373428},{"$f":"IF(D3=\"\",\"\",((VLOOKUP(D27,$C$90:$E$275,3,TRUE))*(9/5)+32))","v":74.284834698045813},73.398260827361341,72.415268864117166,71.134926839961793,70.151739867351864,69.266469502491105,68.280923635070721,67.395939032348224,66.115953633744482,null,null,null,null,20,26,24,null,null,8,89,null,2,{"$f":"D5","v":110},{"$f":"IF(Z8=\"\",\"\",VLOOKUP(Z8,V8:W404,2,TRUE))","v":66.576939999999993},"Floor",null,"Air Speed",null,"Building Insulation",null,"Evaporative Cooling",null,"Radiant Heat",null,"Est F/G",{"$f":"'(2) NE and SID Lysine'!C15","v":1.9177965021464118},{"$f":"'(2) NE and SID Lysine'!D15","v":2.0837273693773923},{"$f":"'(2) NE and SID Lysine'!E15","v":2.2009129457586143},{"$f":"'(2) NE and SID Lysine'!F15","v":2.3495658534939974},{"$f":"'(2) NE and SID Lysine'!G15","v":2.5609762126589106},{"$f":"'(2) NE and SID Lysine'!H15","v":2.7644948831219667},{"$f":"'(2) NE and SID Lysine'!I15","v":2.9746198518345239},{"$f":"'(2) NE and SID Lysine'!J15","v":3.2527619138802573},{"$f":"'(2) NE and SID Lysine'!K15","v":3.5476249819531938},{"$f":"'(2) NE and SID Lysine'!L15","v":3.4583205814923201}]
["Lower Critical Temperature¹",null,{"$f":"IF(C3=\"\",\"\",((VLOOKUP(C27,$C$90:$G$275,5,TRUE))*(9/5)+32))","v":69.996123253706003},{"$f":"IF(D3=\"\",\"\",((VLOOKUP(D27,$C$90:$G$275,5,TRUE))*(9/5)+32))","v":68.261838648779815},67.157825589835852,65.944753510871237,64.380509814757943,63.189987565750144,62.124639187140886,60.945377526685434,59.891696219966477,58.37722630270305]
["Cumulative Days on Feed",null,{"$f":"IF(C3=\"\",\"\",C65)","v":24.541053203073666},{"$f":"IF(D3=\"\",\"\",(C10+D65))","v":34.182864253880879},{"$f":"IF(E3=\"\",\"\",(D10+E65))","v":43.330488064923358},54.297219016607343,67.082571120395386,73.431766041180353,84.080820883992558,92.7837325530773,101.77298129286613,118.60465116279072]
[null,null,"Select Current Ambient Barn Temperatures",null,null,null,null,null,null,null,null,null,null,null,null,null,25,24,23,null,null,9,89,null,3,{"$f":"E5","v":130},{"$f":"IF(Z11=\"\",\"\",VLOOKUP(Z11,V11:W405,2,TRUE))","v":65.655174999999971},"Lying Mat",3,"Still Air",0,"Good",-1,"Cooling Cells",-6,"Yes",12,"CP",17,17,17,17,17,17,17,17,17,17]
["Current Ambient Barn Temperature",null,null,null,null,null,null,null,null,null,null,null,"Overall F/G",null,null,null,30,22,22,null,null,10,89,null,4,{"$f":"G5","v":185},{"$f":"IF(Z12=\"\",\"\",VLOOKUP(Z12,V12:W406,2,TRUE))","v":61.893770000000004},"Uncoated Wire",-5,"Minumum Ventilation (30 ft/min)",-4,"Moderate",-3,"Fogger/Mister",-6,"No",0,"Renadiau Pred from Req Temp",{"$f":"4.06+(((C6-32)*5/9)*AM13)+((((C6-32)*5/9)^2)*(AM14))+((AM6/2.204)*AM15)+((((C6-32)*5/9)*AM6)*AM16)+(AM11*AM17)","v":2.1749053658512292},2.5466722059864568,2.7624335718891113,2.9996249210585999,3.2788434116817013,3.4994939839836521,3.6920848804642503,3.9107637370885699,4.1051449429768541,4.3724191010732447]
["Current F/G",null,{"$f":"IF(C12=\"\",0,C36)","v":0},0,0,0,0,0,0,0,0,0,{"$f":"SUM(C37:L37)/SUM(C30:L30)","v":2.7500000000000004},null,null,null,35,21,20,null,null,11,89,null,5,{"$f":"G5","v":185},{"$f":"IF(Z13=\"\",\"\",VLOOKUP(Z13,V13:W407,2,TRUE))","v":61.893770000000004},"Plastic Coated Wire",-3,"Stage 2 Ventilation (90 ft/min)",-7,"Poor",-13,"Dripper",-10,null,null,"Temp Coeffic",{"$f":"-1.5*10^-1","v":-0.15000000000000002},{"$f":"-1.5*10^-1","v":-0.15000000000000002},-0.15000000000000002,-0.15000000000000002,-0.15000000000000002,-0.15000000000000002,-0.15000000000000002,-0.15000000000000002,-0.15000000000000002,-0.15000000000000002]
[null,null,null,null,null,null,null,null,null,null,null,null,null,null,null,null,40,20,19,null,null,12,89,null,6,{"$f":"H5","v":200},{"$f":"IF(Z14=\"\",\"\",VLOOKUP(Z14,V14:W408,2,TRUE))","v":61.362620000000021},"Extruded Plastic",-3,"Full Ventilation (300 ft/min)",-10,null,null,"Sprinkler",-10,null,null,"Temp Squared Coeff",{"$f":"2.89*10^-3","v":2.8900000000000002E-3},{"$f":"2.89*10^-3","v":2.8900000000000002E-3},2.8900000000000002E-3,2.8900000000000002E-3,2.8900000000000002E-3,2.8900000000000002E-3,2.8900000000000002E-3,2.8900000000000002E-3,2.8900000000000002E-3,2.8900000000000002E-3]
[null,null,"Select Scenario 1 Ambient Barn Temperatures",null,null,null,null,null,null,null,null,null,null,null,null,null,null,null,null,null,null,13,88.42,null,null,null,null,"Dry Concrete Slats",{"$f":"-5","v":-5},null,null,null,null,"None",0,null,null,"Weight, kg Coeffic",{"$f":"1.02*10^-2","v":1.0200000000000001E-2},{"$f":"1.02*10^-2","v":1.0200000000000001E-2},1.0200000000000001E-2,1.0200000000000001E-2,1.0200000000000001E-2,1.0200000000000001E-2,1.0200000000000001E-2,1.0200000000000001E-2,1.0200000000000001E-2,1.0200000000000001E-2]
["Scenario 1 Ambient Temperature",null,null,null,null,null,null,null,null,null,null,null,"Overall F/G","% Change",null,null,45,18,17,null,null,14,87.84,null,7,{"$f":"I5","v":225},{"$f":"IF(Z16=\"\",\"\",VLOOKUP(Z16,V15:W409,2,TRUE))","v":61},"Wet Concrete",-10,null,null,null,null,null,null,null,null,"T x W Coeffic",{"$f":"3.16*10^-4","v":3.1600000000000004E-4},{"$f":"3.16*10^-4","v":3.1600000000000004E-4},3.1600000000000004E-4,3.1600000000000004E-4,3.1600000000000004E-4,3.1600000000000004E-4,3.1600000000000004E-4,3.1600000000000004E-4,3.1600000000000004E-4,3.1600000000000004E-4]
["Scenario 1 F/G",null,{"$f":"IF(C16=\"\",0,C42-C43)","v":0},0,0,0,0,0,0,0,0,0,{"$f":"SUM(C44:L44)/SUM(C30:L30)","v":0},{"$f":"IF(C16=\"\",0,ABS((M13-M17)/M13))","v":0},null,null,50,17,16,null,null,15,87.26,null,8,{"$f":"J5","v":245},61,null,null,null,null,null,null,null,null,null,null,"CP Coeffic",{"$f":"-4.51*10^-2","v":-4.5100000000000001E-2},{"$f":"-4.51*10^-2","v":-4.5100000000000001E-2},-4.5100000000000001E-2,-4.5100000000000001E-2,-4.5100000000000001E-2,-4.5100000000000001E-2,-4.5100000000000001E-2,-4.5100000000000001E-2,-4.5100000000000001E-2,-4.5100000000000001E-2]
[null,null,null,null,null,null,null,null,null,null,null,null,null,null,null,null,55,17,15,null,null,16,86.68,null,9,{"$f":"K5","v":265},61,null,null,null,null,null,null,null,null,null,null,"Renadiau Pred from actual temp",{"$f":"4.06+(((C12-32)*5/9)*AM13)+((((C12-32)*5/9)^2)*(AM14))+((AM6/2.204)*AM15)+((((C12-32)*5/9)*AM6)*AM16)+(AM11*AM17)","v":6.8065359525890079},6.774366523268581,6.7545699513790858,6.7322988080034056,6.7050785216553521,6.6828073782796711,6.6630108063901767,6.6407396630144957,6.6209430911250031,6.5937228047769487]
[null,null,"Select Scenario 2 Ambient Barn Temperatures",null,null,null,null,null,null,null,null,null,null,null,null,null,60,17,15,null,null,17,86.100000000000009,null,10,{"$f":"L5","v":300},61,null,null,null,null,null,null,null,null,null,null,"% Diff",{"$f":"1-(AM18/AM12)","v":-2.1295779850747758},-1.6600857807078948,-1.4451519921110436,-1.2443802092521303,-1.0449523444049902,-0.90964962616460654,-0.80467432957618135,-0.69806720872335282,-0.61284027314363554,-0.50802625557062164]
["Scenario 2 Ambient Temperature",null,null,null,null,null,null,null,null,null,null,null,"Overall F/G","% Change",null,null,70,17,15,null,null,18,85.52000000000001,null,11,{"$f":"M5","v":""},""]
["Scenario 2 F/G",null,{"$f":"IF(C20=\"\",0,C50-C51)","v":0},0,0,0,0,0,0,0,0,0,{"$f":"SUM(C52:L52)/SUM(C30:L30)","v":0},{"$f":"IF(C20=\"\",0,ABS((M13-M21)/M13))","v":0},null,null,80,17,15,null,null,19,84.940000000000012,null,12,{"$f":"O5","v":""},""]
[null,null,null,null,null,null,null,null,null,null,null,null,null,null,null,null,90,17,15,null,null,20,84.360000000000014]
[null,null,null,null,null,null,null,null,null,null,null,null,null,null,null,null,null,null,null,null,null,21,83.780000000000015]
["¹ The upper and lower critical temperatures represent the temperature required to give a range in predicted F/G of approximately 1.5% above and below the estimated temperature requirement.",null,null,null,null,null,null,null,null,null,null,null,null,null,null,null,null,null,null,null,null,22,83.200000000000017]
["Current Scenario",null,null,null,null,null,null,null,null,null,null,null,null,null,null,null,null,null,null,null,null,23,82.620000000000019]
["Temp in C",null,{"$f":"(C12-32)*(5/9)","v":-17.777777777777779},-17.777777777777779,-17.777777777777779,-17.777777777777779,-17.777777777777779,-17.777777777777779,-17.777777777777779,-17.777777777777779,-17.777777777777779,-17.777777777777779,null,null,null,null,null,null,null,null,null,24,82.04000000000002]
["Average BW, kg",null,{"$f":"IF(C3=\"\",0,ROUND((AVERAGE(C4:C5)/2.204),0))","v":31},{"$f":"IF(D3=\"\",0,ROUND((AVERAGE(D4:D5)/2.204),2))","v":45.37},54.45,64.66,77.13,87.34,96.42,106.62,115.7,128.18,null,null,null,null,null,null,null,null,null,25,81.460000000000022]
["Constant",null,17,17,17,17,17,17,17,17,17,17,null,null,null,null,null,null,null,null,null,26,80.880000000000024]
["Renaudeau Predicted F/G",null,{"$f":"4.06+(C26*AM13)+((C26^2)*AM14)+(C27*AM15)+((C26*C27)*AM16)+(C28*AM17)","v":7.0153982716049388},7.0812448049382715,7.1228513827160489,7.169635871604938,7.2267761827160495,7.2735606716049386,7.315167249382716,7.3619059160493823,7.4035124938271615,7.4606986271604931,null,null,null,null,null,null,null,null,null,27,80.300000000000026]
["Renaudeau Gain",null,{"$f":"IF(C3=\"\",0,(C5-C4))","v":45},20,20,25,30,15,25,20,20,35,null,null,null,null,null,null,null,null,null,28,79.720000000000027]
["Renaudeau Feed Intake",null,{"$f":"IF(C3=\"\",0,C29*C30)","v":315.69292222222225},141.62489609876542,142.45702765432097,179.24089679012346,216.80328548148148,109.10341007407408,182.87918123456791,147.23811832098764,148.07024987654324,261.12445195061724,null,null,null,null,null,null,null,null,null,29,79.140000000000029]
["Renadudeau Overall F/G",null,{"$f":"SUM(C31:L31)/SUM(C30:L30)","v":7.2322919204066807},null,null,null,null,null,null,null,null,null,null,null,null,null,null,null,null,null,null,30,78.560000000000031]
["Producer Current F/G",null,{"$f":"'(1) Setup'!B21","v":2.75},null,null,null,null,null,null,null,null,null,null,null,null,null,null,null,null,null,null,31,78]
["Difference from Producer to Ren.",null,{"$f":"1-C33/C32","v":0.61976092360976431},null,null,null,null,null,null,null,null,null,null,null,null,null,null,null,null,null,null,32,77.75]
["Adjustment for Renaudeau",null,{"$f":"IF(C3=\"\",0,C29*$C$34)","v":4.3478697123002208},4.3886788206153886,4.4144649516871857,4.4434601497315738,4.4788734817211457,4.5078686797655347,4.5336548108373309,4.5626216100589536,4.5884077411307507,4.623849471943088,null,null,null,null,null,null,null,null,null,33,77.5]
["Renaudeau Adjusted F/G",null,{"$f":"C29-C35","v":2.667528559304718},{"$f":"D29-D35","v":2.6925659843228829},2.7083864310288632,2.7261757218733642,2.7479027009949037,2.7656919918394038,2.7815124385453851,2.7992843059904287,2.8151047526964108,2.8368491552174051,null,null,null,null,null,null,null,null,null,34,77.25]
["Renaudeau Adjusted Intake",null,{"$f":"C30*C36","v":120.03878516871231},{"$f":"D30*D36","v":53.851319686457657},{"$f":"E30*E36","v":54.167728620577265},{"$f":"F30*F36","v":68.154393046834102},{"$f":"G30*G36","v":82.437081029847107},41.485379877591058,69.537810963634627,55.985686119808577,56.302095053928213,99.289720432609172,null,null,null,null,null,null,null,null,null,35,77]
["Renaudeau Adjusted Overall F/G",null,{"$f":"SUM(C37:L37)/SUM(C30:L30)","v":2.7500000000000004},null,null,null,null,null,null,null,null,null,null,null,null,null,null,null,null,null,null,36,76.75]
["Scenario 1   ",null,null,null,null,null,null,null,null,null,null,null,null,null,null,null,null,null,null,null,null,37,76.5]
["Temp. in C",null,{"$f":"(C16-32)*(5/9)","v":-17.777777777777779},-17.777777777777779,-17.777777777777779,-17.777777777777779,-17.777777777777779,-17.777777777777779,-17.777777777777779,-17.777777777777779,-17.777777777777779,-17.777777777777779,null,null,null,null,null,null,null,null,null,38,76.25]
["Avg BW, kg",null,{"$f":"C27","v":31},{"$f":"D27","v":45.37},54.45,64.66,77.13,87.34,96.42,106.62,115.7,128.18,null,null,null,null,null,null,null,null,null,39,76]
["Renaudeau Predicted F/G",null,{"$f":"4.06+(C40*AM13)+((C40^2)*AM14)+(C27*AM15)+((C40*C27)*AM16)+(C28*AM17)","v":7.0153982716049388},7.0812448049382715,7.1228513827160489,7.169635871604938,7.2267761827160495,7.2735606716049386,7.315167249382716,7.3619059160493823,7.4035124938271615,7.4606986271604931,null,null,null,null,null,null,null,null,null,40,75.75]
["Change for Scenario 1",null,{"$f":"IF(C3=\"\",0,C42*$C$34)","v":4.3478697123002208},4.3886788206153886,4.4144649516871857,4.4434601497315738,4.4788734817211457,4.5078686797655347,4.5336548108373309,4.5626216100589536,4.5884077411307507,4.623849471943088,null,null,null,null,null,null,null,null,null,41,75.5]
["Scenario 1 Feed Intake",null,{"$f":"C17*C30","v":0},0,0,0,0,0,0,0,0,0,null,null,null,null,null,null,null,null,null,42,75.25]
["Scenario 1 Overall F/G",null,{"$f":"SUM(C44:L44)/SUM(C30:L30)","v":0},null,null,null,null,null,null,null,null,null,null,null,null,null,null,null,null,null,null,43,75]
[null,null,null,null,null,null,null,null,null,null,null,null,null,null,null,null,null,null,null,null,null,44,74.75]
["Scenario 2",null,null,null,null,null,null,null,null,null,null,null,null,null,null,null,null,null,null,null,null,45,74.5]
["Temp. in C",null,{"$f":"(C20-32)*(5/9)","v":-17.777777777777779},-17.777777777777779,-17.777777777777779,-17.777777777777779,-17.777777777777779,-17.777777777777779,-17.777777777777779,-17.777777777777779,-17.777777777777779,-17.777777777777779,null,null,null,null,null,null,null,null,null,46,74.25]
["Avg BW, kg",null,{"$f":"C41","v":31},45.37,54.45,64.66,77.13,87.34,96.42,106.62,115.7,128.18,null,null,null,null,null,null,null,null,null,47,74]
["Renaudeau Predicted F/G",null,{"$f":"4.06+(C48*AM13)+((C48^2)*AM14)+(C27*AM15)+((C48*C27)*AM16)+(C28*AM17)","v":7.0153982716049388},7.0812448049382715,7.1228513827160489,7.169635871604938,7.2267761827160495,7.2735606716049386,7.315167249382716,7.3619059160493823,7.4035124938271615,7.4606986271604931,null,null,null,null,null,null,null,null,null,48,73.75]
["Change For Scenario 2",null,{"$f":"IF(C3=\"\",0,C50*$C$34)","v":4.3478697123002208},4.3886788206153886,4.4144649516871857,4.4434601497315738,4.4788734817211457,4.5078686797655347,4.5336548108373309,4.5626216100589536,4.5884077411307507,4.623849471943088,null,null,null,null,null,null,null,null,null,49,73.5]
["Scenario 2 Feed Intake",null,{"$f":"C21*C30","v":0},0,0,0,0,0,0,0,0,0,null,null,null,null,null,null,null,null,null,50,73.25]
["Scenario 2 Overall F/G",null,{"$f":"SUM(C52:L52)/SUM(C30:L30)","v":0},null,null,null,null,null,null,null,null,null,null,null,null,null,null,null,null,null,null,51,73]
[null,null,null,null,null,null,null,null,null,null,null,null,null,null,null,null,null,null,null,null,null,52,72.863699999999994]
["Days on Feed",null,{"$f":"('(1) Setup'!B9-'(1) Setup'!B7)/'(1) Setup'!B19","v":118.6046511627907},null,null,null,null,null,null,null,null,null,null,null,null,null,null,null,null,null,null,53,72.727399999999989]
["Overall ADG",null,{"$f":"'(1) Setup'!B19","v":2.15},null,null,null,null,null,null,null,null,null,null,null,null,null,null,null,null,null,null,54,72.591099999999983]
["NE kcal/kg",null,{"$f":"1150/2.204","v":521.77858439201452},{"$f":"1150/2.204","v":521.77858439201452},521.77858439201452,521.77858439201452,521.77858439201452,521.77858439201452,521.77858439201452,521.77858439201452,521.77858439201452,521.77858439201452,null,null,null,null,null,null,null,null,null,55,72.454799999999977]
["Avg BW, kg",null,{"$f":"IF(C3=\"\",0,(AVERAGE(C4:C5)/2.204))","v":30.626134301270415},45.372050816696913,54.446460980036292,64.655172413793096,77.132486388384748,87.341197822141552,96.415607985480932,106.62431941923774,115.69872958257713,128.17604355716878,null,null,null,null,null,null,null,null,null,56,72.318499999999972]
["Sues Predicted ADG",null,{"$f":"IF(C3=\"\",0,((0.1135*C57+8.8142*C58-0.05068*C58*C58+275.99)/453.6))","v":1.2293230253643208},1.3906507633037135,1.4657786737195513,1.5283031876714732,1.5730961246029267,1.5838691438115655,1.5738945962051147,1.5406788448819626,1.4916031679139201,1.3940794943013453,null,null,null,null,null,null,null,null,null,57,72.182199999999966]
["Gain",null,{"$f":"IF(C3=\"\",0,(C5-C4))","v":45},20,20,25,30,15,25,20,20,35,null,null,null,null,null,null,null,null,null,58,72.045899999999961]
["Days on Feed",null,{"$f":"IF(C3=\"\",0,(C60/C59))","v":36.605513011247673},14.381756029448255,13.644624770838096,16.358010767542837,19.070671862199429,9.4704793376444272,15.884164073171469,12.98129072547386,13.40839201083957,25.106172311601604,null,null,null,null,null,null,null,null,null,59,71.909599999999955]
["Sues Predicted Days",null,{"$f":"SUM(C61:L61)","v":176.91107490000721},null,null,null,null,null,null,null,null,null,null,null,null,null,null,null,null,null,null,60,71.773299999999949]
["% Difference",null,{"$f":"1-C55/C62","v":0.32958040512823839},null,null,null,null,null,null,null,null,null,null,null,null,null,null,null,null,null,null,61,71.636999999999944]
["Adjustment",null,{"$f":"C61*$C$63","v":12.064459808174009},4.7399449786410406,4.4970009597956162,5.3912798158588542,6.2853197584113838,3.1212844168594609,5.2351092303592619,4.2783790563891184,4.4191432710507401,8.2745024416770185,null,null,null,null,null,null,null,null,null,62,71.500699999999938]
["Adjusted Days",null,{"$f":"C61-C64","v":24.541053203073666},{"$f":"D61-D64","v":9.6418110508072132},9.1476238110424788,10.966730951683981,12.785352103788046,6.3491949207849663,{"$f":"I61-I64","v":10.649054842812207},{"$f":"J61-J64","v":8.7029116690847417},{"$f":"K61-K64","v":8.989248739788831},{"$f":"L61-L64","v":16.831669869924585},null,null,null,null,null,null,null,null,null,63,71.364399999999932]
["Gain",null,{"$f":"C60","v":45},{"$f":"D60","v":20},20,25,30,15,25,20,20,35,null,null,null,null,null,null,null,null,null,64,71.228099999999927]
["ADG Corrected",null,{"$f":"IF(C3=\"\",0,(C66/C65))","v":1.833662134531534},2.074299101549558,2.1863601316723544,2.2796218955441008,2.3464351827363124,2.3625042524518234,2.347626185517699,2.2980814652004091,2.2248800293482396,2.0794134076108053,null,null,null,null,null,null,null,null,null,65,71.091799999999921]
["Total Days",null,{"$f":"SUM(C65:L65)","v":118.60465116279072},null,null,null,null,null,null,null,null,null,null,null,null,null,null,null,null,null,null,66,70.955499999999915]
[null,null,null,null,null,null,null,null,null,null,null,null,null,null,null,null,null,null,null,null,null,67,70.81919999999991]
[null,null,null,null,null,null,null,null,null,null,null,null,null,null,null,null,null,null,null,null,null,68,70.682899999999904]
[null,null,null,null,null,null,null,null,null,null,null,null,null,null,null,null,null,null,null,null,null,69,70.546599999999899]
[null,null,null,null,null,null,null,null,null,null,null,null,null,null,null,null,null,null,null,null,null,70,70.410299999999893]
[null,null,null,null,null,null,null,null,null,null,null,null,null,null,null,null,null,null,null,null,null,71,70.273999999999887]
[null,null,null,null,null,null,null,null,null,null,null,null,null,null,null,null,null,null,null,null,null,72,70.137699999999882]
[null,null,null,null,null,null,null,null,null,null,null,null,null,null,null,null,null,null,null,null,null,73,70]
[null,null,null,null,null,null,null,null,null,null,null,null,null,null,null,null,null,null,null,null,null,74,69.884699999999995]
[null,null,null,null,null,null,null,null,null,null,null,null,null,null,null,null,null,null,null,null,null,75,69.76939999999999]
[null,null,null,null,null,null,null,null,null,null,null,null,null,null,null,null,null,null,null,null,null,76,69.654099999999985]
[null,null,null,null,null,null,null,null,null,null,null,null,null,null,null,null,null,null,null,null,null,77,69.538799999999981]
[null,null,null,null,null,null,null,null,null,null,null,null,null,null,null,null,null,null,null,null,null,78,69.423499999999976]
[null,null,null,null,null,null,null,null,null,null,null,null,null,null,null,null,null,null,null,null,null,79,69.308199999999971]
[null,null,null,null,null,null,null,null,null,null,null,null,null,null,null,null,null,null,null,null,null,80,69.192899999999966]
[null,null,null,null,null,null,null,null,null,null,null,null,null,null,null,null,null,null,null,null,null,81,69.077599999999961]
[null,null,null,null,null,null,null,null,null,null,null,null,null,null,null,null,null,null,null,null,null,82,68.962299999999956]
[null,null,null,null,null,null,null,null,null,null,null,null,null,null,null,null,null,null,null,null,null,83,68.846999999999952]
[null,null,null,null,null,null,null,null,null,null,null,null,null,null,null,null,null,null,null,null,null,84,68.731699999999947]
[null,null,null,null,null,null,null,null,null,null,null,null,null,null,null,null,null,null,null,null,null,85,68.616399999999942]
[null,null,null,"Optimal","Optimal","1.5% Higher","1.5% Lower",null,null,null,null,null,null,null,null,null,null,null,null,null,null,86,68.501099999999937]
[null,null,"Wt","FG","Temp","FG","Temp","% Change",null,null,null,null,null,null,null,null,null,null,null,null,null,87,68.385799999999932]
[null,null,15,{"$f":"4.06+(E90*$AM$13)+((E90^2)*$AM$14)+(C90*$AM$15)+((E90*C90)*$AM$16)+($C$28*$AM$17)","v":1.6210000346161637},25.131418068622704,1.6453150351230952,22.230885367387181,{"$f":"(F90-D90)/D90","v":1.4999999992405316E-2},null,null,null,null,null,null,null,null,null,null,null,null,null,88,68.270499999999927]
[null,null,16,1.6391329499517786,25.077875265321993,1.6637199409138945,22.162153084799208,{"$f":"(F91-D91)/D91","v":1.4999997994573435E-2},null,null,null,null,null,null,null,null,null,null,null,null,null,89,68.155199999999923]
[null,null,17,1.6572485830161319,25.022476610613197,1.6821073114403244,22.089953268989458,1.4999999806275645E-2,null,null,null,null,null,null,null,null,null,null,null,null,null,90,68.039899999999918]
[null,null,18,1.6753469427128915,24.967244456768103,1.7004771467004991,22.018189273987023,1.4999999908624417E-2,null,null,null,null,null,null,null,null,null,null,null,null,null,91,67.924599999999913]
[null,null,19,1.6934280264409325,24.912580048642823,1.718829446693924,21.948107366903848,1.4999999915188328E-2,null,null,null,null,null,null,null,null,null,null,null,null,null,92,67.809299999999908]
[null,null,20,1.7114918364543272,24.857193203077451,1.7371642114202697,21.87578924842844,1.499999849203343E-2,null,null,null,null,null,null,null,null,null,null,null,null,null,93,67.693999999999903]
[null,null,21,1.729538369093945,24.802329322799849,1.7554814408806219,21.805060469271954,1.4999997831946161E-2,null,null,null,null,null,null,null,null,null,null,null,null,null,94,67.578699999999898]
[null,null,22,1.7475676210676125,24.748463336062752,1.7737811350746966,21.73707510001654,1.4999999823222783E-2,null,null,null,null,null,null,null,null,null,null,null,null,null,95,67.463399999999893]
[null,null,23,1.7655796003644917,24.693762510422928,1.7920632940023962,21.666922912769856,1.4999999791817433E-2,null,null,null,null,null,null,null,null,null,null,null,null,null,96,67.348099999999889]
[null,null,24,1.7835743035354561,24.639064570833614,1.8103279176635896,21.596864227799067,1.4999999761771429E-2,null,null,null,null,null,null,null,null,null,null,null,null,null,97,67.232799999999884]
[null,null,25,1.8015517305770601,24.584370418907145,1.8285750060583321,21.526897633575228,1.4999999735015177E-2,null,null,null,null,null,null,null,null,null,null,null,null,null,98,67.117499999999879]
[null,null,26,1.8195118814887481,24.529679668419643,1.8468045591865057,21.457021755045254,1.4999999711695392E-2,null,null,null,null,null,null,null,null,null,null,null,null,null,99,67]
[null,null,27,1.8374547562675225,24.474993046436701,1.8650165770479996,21.387235252311186,1.4999999693306326E-2,null,null,null,null,null,null,null,null,null,null,null,null,null,100,66.961539999999999]
[null,null,28,1.8553803549125782,24.420310441183023,1.8832110596430924,21.317536819359287,1.4999999680294942E-2,null,null,null,null,null,null,null,null,null,null,null,null,null,101,66.923079999999999]
[null,null,29,1.8732886774205073,24.365632842150621,1.9013880069715643,21.247925182915843,1.4999999674235672E-2,null,null,null,null,null,null,null,null,null,null,null,null,null,102,66.884619999999998]
[null,null,30,1.8911797237931891,24.310959334382694,1.9195474190334285,21.178399101266571,1.4999999673929232E-2,null,null,null,null,null,null,null,null,null,null,null,null,null,103,66.846159999999998]
[null,null,31,1.9090534940301991,24.256290018741261,1.9376892958288852,21.108957363169999,1.4999999679544386E-2,null,null,null,null,null,null,null,null,null,null,null,null,null,104,66.807699999999997]
[null,null,32,1.9269099878370688,24.201757272204166,1.9558136373579482,21.038961082110234,1.4999999846035048E-2,null,null,null,null,null,null,null,null,null,null,null,null,null,105,66.769239999999996]
[null,null,33,1.9447492056483218,24.147207991313543,1.9739204436206279,20.969928512969705,1.4999999942193736E-2,null,null,null,null,null,null,null,null,null,null,null,null,null,106,66.730779999999996]
[null,null,34,1.9625711474263698,24.092647258845112,1.9920097146168607,20.900953923247329,1.4999999989348322E-2,null,null,null,null,null,null,null,null,null,null,null,null,null,107,66.692319999999995]
[null,null,35,1.9803758131492217,24.038074528707067,2.0100814503466982,20.832035121487333,1.5000000000120233E-2,null,null,null,null,null,null,null,null,null,null,null,null,null,108,66.653859999999995]
[null,null,36,1.9981632027949408,23.98348725758018,2.0281356508102322,20.76316594748393,1.4999999986671413E-2,null,null,null,null,null,null,null,null,null,null,null,null,null,109,66.615399999999994]
[null,null,37,2.0159333163423563,23.928885456384482,2.0461723160074525,20.694345374385072,1.4999999960296752E-2,null,null,null,null,null,null,null,null,null,null,null,null,null,110,66.576939999999993]
[null,null,38,2.0336861537735498,23.874268801571272,2.0641914459382456,20.625571730474505,1.4999999930221547E-2,null,null,null,null,null,null,null,null,null,null,null,null,null,111,66.538479999999993]
[null,null,39,2.0514217150736118,23.819636733721495,2.0821930406026272,20.556842895586634,1.4999999903925764E-2,null,null,null,null,null,null,null,null,null,null,null,null,null,112,66.500019999999992]
[null,null,40,2.0691400002335056,23.764990132772194,2.1001771000006131,20.488159650828468,1.4999999885751984E-2,null,null,null,null,null,null,null,null,null,null,null,null,null,113,66.461559999999992]
[null,null,41,2.0868410092499969,23.710330747216116,2.1181436241321561,20.419524536274409,1.4999999877043424E-2,null,null,null,null,null,null,null,null,null,null,null,null,null,114,66.423099999999991]
[null,null,42,2.1045247421184627,23.655657411062162,2.1360926129972184,20.350934284203344,1.499999987977273E-2,null,null,null,null,null,null,null,null,null,null,null,null,null,115,66.38463999999999]
[null,null,43,2.1221911988451208,23.600973661031958,2.1540240665958947,20.282395052832918,1.499999989072482E-2,null,null,null,null,null,null,null,null,null,null,null,null,null,116,66.34617999999999]
[null,null,44,2.1398403794318832,23.546279270315345,2.1719379849281397,20.213905493217663,1.4999999908768083E-2,null,null,null,null,null,null,null,null,null,null,null,null,null,117,66.307719999999989]
[null,null,45,2.1574722838837865,23.491574832247675,2.189834367994004,20.145465915988787,1.4999999931382971E-2,null,null,null,null,null,null,null,null,null,null,null,null,null,118,66.269259999999989]
[null,null,46,2.1750869122099497,23.43686349387783,2.2077132157934023,20.077081757922937,1.4999999954164314E-2,null,null,null,null,null,null,null,null,null,null,null,null,null,119,66.230799999999988]
[null,null,47,{"$f":"4.06+(E122*$AM$13)+((E122^2)*$AM$14)+(C122*$AM$15)+((E122*C122)*$AM$16)+($C$28*$AM$17)","v":2.1926842644141895},23.382144029449329,2.2255745283263795,20.008749728333804,1.4999999975362218E-2,null,null,null,null,null,null,null,null,null,null,null,null,null,120,66.192339999999987]
[null,null,48,2.2102643405051445,23.327420305360867,2.2434183055928969,19.94047673846822,1.4999999991030575E-2,null,null,null,null,null,null,null,null,null,null,null,null,null,121,66.153879999999987]
[null,null,49,2.2278271404865428,23.272691409663945,2.2612445475930358,19.872260159975305,1.4999999999638594E-2,null,null,null,null,null,null,null,null,null,null,null,null,null,122,66.115419999999986]
[null,null,50,2.2453726643628724,23.217960795170086,2.2790532543266639,19.804106110641893,1.4999999999264463E-2,null,null,null,null,null,null,null,null,null,null,null,null,null,123,66.076959999999985]
[null,null,51,2.2629009121356378,23.163228953961525,2.296844425793783,19.736014802917765,1.4999999989443027E-2,null,null,null,null,null,null,null,null,null,null,null,null,null,124,66.038499999999985]
[null,null,52,2.2804118838056455,23.10849642637093,2.3146180619945538,19.667986561413898,1.4999999970103458E-2,null,null,null,null,null,null,null,null,null,null,null,null,null,125,66]
[null,null,53,2.2979055794267276,23.054234274102196,2.332374162928986,19.600452698020266,1.4999999917689194E-2,null,null,null,null,null,null,null,null,null,null,null,null,null,126,65.931034999999994]
[null,null,54,2.3153819988331481,22.999033792978523,2.3501127285967063,19.532125327686579,1.4999999905441501E-2,null,null,null,null,null,null,null,null,null,null,null,null,null,127,65.862069999999989]
[null,null,55,2.33284114214079,22.944943621241368,2.3678337589980885,19.464956805402814,1.4999999882197995E-2,null,null,null,null,null,null,null,null,null,null,null,null,null,128,65.793104999999983]
[null,null,56,2.3502830094219869,22.889581713349944,2.3855372541330122,19.396534183046779,1.4999999816913768E-2,null,null,null,null,null,null,null,null,null,null,null,null,null,129,65.724139999999977]
[null,null,57,2.3677076003405948,22.835637415064113,2.4032232140015606,19.329707177785497,1.4999999854651336E-2,null,null,null,null,null,null,null,null,null,null,null,null,null,130,65.655174999999971]
[null,null,58,2.385114915245107,22.780978812003017,2.4208916386036172,19.262173011366539,1.4999999844801451E-2,null,null,null,null,null,null,null,null,null,null,null,null,null,131,65.586209999999966]
[null,null,59,2.4025049543980281,22.72543712480557,2.4385425279391089,19.193669530427442,1.4999999677465932E-2,null,null,null,null,null,null,null,null,null,null,null,null,null,132,65.51724499999996]
[null,null,60,2.4198777166503653,22.671646398623142,2.4561758820087589,19.127282683253945,1.4999999838272037E-2,null,null,null,null,null,null,null,null,null,null,null,null,null,133,65.448279999999954]
[null,null,61,2.4372332031521524,22.616973506449565,2.4737917008115882,19.059925242959288,1.4999999840866056E-2,null,null,null,null,null,null,null,null,null,null,null,null,null,134,65.379314999999949]
[null,null,62,2.4545714135202585,22.562296236012603,2.491389984347987,18.992625452769506,1.4999999847193102E-2,null,null,null,null,null,null,null,null,null,null,null,null,null,135,65.310349999999943]
[null,null,63,2.471892347753712,22.507613877606971,2.5089707326178003,18.925382702927806,1.4999999857511045E-2,null,null,null,null,null,null,null,null,null,null,null,null,null,136,65.241384999999937]
[null,null,64,2.4891960058548612,22.452927146731763,2.5265339456211757,18.858196394928459,1.4999999870838448E-2,null,null,null,null,null,null,null,null,null,null,null,null,null,137,65.172419999999931]
[null,null,65,2.5064823878241325,22.398235629421311,2.5440796233582086,18.791065941243186,1.4999999886978714E-2,null,null,null,null,null,null,null,null,null,null,null,null,null,138,65.103454999999926]
[null,null,66,2.5237514936639092,22.343539750567142,2.5616077658286023,18.723990765057085,1.4999999904798266E-2,null,null,null,null,null,null,null,null,null,null,null,null,null,139,65.03448999999992]
[null,null,67,2.5410033233766463,22.288839908348365,2.579118373032689,18.656970299947488,1.4999999923413339E-2,null,null,null,null,null,null,null,null,null,null,null,null,null,140,64.965524999999914]
[null,null,68,2.5582378769643364,22.234136125209364,2.5966114449703741,18.590003989671871,1.4999999941980651E-2,null,null,null,null,null,null,null,null,null,null,null,null,null,141,64.896559999999909]
[null,null,69,2.5754551552528513,22.178672215398187,2.6140869816414787,18.521958210042882,1.4999999634951756E-2,null,null,null,null,null,null,null,null,null,null,null,null,null,142,64.827594999999903]
[null,null,70,2.5926551565490565,22.124028438978815,2.6315449830462652,18.455153587788296,1.4999999671754563E-2,null,null,null,null,null,null,null,null,null,null,null,null,null,143,64.758629999999897]
[null,null,71,2.6098378817118602,22.06938914906484,2.6489854491845515,18.388410483096536,1.4999999711481474E-2,null,null,null,null,null,null,null,null,null,null,null,null,null,144,64.689664999999891]
[null,null,72,2.627003330747339,22.014753027858514,2.6664083800564913,18.32172574229223,1.4999999751786437E-2,null,null,null,null,null,null,null,null,null,null,null,null,null,145,64.620699999999886]
[null,null,73,2.6441515036528669,21.960121898832785,2.6838137756619003,18.255102503223551,1.4999999793597448E-2,null,null,null,null,null,null,null,null,null,null,null,null,null,146,64.55173499999988]
[null,null,74,2.6612824004358004,21.905494028062339,2.7012016360009334,18.188536797675464,1.4999999834138604E-2,null,null,null,null,null,null,null,null,null,null,null,null,null,147,64.482769999999874]
[null,null,75,2.6783960210991311,21.850869143690769,2.7185719610735575,18.122027590119174,1.4999999872289014E-2,null,null,null,null,null,null,null,null,null,null,null,null,null,148,64.413804999999869]
[null,null,76,2.6954923656461536,21.796246717355984,2.7359247508797231,18.055573340350993,1.4999999906836021E-2,null,null,null,null,null,null,null,null,null,null,null,null,null,149,64.344839999999863]
[null,null,77,2.7125714340799698,21.741626022200993,2.7532600054195076,17.98917211930997,1.4999999936716206E-2,null,null,null,null,null,null,null,null,null,null,null,null,null,150,64.275874999999857]
[null,null,78,2.7296332264030609,21.687006183424423,2.7705777246928003,17.922821710002417,1.499999996105463E-2,null,null,null,null,null,null,null,null,null,null,null,null,null,151,64.206909999999851]
[null,null,79,{"$f":"4.06+(E154*$AM$13)+((E154^2)*$AM$14)+(C154*$AM$15)+((E154*C154)*$AM$16)+($C$28*$AM$17)","v":2.7466777426158187},21.632387665124369,2.7878779086992078,17.856522581008097,1.4999999979667031E-2,null,null,null,null,null,null,null,null,null,null,null,null,null,152,64.137944999999846]
[null,null,80,2.7637049827199602,21.57776942939039,2.8051605574397165,17.790272204407916,{"$f":"(F155-D155)/D155","v":1.499999999238589E-2},null,null,null,null,null,null,null,null,null,null,null,null,null,153,64.06897999999984]
[null,null,81,2.7807149467158188,21.523151081998744,2.8224256709137694,17.724069347134023,1.4999999998997865E-2,null,null,null,null,null,null,null,null,null,null,null,null,null,154,64]
[null,null,82,2.7977076346031882,21.468531730584957,2.8396732491213998,17.657911787047215,1.4999999999701133E-2,null,null,null,null,null,null,null,null,null,null,null,null,null,155,63.928579999999997]
[null,null,83,2.8146830463812123,21.41391149427966,2.8569032920626003,17.591799332073212,1.4999999994908792E-2,null,null,null,null,null,null,null,null,null,null,null,null,null,156,63.857159999999993]
[null,null,84,2.8316411820489202,21.359290103285723,2.8741157997373716,17.525731019194748,1.4999999985067881E-2,null,null,null,null,null,null,null,null,null,null,null,null,null,157,63.78573999999999]
[null,null,85,2.8485820416033412,21.30466553024317,2.8913107721457156,17.459702377026819,1.4999999971327614E-2,null,null,null,null,null,null,null,null,null,null,null,null,null,158,63.714319999999987]
[null,null,86,2.8655056250441429,21.250039609294909,2.9084882092876398,17.393716663796926,1.4999999953877196E-2,null,null,null,null,null,null,null,null,null,null,null,null,null,159,63.642899999999983]
[null,null,87,2.8824119323683366,21.195411037417706,2.9256481111631487,17.32777086986119,1.4999999933835644E-2,null,null,null,null,null,null,null,null,null,null,null,null,null,160,63.57147999999998]
[null,null,88,2.8993009635725513,21.140778989163849,2.9427904777721552,17.261862947049536,1.4999999912398065E-2,null,null,null,null,null,null,null,null,null,null,null,null,null,161,63.500059999999976]
[null,null,89,2.9161727186565103,21.086144556025875,2.9599153091147885,17.195994687242845,1.4999999889728947E-2,null,null,null,null,null,null,null,null,null,null,null,null,null,162,63.428639999999973]
[null,null,90,2.933027197614702,21.031505847142274,2.9770226051909741,17.130161923669075,1.499999986773104E-2,null,null,null,null,null,null,null,null,null,null,null,null,null,163,63.35721999999997]
[null,null,91,2.9498644004463275,20.976863575338378,2.9941123660007274,17.064365702840991,1.4999999846672614E-2,null,null,null,null,null,null,null,null,null,null,null,null,null,164,63.285799999999966]
[null,null,92,2.9666843271506678,20.922218183383382,3.0111845915440694,16.998606536947491,1.4999999826790329E-2,null,null,null,null,null,null,null,null,null,null,null,null,null,165,63.214379999999963]
[null,null,93,2.9834869777223947,20.867568130617371,3.0282392818209978,16.932880976984723,1.4999999809875882E-2,null,null,null,null,null,null,null,null,null,null,null,null,null,166,63.14295999999996]
[null,null,94,3.000272352161006,20.812913875940904,3.0452764368313976,16.867189578619794,1.49999997960107E-2,null,null,null,null,null,null,null,null,null,null,null,null,null,167,63.071539999999956]
[null,null,95,3.0170404504664163,20.75825584496236,3.062296056575486,16.801532836348471,1.4999999785244312E-2,null,null,null,null,null,null,null,null,null,null,null,null,null,168,63.000119999999953]
[null,null,96,3.0337912726381218,20.703594168050618,3.0792981410529991,16.735910659522716,1.4999999777606837E-2,null,null,null,null,null,null,null,null,null,null,null,null,null,169,62.928699999999949]
[null,null,97,3.0505248186726126,20.648927811455945,3.0962826902641778,16.670320634438898,1.4999999774293265E-2,null,null,null,null,null,null,null,null,null,null,null,null,null,170,62.857279999999946]
[null,null,98,3.0672410893917355,20.593050596968723,3.1132497042088856,16.603792122243391,1.4999999503225909E-2,null,null,null,null,null,null,null,null,null,null,null,null,null,171,62.785859999999943]
[null,null,99,3.0839400830412362,20.538409241414129,3.1301991828870857,16.538274253721102,1.4999999546110141E-2,null,null,null,null,null,null,null,null,null,null,null,null,null,172,62.714439999999939]
[null,null,100,3.1006218005521333,20.483772932763316,3.1471311262988904,16.472796887885828,1.4999999593138072E-2,null,null,null,null,null,null,null,null,null,null,null,null,null,173,62.643019999999936]
[null,null,101,3.1172862419231229,20.429142897145177,3.1640455344443117,16.407359698308341,1.4999999644672342E-2,null,null,null,null,null,null,null,null,null,null,null,null,null,174,62.571599999999933]
[null,null,102,3.13393340716111,20.374518397497887,3.180942407323232,16.341962363257409,1.4999999698367969E-2,null,null,null,null,null,null,null,null,null,null,null,null,null,175,62.500179999999929]
[null,null,103,3.1505632962718089,20.319899023794676,3.1978217449357333,16.27660456559174,1.4999999752376772E-2,null,null,null,null,null,null,null,null,null,null,null,null,null,176,62.428759999999926]
[null,null,104,3.1671759092614642,20.265284162075183,3.2146835472817328,16.211285992683354,1.4999999804667187E-2,null,null,null,null,null,null,null,null,null,null,null,null,null,177,62.357339999999922]
[null,null,105,3.1837712461332837,20.210674335660645,3.2315278143612662,16.146006336316375,1.4999999854255647E-2,null,null,null,null,null,null,null,null,null,null,null,null,null,178,62.285919999999919]
[null,null,106,3.2003493068942817,20.156068686150402,3.2483545461743986,16.080765292603019,1.4999999898980616E-2,null,null,null,null,null,null,null,null,null,null,null,null,null,179,62.214499999999916]
[null,null,107,3.2169100915490563,20.10146731587141,3.2651637427211022,16.015562561904403,1.4999999937458649E-2,null,null,null,null,null,null,null,null,null,null,null,null,null,180,62.143079999999912]
[null,null,108,3.2334536001039469,20.046869171613796,3.2819554040014185,15.950397848740344,1.4999999967809157E-2,null,null,null,null,null,null,null,null,null,null,null,null,null,181,62.071659999999909]
[null,null,109,3.2499798325632394,19.992273953167562,3.298729530015168,15.885270861720995,1.4999999988763005E-2,null,null,null,null,null,null,null,null,null,null,null,null,null,182,62]
[null,null,110,3.266488788930844,19.937681415939359,3.3154861207624933,15.820181313444873,1.4999999999291767E-2,null,null,null,null,null,null,null,null,null,null,null,null,null,183,61.964590000000001]
[null,null,111,{"$f":"4.06+(E186*$AM$13)+((E186^2)*$AM$14)+(C186*$AM$15)+((E186*C186)*$AM$16)+($C$28*$AM$17)","v":3.2829804692102211},19.883090808762457,3.3322251762434574,15.755128920439372,1.4999999998502253E-2,null,null,null,null,null,null,null,null,null,null,null,null,null,184,61.929180000000002]
[null,null,112,3.2994548734039908,19.828502027647222,3.3489466964579369,15.690113403089828,1.4999999985720732E-2,null,null,null,null,null,null,null,null,null,null,null,null,null,185,61.893770000000004]
[null,null,113,3.3159120014300854,19.773828589527081,3.3656506814059681,15.625386820315772,1.4999999986257624E-2,null,null,null,null,null,null,null,null,null,null,null,null,null,186,61.858360000000005]
[null,null,114,3.332351853309822,19.719119622460813,3.3823371310876218,15.560368856871584,1.4999999993443817E-2,null,null,null,null,null,null,null,null,null,null,null,null,null,187,61.822950000000006]
[null,null,115,3.3487744290731758,19.664410573526794,3.3990060455027407,15.495386788870263,1.4999999998049204E-2,null,null,null,null,null,null,null,null,null,null,null,null,null,188,61.787540000000007]
[null,null,116,3.3651797287202632,19.609702268061252,3.4156574246514957,15.43044200204503,1.5000000000127356E-2,null,null,null,null,null,null,null,null,null,null,null,null,null,189,61.752130000000008]
[null,null,117,3.3815677522507421,19.554993711695012,3.4322912685337998,15.365532246230934,1.4999999999791984E-2,null,null,null,null,null,null,null,null,null,null,null,null,null,190,61.716720000000009]
[null,null,118,3.3979384996642423,19.500286425645402,3.4489075771496616,15.30066030586941,1.499999999719112E-2,null,null,null,null,null,null,null,null,null,null,null,null,null,191,61.681310000000011]
[null,null,119,3.4142919709603055,19.44557979888112,3.4655063504990991,15.235824704278276,1.4999999992498889E-2,null,null,null,null,null,null,null,null,null,null,null,null,null,192,61.645900000000012]
[null,null,120,3.4306281661382299,19.390874229407075,3.4820875885820923,15.171025986161677,1.4999999985946897E-2,null,null,null,null,null,null,null,null,null,null,null,null,null,193,61.610490000000013]
[null,null,121,3.4469470851962152,19.336170968291952,3.4986512913987142,15.106266405599648,1.4999999978112754E-2,null,null,null,null,null,null,null,null,null,null,null,null,null,194,61.575080000000014]
[null,null,122,3.4632487281340154,19.281469082692066,3.5151974589488542,15.041543852048228,1.4999999969054639E-2,null,null,null,null,null,null,null,null,null,null,null,null,null,195,61.539670000000015]
[null,null,123,3.4795330949491587,19.22676993777155,3.5317260912325823,14.976860814107543,1.4999999959530826E-2,null,null,null,null,null,null,null,null,null,null,null,null,null,196,61.504260000000016]
[null,null,124,3.4958001856423921,19.172072076397335,3.5482371882498476,14.912214138867771,1.4999999949316195E-2,null,null,null,null,null,null,null,null,null,null,null,null,null,197,61.468850000000018]
[null,null,125,3.5120500002108956,19.117376921190949,3.5647307500007717,14.847606435946204,1.4999999939269825E-2,null,null,null,null,null,null,null,null,null,null,null,null,null,198,61.433440000000019]
[null,null,126,3.5282825386532082,19.0626846736637,3.5812067764851734,14.783037875722975,1.4999999929758199E-2,null,null,null,null,null,null,null,null,null,null,null,null,null,199,61.39803000000002]
[null,null,127,3.5444978009692862,19.007994768147064,3.5976652677031473,14.718507097126054,1.4999999920812981E-2,null,null,null,null,null,null,null,null,null,null,null,null,null,200,61.362620000000021]
[null,null,128,3.5606957871576768,18.953307574302492,3.6141062236547485,14.654014612612805,1.4999999912855971E-2,null,null,null,null,null,null,null,null,null,null,null,null,null,201,61.327210000000022]
[null,null,129,3.5768764972184952,18.898622651616968,3.6305296443398714,14.589559317115437,1.4999999905811318E-2,null,null,null,null,null,null,null,null,null,null,null,null,null,202,61.291800000000023]
[null,null,130,3.5930399311470715,18.843942044654685,3.6469355297586223,14.525145078480548,1.4999999901015497E-2,null,null,null,null,null,null,null,null,null,null,null,null,null,203,61.256390000000025]
[null,null,131,3.6091860889471974,18.789263563429579,3.6633238799108918,14.460767298183878,1.4999999897341526E-2,null,null,null,null,null,null,null,null,null,null,null,null,null,204,61.220980000000026]
[null,null,132,3.6253149706150207,18.734588932564346,3.6796946947967339,14.396429209585826,1.4999999895867781E-2,null,null,null,null,null,null,null,null,null,null,null,null,null,205,61.185570000000027]
[null,null,133,3.6414265761530187,18.679916851212813,3.6960479744161394,14.332127997739935,1.4999999895871979E-2,null,null,null,null,null,null,null,null,null,null,null,null,null,206,61.150160000000028]
[null,null,134,3.657520905559176,18.625248275643742,3.7123837187691433,14.267865364511248,1.4999999897903439E-2,null,null,null,null,null,null,null,null,null,null,null,null,null,207,61.114750000000029]
[null,null,135,3.6735979588359591,18.570582075112114,3.7287019278556746,14.203638865622501,1.4999999901234727E-2,null,null,null,null,null,null,null,null,null,null,null,null,null,208,61.07934000000003]
[null,null,136,3.6896577395306354,18.517423231361729,3.7450026016758122,14.14013767173344,1.4999998930040956E-2,null,null,null,null,null,null,null,null,null,null,null,null,null,209,61.043930000000032]
[null,null,137,3.7057002403106454,18.462712811642227,3.7612857402295536,14.075963091405933,1.4999999005383281E-2,null,null,null,null,null,null,null,null,null,null,null,null,null,210,61.008520000000033]
[null,null,138,3.7217254649248801,18.407994357327297,3.7775513435167696,14.01181926042478,1.4999999091286083E-2,null,null,null,null,null,null,null,null,null,null,null,null,null,211,61]
[null,null,139,3.7377334133835376,18.353268483406456,3.7937994115376439,13.947705980391255,1.4999999184894577E-2,null,null,null,null,null,null,null,null,null,null,null,null,null,212,61]
[null,null,140,3.7537240856959118,18.298535600391183,3.8100299442920282,13.883623055254317,1.4999999283558904E-2,null,null,null,null,null,null,null,null,null,null,null,null,null,213,61]
[null,null,141,3.7696974818732265,18.243796434999872,3.8262429417800177,13.81957029124951,1.4999999384219226E-2,null,null,null,null,null,null,null,null,null,null,null,null,null,214,61]
[null,null,142,3.7856536019209868,18.189050586405955,3.8424384040014967,13.75554749687946,1.4999999485345188E-2,null,null,null,null,null,null,null,null,null,null,null,null,null,215,61]
[null,null,143,{"$f":"4.06+(E218*$AM$13)+((E218^2)*$AM$14)+(C218*$AM$15)+((E218*C218)*$AM$16)+($C$28*$AM$17)","v":3.8015924458535348},18.134299397067558,3.8586163309565609,13.691554482860177,1.4999999583128119E-2,null,null,null,null,null,null,null,null,null,null,null,null,null,216,61]
[null,null,144,3.8175140136771297,18.079542562772218,3.8747767226451852,13.627591062098256,{"$f":"(F219-D219)/D219","v":1.4999999675940567E-2},null,null,null,null,null,null,null,null,null,null,null,null,null,217,61]
[null,null,145,3.8334183054041926,18.02478133572145,3.8909195790673898,13.563657049649043,1.4999999760562094E-2,null,null,null,null,null,null,null,null,null,null,null,null,null,218,61]
[null,null,146,3.8493053210427313,17.970016145608117,3.9070449002231209,13.499752262686719,1.4999999834969876E-2,null,null,null,null,null,null,null,null,null,null,null,null,null,219,61]
[null,null,147,3.8651750606012847,17.915247971187028,3.92315268611239,13.435876520464886,1.4999999897051501E-2,null,null,null,null,null,null,null,null,null,null,null,null,null,220,61]
[null,null,148,3.8810275240862442,17.860477697267637,3.9392429367353059,13.372029644282453,1.4999999945315525E-2,null,null,null,null,null,null,null,null,null,null,null,null,null,221,61]
[null,null,149,3.8968627115014147,17.805705525374513,3.955315652091715,13.308211457464914,1.499999997890073E-2,null,null,null,null,null,null,null,null,null,null,null,null,null,222,61]
[null,null,150,3.9126806228505142,17.750932493508792,3.9713708321816368,13.24442178531568,1.4999999997026298E-2,null,null,null,null,null,null,null,null,null,null,null,null,null,223,61]
[null,null,151,3.9284812581348474,17.696159672775714,3.9874084770051255,13.180660455090297,1.4999999999555902E-2,null,null,null,null,null,null,null,null,null,null,null,null,null,224,61]
[null,null,152,3.9442646173534115,17.641387871113249,4.0034285865621966,13.116927295968837,1.4999999986938987E-2,null,null,null,null,null,null,null,null,null,null,null,null,null,225,61]
[null,null,153,3.9600307005029736,17.586618167654805,4.0194311608528164,13.053222139026154,1.4999999960176624E-2,null,null,null,null,null,null,null,null,null,null,null,null,null,226,61]
[null,null,154,3.9757795075783404,17.53185141021692,4.0354161998769804,12.989544817199887,1.4999999920761422E-2,null,null,null,null,null,null,null,null,null,null,null,null,null,227,61]
[null,null,155,3.9915110385725638,17.477088450861391,4.0513837036347864,12.925895165258517,1.4999999870633978E-2,null,null,null,null,null,null,null,null,null,null,null,null,null,228,61]
[null,null,156,4.0072252934765684,17.422330324815103,4.0673336721261046,12.862273019786162,1.4999999812186176E-2,null,null,null,null,null,null,null,null,null,null,null,null,null,229,61]
[null,null,157,4.0229222722798381,17.367577983639517,4.08326610535096,12.798678219139997,1.4999999748174188E-2,null,null,null,null,null,null,null,null,null,null,null,null,null,230,61]
[null,null,158,4.0386019749712148,17.312832217216066,4.0991810033093516,12.735110603430424,1.4999999681466175E-2,null,null,null,null,null,null,null,null,null,null,null,null,null,231,61]
[null,null,159,4.0542644015388838,17.258093813148765,4.1150783660013204,12.671570014491815,1.4999999615060461E-2,null,null,null,null,null,null,null,null,null,null,null,null,null,232,61]
[null,null,160,4.0699095519669228,17.203364384123621,4.1309581934268627,12.608056295859621,1.4999999552922737E-2,null,null,null,null,null,null,null,null,null,null,null,null,null,233,61]
[null,null,161,4.0855374262496165,17.148643241658412,4.1468204855859829,12.544569292743141,1.4999999496424199E-2,null,null,null,null,null,null,null,null,null,null,null,null,null,234,61]
[null,null,162,4.1011480243669292,17.093932921759642,4.162665242478603,12.481108852003633,1.4999999450439231E-2,null,null,null,null,null,null,null,null,null,null,null,null,null,235,61]
[null,null,163,4.1167413463156475,17.039232638371335,4.1784924641048562,12.417674822118839,1.4999999415672302E-2,null,null,null,null,null,null,null,null,null,null,null,null,null,236,61]
[null,null,164,4.1323173920837464,16.984543697883591,4.1943021504646998,12.354267053173443,1.4999999394939316E-2,null,null,null,null,null,null,null,null,null,null,null,null,null,237,61]
[null,null,165,4.1478761616646329,16.929866681113143,4.2100943015580743,12.290885396829509,1.4999999389680885E-2,null,null,null,null,null,null,null,null,null,null,null,null,null,238,61]
[null,null,166,4.1634176550543094,16.875202114980237,4.2258689173850046,12.227529706299466,1.4999999400704025E-2,null,null,null,null,null,null,null,null,null,null,null,null,null,239,61]
[null,null,167,4.1789418722563436,16.820549594299159,4.2416259979455129,12.164199836326564,1.4999999426965971E-2,null,null,null,null,null,null,null,null,null,null,null,null,null,240,61]
[null,null,168,4.1944488132718405,16.765909676210413,4.2573655432395983,12.100895643163483,1.499999946803026E-2,null,null,null,null,null,null,null,null,null,null,null,null,null,241,61]
[null,null,169,4.2099384772030035,16.712721596107617,4.2730875532672403,12.038838723478303,1.4999999740184268E-2,null,null,null,null,null,null,null,null,null,null,null,null,null,242,61]
[null,null,170,4.2254108667701917,16.656668366716747,4.2887920280285217,11.974363719688196,1.4999999587442973E-2,null,null,null,null,null,null,null,null,null,null,null,null,null,243,61]
[null,null,171,4.240865979277844,16.602066420295074,4.3044789675233064,11.911135681428469,1.4999999659572995E-2,null,null,null,null,null,null,null,null,null,null,null,null,null,244,61]
[null,null,172,4.2563038156455377,16.54747639753781,4.3201483717516895,11.84793281524623,1.4999999734856507E-2,null,null,null,null,null,null,null,null,null,null,null,null,null,245,61]
[null,null,173,4.2717243758911225,16.492897955540183,4.3358002407136436,11.784754901210309,1.4999999809012536E-2,null,null,null,null,null,null,null,null,null,null,null,null,null,246,61]
[null,null,174,4.2871276600374593,16.438329372825603,4.3514345744091338,11.721601831982287,1.4999999876633644E-2,null,null,null,null,null,null,null,null,null,null,null,null,null,247,61]
[null,null,175,{"$f":"4.06+(E250*$AM$13)+((E250^2)*$AM$14)+(C250*$AM$15)+((E250*C250)*$AM$16)+($C$28*$AM$17)","v":4.3025136681017768},16.383770832000568,4.3670513728382225,11.658473473781266,1.499999993374084E-2,null,null,null,null,null,null,null,null,null,null,null,null,null,248,61]
[null,null,176,4.3178824001054261,16.329220767670339,4.3826506360008901,11.595369694173803,1.499999997542374E-2,null,null,null,null,null,null,null,null,null,null,null,null,null,249,61]
[null,null,177,4.3332338560668502,16.274677437704923,4.3982323638971526,11.532290362050443,1.4999999997530624E-2,null,null,null,null,null,null,null,null,null,null,null,null,null,250,61]
[null,null,178,4.3485680360003158,16.220139194007235,4.4137965565269131,11.469235347612871,1.4999999996916797E-2,null,null,null,null,null,null,null,null,null,null,null,null,null,251,61]
[null,null,179,4.363884939914989,16.165603892438597,4.4293432138902968,11.406204522343291,1.4999999971718539E-2,null,null,null,null,null,null,null,null,null,null,null,null,null,252,61]
[null,null,180,4.3791845678144252,16.111069831202609,4.4448723359872568,11.343197759001258,1.4999999921358701E-2,null,null,null,null,null,null,null,null,null,null,null,null,null,253,61]
[null,null,181,4.3944669196944908,16.056534458991383,4.4603839228176891,11.280214931601398,1.4999999847030595E-2,null,null,null,null,null,null,null,null,null,null,null,null,null,254,61]
[null,null,182,4.4097319955400653,16.001994375119629,4.475877974381743,11.217255915385417,1.4999999752496666E-2,null,null,null,null,null,null,null,null,null,null,null,null,null,255,61]
[null,null,183,4.4249797953305992,15.947447266559161,4.4913544906793925,11.154320586820447,1.4999999642672804E-2,null,null,null,null,null,null,null,null,null,null,null,null,null,256,61]
[null,null,184,4.4402103190302613,15.892888917188063,4.5068134717104957,11.091408823580247,1.4999999525873924E-2,null,null,null,null,null,null,null,null,null,null,null,null,null,257,61]
[null,null,185,4.4554235665998929,15.838316195695706,4.5222549174751929,11.02852050451469,1.499999941112257E-2,null,null,null,null,null,null,null,null,null,null,null,null,null,258,61]
[null,null,186,4.4706195379897018,15.7837248560945,4.5376788279734885,10.965655509648474,1.499999930970221E-2,null,null,null,null,null,null,null,null,null,null,null,null,null,259,61]
[null,null,187,4.4857982331453616,15.729110350518102,4.5530852032053231,10.90281372016296,1.4999999233755328E-2,null,null,null,null,null,null,null,null,null,null,null,null,null,260,61]
[null,null,188,4.5009596520178992,15.674468616188545,4.5684740431706468,10.839995018378083,1.499999919405612E-2,null,null,null,null,null,null,null,null,null,null,null,null,null,261,61]
[null,null,189,4.5161037945531701,15.619793396131241,4.5838453478695431,10.777199287732438,1.4999999202426534E-2,null,null,null,null,null,null,null,null,null,null,null,null,null,262,61]
[null,null,190,4.5312306607265214,15.565080328627023,4.5991991173020255,10.714426412775826,1.4999999263909969E-2,null,null,null,null,null,null,null,null,null,null,null,null,null,263,61]
[null,null,191,4.5463402505279031,15.510322822208902,4.6145353514680902,10.65167627915244,1.499999938021985E-2,null,null,null,null,null,null,null,null,null,null,null,null,null,264,61]
[null,null,192,4.5614325639948987,15.455514979509269,4.6298540503676415,10.588948773589346,1.499999954242869E-2,null,null,null,null,null,null,null,null,null,null,null,null,null,265,61]
[null,null,193,4.576507601221798,15.400650205865629,4.6451552140007921,10.526243783871237,1.4999999729196811E-2,null,null,null,null,null,null,null,null,null,null,null,null,null,266,61]
[null,null,194,4.5915653619677625,15.345430684709658,4.6604388423674497,10.463765128814394,1.499999999350345E-2,null,null,null,null,null,null,null,null,null,null,null,null,null,267,61]
[null,null,195,4.6066058477609282,15.290716450521028,4.6757049354677722,10.401018930521154,1.4999999997922573E-2,null,null,null,null,null,null,null,null,null,null,null,null,null,268,61]
[null,null,196,4.6216290574402166,15.236002492912679,4.690953493301639,10.338295470854359,1.499999999996088E-2,null,null,null,null,null,null,null,null,null,null,null,null,null,269,61]
[null,null,197,4.6366349910055558,15.181287953136009,4.7061845158691273,10.275592924226206,1.4999999999673953E-2,null,null,null,null,null,null,null,null,null,null,null,null,null,270,61]
[null,null,198,4.6516236484567504,15.126574386852228,4.7213980031701777,10.212914294871041,1.4999999997114136E-2,null,null,null,null,null,null,null,null,null,null,null,null,null,271,61]
[null,null,199,4.6665950428557412,15.069843430224507,4.7365939552049392,10.15048052523375,1.4999997151319533E-2,null,null,null,null,null,null,null,null,null,null,null,null,null,272,61]
[null,null,200,4.6815491599347769,15.014360645163993,4.7517723719733631,10.087930091113972,1.4999994582896683E-2,null,null,null,null,null,null,null,null,null,null,null,null,null,273,61]
[null,null,null,{"$f":"SUM(D90:D275)","v":595.25230178706431},null,null,null,null,null,null,null,null,null,null,null,null,null,null,null,null,null,274,61]
[null,null,null,null,null,null,null,null,null,null,null,null,null,null,null,null,null,null,null,null,null,275,61]
[null,null,null,null,null,null,null,null,null,null,null,null,null,null,null,null,null,null,null,null,null,276,61]
[null,null,null,null,null,null,null,null,null,null,null,null,null,null,null,null,null,null,null,null,null,277,61]
[null,null,null,null,null,null,null,null,null,null,null,null,null,null,null,null,null,null,null,null,null,278,61]
[null,null,null,null,null,null,null,null,null,null,null,null,null,null,null,null,null,null,null,null,null,279,61]
[null,null,null,null,null,null,null,null,null,null,null,null,null,null,null,null,null,null,null,null,null,280,61]
[null,null,null,null,null,null,null,null,null,null,null,null,null,null,null,null,null,null,null,null,null,281,61]
[null,null,null,null,null,null,null,null,null,null,null,null,null,null,null,null,null,null,null,null,null,282,61]
[null,null,null,null,null,null,null,null,null,null,null,null,null,null,null,null,null,null,null,null,null,283,61]
[null,null,null,null,null,null,null,null,null,null,null,null,null,null,null,null,null,null,null,null,null,284,61]
[null,null,null,null,null,null,null,null,null,null,null,null,null,null,null,null,null,null,null,null,null,285,61]
[null,null,null,null,null,null,null,null,null,null,null,null,null,null,null,null,null,null,null,null,null,286,61]
[null,null,null,null,null,null,null,null,null,null,null,null,null,null,null,null,null,null,null,null,null,287,61]
[null,null,null,null,null,null,null,null,null,null,null,null,null,null,null,null,null,null,null,null,null,288,61]
[null,null,null,null,null,null,null,null,null,null,null,null,null,null,null,null,null,null,null,null,null,289,61]
[null,null,null,null,null,null,null,null,null,null,null,null,null,null,null,null,null,null,null,null,null,290,61]
[null,null,null,null,null,null,null,null,null,null,null,null,null,null,null,null,null,null,null,null,null,291,61]
[null,null,null,null,null,null,null,null,null,null,null,null,null,null,null,null,null,null,null,null,null,292,61]
[null,null,null,null,null,null,null,null,null,null,null,null,null,null,null,null,null,null,null,null,null,293,61]
[null,null,null,null,null,null,null,null,null,null,null,null,null,null,null,null,null,null,null,null,null,294,61]
[null,null,null,null,null,null,null,null,null,null,null,null,null,null,null,null,null,null,null,null,null,295,61]
[null,null,null,null,null,null,null,null,null,null,null,null,null,null,null,null,null,null,null,null,null,296,61]
[null,null,null,null,null,null,null,null,null,null,null,null,null,null,null,null,null,null,null,null,null,297,61]
[null,null,null,null,null,null,null,null,null,null,null,null,null,null,null,null,null,null,null,null,null,298,61]
[null,null,null,null,null,null,null,null,null,null,null,null,null,null,null,null,null,null,null,null,null,299,61]
[null,null,null,null,null,null,null,null,null,null,null,null,null,null,null,null,null,null,null,null,null,300,61]
[null,null,null,null,null,null,null,null,null,null,null,null,null,null,null,null,null,null,null,null,null,301,61]
[null,null,null,null,null,null,null,null,null,null,null,null,null,null,null,null,null,null,null,null,null,302,61]
[null,null,null,null,null,null,null,null,null,null,null,null,null,null,null,null,null,null,null,null,null,303,61]
[null,null,null,null,null,null,null,null,null,null,null,null,null,null,null,null,null,null,null,null,null,304,61]
[null,null,null,null,null,null,null,null,null,null,null,null,null,null,null,null,null,null,null,null,null,305,61]
[null,null,null,null,null,null,null,null,null,null,null,null,null,null,null,null,null,null,null,null,null,306,61]
[null,null,null,null,null,null,null,null,null,null,null,null,null,null,null,null,null,null,null,null,null,307,61]
[null,null,null,null,null,null,null,null,null,null,null,null,null,null,null,null,null,null,null,null,null,308,61]
[null,null,null,null,null,null,null,null,null,null,null,null,null,null,null,null,null,null,null,null,null,309,61]
[null,null,null,null,null,null,null,null,null,null,null,null,null,null,null,null,null,null,null,null,null,310,61]
[null,null,null,null,null,null,null,null,null,null,null,null,null,null,null,null,null,null,null,null,null,311,61]
[null,null,null,null,null,null,null,null,null,null,null,null,null,null,null,null,null,null,null,null,null,312,61]
[null,null,null,null,null,null,null,null,null,null,null,null,null,null,null,null,null,null,null,null,null,313,61]
[null,null,null,null,null,null,null,null,null,null,null,null,null,null,null,null,null,null,null,null,null,314,61]
[null,null,null,null,null,null,null,null,null,null,null,null,null,null,null,null,null,null,null,null,null,315,61]
[null,null,null,null,null,null,null,null,null,null,null,null,null,null,null,null,null,null,null,null,null,316,61]
[null,null,null,null,null,null,null,null,null,null,null,null,null,null,null,null,null,null,null,null,null,317,61]
[null,null,null,null,null,null,null,null,null,null,null,null,null,null,null,null,null,null,null,null,null,318,61]
[null,null,null,null,null,null,null,null,null,null,null,null,null,null,null,null,null,null,null,null,null,319,61]
[null,null,null,null,null,null,null,null,null,null,null,null,null,null,null,null,null,null,null,null,null,320,61]
[null,null,null,null,null,null,null,null,null,null,null,null,null,null,null,null,null,null,null,null,null,321,61]
[null,null,null,null,null,null,null,null,null,null,null,null,null,null,null,null,null,null,null,null,null,322,61]
[null,null,null,null,null,null,null,null,null,null,null,null,null,null,null,null,null,null,null,null,null,323,61]
[null,null,null,null,null,null,null,null,null,null,null,null,null,null,null,null,null,null,null,null,null,324,61]
[null,null,null,null,null,null,null,null,null,null,null,null,null,null,null,null,null,null,null,null,null,325,61]
[null,null,null,null,null,null,null,null,null,null,null,null,null,null,null,null,null,null,null,null,null,326,61]
[null,null,null,null,null,null,null,null,null,null,null,null,null,null,null,null,null,null,null,null,null,327,61]
[null,null,null,null,null,null,null,null,null,null,null,null,null,null,null,null,null,null,null,null,null,328,61]
[null,null,null,null,null,null,null,null,null,null,null,null,null,null,null,null,null,null,null,null,null,329,61]
[null,null,null,null,null,null,null,null,null,null,null,null,null,null,null,null,null,null,null,null,null,330,61]
[null,null,null,null,null,null,null,null,null,null,null,null,null,null,null,null,null,null,null,null,null,331,61]
[null,null,null,null,null,null,null,null,null,null,null,null,null,null,null,null,null,null,null,null,null,332,61]
[null,null,null,null,null,null,null,null,null,null,null,null,null,null,null,null,null,null,null,null,null,333,61]
[null,null,null,null,null,null,null,null,null,null,null,null,null,null,null,null,null,null,null,null,null,334,61]
[null,null,null,null,null,null,null,null,null,null,null,null,null,null,null,null,null,null,null,null,null,335,61]
[null,null,null,null,null,null,null,null,null,null,null,null,null,null,null,null,null,null,null,null,null,336,61]
[null,null,null,null,null,null,null,null,null,null,null,null,null,null,null,null,null,null,null,null,null,337,61]
[null,null,null,null,null,null,null,null,null,null,null,null,null,null,null,null,null,null,null,null,null,338,61]
[null,null,null,null,null,null,null,null,null,null,null,null,null,null,null,null,null,null,null,null,null,339,61]
[null,null,null,null,null,null,null,null,null,null,null,null,null,null,null,null,null,null,null,null,null,340,61]
[null,null,null,null,null,null,null,null,null,null,null,null,null,null,null,null,null,null,null,null,null,341,61]
[null,null,null,null,null,null,null,null,null,null,null,null,null,null,null,null,null,null,null,null,null,342,61]
[null,null,null,null,null,null,null,null,null,null,null,null,null,null,null,null,null,null,null,null,null,343,61]
[null,null,null,null,null,null,null,null,null,null,null,null,null,null,null,null,null,null,null,null,null,344,61]
[null,null,null,null,null,null,null,null,null,null,null,null,null,null,null,null,null,null,null,null,null,345,61]
[null,null,null,null,null,null,null,null,null,null,null,null,null,null,null,null,null,null,null,null,null,346,61]
[null,null,null,null,null,null,null,null,null,null,null,null,null,null,null,null,null,null,null,null,null,347,61]
[null,null,null,null,null,null,null,null,null,null,null,null,null,null,null,null,null,null,null,null,null,348,61]
[null,null,null,null,null,null,null,null,null,null,null,null,null,null,null,null,null,null,null,null,null,349,61]
[null,null,null,null,null,null,null,null,null,null,null,null,null,null,null,null,null,null,null,null,null,350,61]
[null,null,null,null,null,null,null,null,null,null,null,null,null,null,null,null,null,null,null,null,null,351,61]
[null,null,null,null,null,null,null,null,null,null,null,null,null,null,null,null,null,null,null,null,null,352,61]
[null,null,null,null,null,null,null,null,null,null,null,null,null,null,null,null,null,null,null,null,null,353,61]
[null,null,null,null,null,null,null,null,null,null,null,null,null,null,null,null,null,null,null,null,null,354,61]
[null,null,null,null,null,null,null,null,null,null,null,null,null,null,null,null,null,null,null,null,null,355,61]
[null,null,null,null,null,null,null,null,null,null,null,null,null,null,null,null,null,null,null,null,null,356,61]
[null,null,null,null,null,null,null,null,null,null,null,null,null,null,null,null,null,null,null,null,null,357,61]
[null,null,null,null,null,null,null,null,null,null,null,null,null,null,null,null,null,null,null,null,null,358,61]
[null,null,null,null,null,null,null,null,null,null,null,null,null,null,null,null,null,null,null,null,null,359,61]
[null,null,null,null,null,null,null,null,null,null,null,null,null,null,null,null,null,null,null,null,null,360,61]
[null,null,null,null,null,null,null,null,null,null,null,null,null,null,null,null,null,null,null,null,null,361,61]
[null,null,null,null,null,null,null,null,null,null,null,null,null,null,null,null,null,null,null,null,null,362,61]
[null,null,null,null,null,null,null,null,null,null,null,null,null,null,null,null,null,null,null,null,null,363,61]
[null,null,null,null,null,null,null,null,null,null,null,null,null,null,null,null,null,null,null,null,null,364,61]
[null,null,null,null,null,null,null,null,null,null,null,null,null,null,null,null,null,null,null,null,null,365,61]
[null,null,null,null,null,null,null,null,null,null,null,null,null,null,null,null,null,null,null,null,null,366,61]
[null,null,null,null,null,null,null,null,null,null,null,null,null,null,null,null,null,null,null,null,null,367,61]
[null,null,null,null,null,null,null,null,null,null,null,null,null,null,null,null,null,null,null,null,null,368,61]
[null,null,null,null,null,null,null,null,null,null,null,null,null,null,null,null,null,null,null,null,null,369,61]
[null,null,null,null,null,null,null,null,null,null,null,null,null,null,null,null,null,null,null,null,null,370,61]
[null,null,null,null,null,null,null,null,null,null,null,null,null,null,null,null,null,null,null,null,null,371,61]
[null,null,null,null,null,null,null,null,null,null,null,null,null,null,null,null,null,null,null,null,null,372,61]
[null,null,null,null,null,null,null,null,null,null,null,null,null,null,null,null,null,null,null,null,null,373,61]
[null,null,null,null,null,null,null,null,null,null,null,null,null,null,null,null,null,null,null,null,null,374,61]
[null,null,null,null,null,null,null,null,null,null,null,null,null,null,null,null,null,null,null,null,null,375,61]
[null,null,null,null,null,null,null,null,null,null,null,null,null,null,null,null,null,null,null,null,null,376,61]
[null,null,null,null,null,null,null,null,null,null,null,null,null,null,null,null,null,null,null,null,null,377,61]
[null,null,null,null,null,null,null,null,null,null,null,null,null,null,null,null,null,null,null,null,null,378,61]
[null,null,null,null,null,null,null,null,null,null,null,null,null,null,null,null,null,null,null,null,null,379,61]
[null,null,null,null,null,null,null,null,null,null,null,null,null,null,null,null,null,null,null,null,null,380,61]
[null,null,null,null,null,null,null,null,null,null,null,null,null,null,null,null,null,null,null,null,null,381,61]
[null,null,null,null,null,null,null,null,null,null,null,null,null,null,null,null,null,null,null,null,null,382,61]
[null,null,null,null,null,null,null,null,null,null,null,null,null,null,null,null,null,null,null,null,null,383,61]
[null,null,null,null,null,null,null,null,null,null,null,null,null,null,null,null,null,null,null,null,null,384,61]
[null,null,null,null,null,null,null,null,null,null,null,null,null,null,null,null,null,null,null,null,null,385,61]
[null,null,null,null,null,null,null,null,null,null,null,null,null,null,null,null,null,null,null,null,null,386,61]
[null,null,null,null,null,null,null,null,null,null,null,null,null,null,null,null,null,null,null,null,null,387,61]
[null,null,null,null,null,null,null,null,null,null,null,null,null,null,null,null,null,null,null,null,null,388,61]
[null,null,null,null,null,null,null,null,null,null,null,null,null,null,null,null,null,null,null,null,null,389,61]
[null,null,null,null,null,null,null,null,null,null,null,null,null,null,null,null,null,null,null,null,null,390,61]
[null,null,null,null,null,null,null,null,null,null,null,null,null,null,null,null,null,null,null,null,null,391,61]
[null,null,null,null,null,null,null,null,null,null,null,null,null,null,null,null,null,null,null,null,null,392,61]
[null,null,null,null,null,null,null,null,null,null,null,null,null,null,null,null,null,null,null,null,null,393,61]
[null,null,null,null,null,null,null,null,null,null,null,null,null,null,null,null,null,null,null,null,null,394,61]
[null,null,null,null,null,null,null,null,null,null,null,null,null,null,null,null,null,null,null,null,null,395,61]
[null,null,null,null,null,null,null,null,null,null,null,null,null,null,null,null,null,null,null,null,null,396,61]
[null,null,null,null,null,null,null,null,null,null,null,null,null,null,null,null,null,null,null,null,null,397,61]
[null,null,null,null,null,null,null,null,null,null,null,null,null,null,null,null,null,null,null,null,null,398,61]
[null,null,null,null,null,null,null,null,null,null,null,null,null,null,null,null,null,null,null,null,null,399,61]
[null,null,null,null,null,null,null,null,null,null,null,null,null,null,null,null,null,null,null,null,null,400,61]

{"sheet":"(5) Feed Processing","index":6,"n_rows":38,"n_cols":38,"rows_kept":38,"cut":false,"hidden":false,"merged":[[15,22,15,24],[16,17,16,20],[16,27,16,30],[15,34,15,37],[0,1,0,8],[2,0,2,3],[2,5,2,8],[1,0,1,8],[15,13,15,15]]}
[null,null,null,null,null,null,null,null,null,null,null,null,null,"Meal","V-Lookup For Diet Form","Meal",1]
["Step 5: Evaluating Feed Processing Technologies",null,null,null,null,null,null,null,null,null,null,null,null,"Pellet",null,"Pellet",2]
["Pellet vs. Meal Diets",null,null,null,null,"Particle Size of Meal Diets "]
[null,"Initial Scenario","Scenario 1","Scenario 2",null,null,"Initial Scenario","Scenario 1","Scenario 2"]
["Diet form",{"$f":"'(1) Setup'!B12","v":"Pellet"},null,null,null,"Grain Particle Size, µ",{"$f":"'(1) Setup'!B13","v":550}]
[null,{"$f":"VLOOKUP(B5,$P$1:$Q$2,2,TRUE)","v":2},{"$f":"VLOOKUP(C5,$P$1:$Q$2,2,TRUE)","v":{"$error":"#N/A"}},{"$f":"VLOOKUP(D5,$P$1:$Q$2,2,TRUE)","v":{"$error":"#N/A"}}]
["Percentage Fines, %",{"$f":"'(1) Setup'!E12","v":55},null,null,null,"Overall F/G",{"$f":"'(1) Setup'!B21","v":2.75},{"$f":"IF(H5=\"\",0,($G$7-H10))","v":0},{"$f":"IF(I5=\"\",0,($G$7-I10))","v":0}]
["Overall F/G",{"$f":"'(1) Setup'!B21","v":2.75},{"$f":"$B$8-C11+C13+(IF(C7<$B$7,-C14,C14))","v":{"$error":"#N/A"}},{"$f":"$B$8-D11+D13+(IF(D7<$B$7,-D14,D14))","v":{"$error":"#N/A"}},null,"% Change",null,{"$f":"IF(H5=\"\",0,ABS(($G$7-H7)/$G$7))","v":0},{"$f":"IF(I5=\"\",0,ABS(($G$7-I7)/$G$7))","v":0}]
[]
["Initial F/G",{"$f":"B8","v":2.75},{"$f":"IF($B$5=\"Meal\",IF(C8>$B$8,$B$10,C8),C8)","v":{"$error":"#N/A"}},{"$f":"IF($B$5=\"Meal\",IF(D8>$B$8,$B$10,D8),D8)","v":{"$error":"#N/A"}},null,null,"Change",{"$f":"($G$5-H5)*0.000302","v":0.16610000000000003},{"$f":"($G$5-I5)*0.000302","v":0.16610000000000003}]
["Pellet to Meal Adjust",{"$f":"B10","v":2.75},{"$f":"IF($B$6-C6>0,$B$8*(-0.0612*(1-B7/60)),0)","v":{"$error":"#N/A"}},{"$f":"IF($B$6-D6>0,$B$8*(-0.0612*(1-B7/60)),0)","v":{"$error":"#N/A"}}]
[]
["Meal to Pellet Adjust",null,{"$f":"IF($B$6-C6<0,$B$8*-0.0612,0)","v":{"$error":"#N/A"}},{"$f":"IF($B$6-D6<0,$B$8*-0.0612,0)","v":{"$error":"#N/A"}}]
["Fines Adjust",null,{"$f":"IF(C5=\"Pellet\",ABS(($B$7-C7)*0.002857),0)","v":0},{"$f":"IF(D5=\"Pellet\",ABS(($B$7-D7)*0.002857),0)","v":0}]
[]
["% Change",null,{"$f":"ABS(($B$8-C8)/$B$8)","v":{"$error":"#N/A"}},{"$f":"ABS(($B$8-D8)/$B$8)","v":{"$error":"#N/A"}},null,null,null,null,null,null,null,null,null,"Perentage Fines Regression Data",null,null,null,null,null,null,null,null,"Particle Size Regression Data",null,null,null,null,null,null,null,null,null,null,null,"Effect of Pelleting on F/G"]
[null,null,null,null,null,null,null,null,null,null,null,null,null,"Paper","% Change in Fines","% Change in F/G",null,"Perentage Fines Regression Data",null,null,null,null,"Paper","% Change in Grain Micron Size","% Change in F/G",null,null,"Particle Size Regression Data",null,null,null,null,null,null,"Paper","Meal F/G","Pelleting F/G","% Change"]
[null,null,null,null,null,null,null,null,null,null,null,null,null,"Nemecheck et al. (2012)",0,0,null,null,null,null,null,null,"De Jong et al.  (2014)",0,0,null,null,null,null,null,null,null,null,null,"De Jong et al. (2013)",2.7,2.56,5.13]
[null,null,null,null,null,null,null,null,null,null,null,null,null,"Nemecheck et al. (2012)",41,6.9000000000000006E-2,null,null,null,null,null,null,"De Jong et al.  (2014)",253,-1.47E-2,null,null,null,null,null,null,null,null,null,"Potter et al. (2009)",2.12,2.0699999999999998,2.36]
[null,null,null,null,null,null,null,null,null,null,null,null,null,"Schell and Van Heugten (1998)",0,0,null,null,null,null,null,null,"De Jong et al.  (2014)",402,-3.6600000000000001E-2,null,null,null,null,null,null,null,null,null,"Potter et al. (2009)",2.83,2.68,5.3]
[null,null,null,null,null,null,null,null,null,null,null,null,null,"Schell and Van Heugten (1998)",0,0,null,null,null,null,null,null,"Nemechek et al. (2013)",0,0,null,null,null,null,null,null,null,null,null,"Wondra et al. (1995a)",3.37,3.14,6.6]
[null,null,null,null,null,null,null,null,null,null,null,null,null,"Schell and Van Heugten (1998)",9,3.4000000000000002E-2,null,null,null,null,null,null,"Nemechek et al. (2013)",300,-2.69E-2,null,null,null,null,null,null,null,null,null,"Wondra et al. (1995b)",3.35,3.16,5.67]
[null,null,null,null,null,null,null,null,null,null,null,null,null,"Schell and Van Heugten (1998)",10.5,0.01,null,null,null,null,null,null,"De Jong et al. (2012)",0,0,null,null,null,null,null,null,null,null,null,"Stark et al. (1994)",2.77,2.65,4.33]
[null,null,null,null,null,null,null,null,null,null,null,null,null,"Schell and Van Heugten (1998)",20,3.7999999999999999E-2,null,null,null,null,null,null,"De Jong et al. (2012)",325,-3.9399999999999998E-2,null,null,null,null,null,null,null,null,null,"Skoch et al. (1983)",3.1,2.91,6.1]
[null,null,null,null,null,null,null,null,null,null,null,null,null,"Schell and Van Heugten (1998)",22.5,0.03,null,null,null,null,null,null,"Mavromichalis et al. (2000)",0,0,null,null,null,null,null,null,null,null,null,"Baird (1973)",3.7,3.42,7.53]
[null,null,null,null,null,null,null,null,null,null,null,null,null,"Schell and Van Heugten (1998)",34,4.2999999999999997E-2,null,null,null,null,null,null,"Mavromichalis et al. (2000)",208,-3.2300000000000002E-2,null,null,null,null,null,null,null,null,null,"Harris et al. (1979)",3.83,3.55,7.45]
[null,null,null,null,null,null,null,null,null,null,null,null,null,"Schell and Van Heugten (1998)",37.5,0.04,null,null,null,null,null,null,"Mavromichalis et al. (2000)",222,-0.10340000000000001,null,null,null,null,null,null,null,null,null,"Tribble et al. (1975)",3.77,3.44,8.93]
[null,null,null,null,null,null,null,null,null,null,null,null,null,"Stark et al. (1994)",0,0,null,null,null,null,null,null,"Mavromichalis et al. (2000)",882,-0.1429,null,null,null,null,null,null,null,null,null,"Tribble et al.(1975)",4.0999999999999996,3.66,10.62]
[null,null,null,null,null,null,null,null,null,null,null,null,null,"Stark et al. (1994)",20,4.7E-2,null,null,null,null,null,null,"Wondra et al. (1995)",0,0,null,null,null,null,null,null,null,null,null,"Hanke et al. (1972)",3.45,3.23,6.45]
[null,null,null,null,null,null,null,null,null,null,null,null,null,"Stark et al. (1994)",40,4.2999999999999997E-2,null,null,null,null,null,null,"Wondra et al. (1995)",600,-5.0799999999999998E-2,null,null,null,null,null,null,null,null,null,"NCR 42 (1969)",3.23,3.13,3.13]
[null,null,null,null,null,null,null,null,null,null,null,null,null,"Stark et al. (1994)",60,0.06,null,null,null,null,null,null,"Wondra et al. (1995)",400,-5.8000000000000003E-2,null,null,null,null,null,null,null,null,null,null,null,"Average",{"$f":"AVERAGE(AL18:AL30)","v":6.1230769230769235}]
[null,null,null,null,null,null,null,null,null,null,null,null,null,null,null,null,null,null,null,null,null,null,"Wondra et al. (1995)",200,-6.5299999999999997E-2]
[null,null,null,null,null,null,null,null,null,null,null,null,null,null,null,null,null,null,null,null,null,null,"Goodband and Hines (1987)",0,0]
[null,null,null,null,null,null,null,null,null,null,null,null,null,null,null,null,null,null,null,null,null,null,"Goodband and Hines (1987)",188,-7.2300000000000003E-2]
[null,null,null,null,null,null,null,null,null,null,null,null,null,null,null,null,null,null,null,null,null,null,"Goodband and Hines (1987)",412,-9.9400000000000002E-2]
[null,null,null,null,null,null,null,null,null,null,null,null,null,null,null,null,null,null,null,null,null,null,"Paulk et al. (2015)",0,0]
[null,null,null,null,null,null,null,null,null,null,null,null,null,null,null,null,null,null,null,null,null,null,"Paulk et al. (2015)",151,-1.1070110701107083E-2]
[null,null,null,null,null,null,null,null,null,null,null,null,null,null,null,null,null,null,null,null,null,null,"Paulk et al. (2015)",254,-2.6515151515151381E-2]

{"sheet":"(6) Floor Space","index":7,"n_rows":17,"n_cols":7,"rows_kept":17,"cut":false,"hidden":false,"merged":[[0,0,0,3]]}
["Step 6: Effects of Floor Space on F/G"]
[null,"Initial","Scenario 1","Scenario 2","Scenario 3","Scenario 4","Scenario 5"]
["Initial BW, lb",{"$f":"'(1) Setup'!B7","v":45},{"$f":"$B$3","v":45},{"$f":"$B$3","v":45},{"$f":"$B$3","v":45},{"$f":"$B$3","v":45},{"$f":"$B$3","v":45}]
["Final BW, lb",{"$f":"'(1) Setup'!B9","v":300},{"$f":"$B$4","v":300},{"$f":"$B$4","v":300},{"$f":"$B$4","v":300},{"$f":"$B$4","v":300},{"$f":"$B$4","v":300}]
["Initial BW, kg",{"$f":"B3/2.204","v":20.417422867513611},{"$f":"C3/2.204","v":20.417422867513611},20.417422867513611,20.417422867513611,20.417422867513611,20.417422867513611]
["Final BW, kg",{"$f":"B4/2.204","v":136.11615245009074},{"$f":"C4/2.204","v":136.11615245009074},136.11615245009074,136.11615245009074,136.11615245009074,136.11615245009074]
["Floor Space/Pig, ft2",{"$f":"'(1) Setup'!B17","v":7.8},null,null,5.5,8,7.5]
["Floor Space/Pig, m2",{"$f":"B7*0.092903","v":0.72464339999999994},{"$f":"C7*0.092903","v":0},0,0.51096649999999999,0.743224,0.69677250000000002]
["Final BW(kg)^.667",{"$f":"B4^0.667","v":44.899331706525246},{"$f":"C4^0.667","v":44.899331706525246},{"$f":"D4^0.667","v":44.899331706525246},{"$f":"#REF!^0.667","v":{"$error":"#REF!"}},{"$f":"#REF!^0.667","v":{"$error":"#REF!"}},{"$f":"#REF!^0.667","v":{"$error":"#REF!"}}]
["Initial K value",{"$f":"B8/B9","v":1.6139291442832035E-2},0,0,{"$error":"#REF!"},{"$error":"#REF!"},{"$error":"#REF!"}]
["Josh Intiail Value for ADG",{"$f":"358.39+(16339*B10)-(234934*(B10^2))-(3.0944*B5)+(71.3992*B10*B5)+(2.357*B6)","v":842.068801094283},616.03609800362983,616.03609800362983,{"$error":"#REF!"},{"$error":"#REF!"},{"$error":"#REF!"}]
["Josh Intiail Value for ADFI",{"$f":"863.24+(24575*B10)-(379789*(B10^2))-(2.7272*B5)+(10.9993*B6)+(182.78*B10*B5)","v":2662.6670571349046},2304.7399999999998,2304.7399999999998,{"$error":"#REF!"},{"$error":"#REF!"},{"$error":"#REF!"}]
["Josh initial value for F/G",{"$f":"B12/B11","v":3.1620540431788027},{"$f":"C12/C11","v":3.7412417997401506},3.7412417997401506,{"$error":"#REF!"},{"$error":"#REF!"},{"$error":"#REF!"}]
["Producer Intial F/G",{"$f":"'(1) Setup'!B21","v":2.75},{"$f":"$B$14","v":2.75},{"$f":"$B$14","v":2.75},{"$f":"$B$14","v":2.75},{"$f":"$B$14","v":2.75},{"$f":"$B$14","v":2.75}]
["% Change",{"$f":"1-(B14/B13)","v":0.13031214443272643},{"$f":"$B$15","v":0.13031214443272643},{"$f":"$B$15","v":0.13031214443272643},{"$f":"$B$15","v":0.13031214443272643},{"$f":"$B$15","v":0.13031214443272643},{"$f":"$B$15","v":0.13031214443272643}]
["Overall F/G",{"$f":"B13-(B13*B15)","v":2.75},{"$f":"IF(C7=\"\",0,(C13-(C13*C15)))","v":0},{"$f":"IF(D7=\"\",0,(D13-(D13*D15)))","v":0},{"$f":"E13-(E13*E15)","v":{"$error":"#REF!"}},{"$error":"#REF!"},{"$error":"#REF!"}]
["% Change",null,{"$f":"IF(C7=\"\",0,(ABS(($B$16-C16)/$B$16)))","v":0},{"$f":"IF(D7=\"\",0,(ABS(($B$16-D16)/$B$16)))","v":0},{"$f":"1-(E16/$B$16)","v":{"$error":"#REF!"}},{"$error":"#REF!"},{"$error":"#REF!"}]

{"sheet":"(7) Production Management","index":8,"n_rows":25,"n_cols":17,"rows_kept":25,"cut":false,"hidden":false,"merged":[[3,5,3,14],[9,5,9,14],[7,1,7,2],[13,5,13,14],[2,1,2,16]]}
[]
[]
[null,"Step 7: Production Management Changes"]
[null,null,null,null,null,"Phase"]
[null,null,null,null,"Phase",{"$f":"'(1) Setup'!E5","v":1},{"$f":"'(1) Setup'!F5","v":2},{"$f":"'(1) Setup'!G5","v":3},{"$f":"'(1) Setup'!H5","v":4},{"$f":"'(1) Setup'!I5","v":5},{"$f":"'(1) Setup'!J5","v":6},{"$f":"'(1) Setup'!K5","v":7},{"$f":"'(1) Setup'!L5","v":8},{"$f":"'(1) Setup'!M5","v":9},{"$f":"'(1) Setup'!N5","v":10}]
[null,null,null,null,"Intial Weight",{"$f":"IF(F5=\"\",\"\",'(1) Setup'!E7)","v":45},{"$f":"IF(G5=\"\",\"\",'(1) Setup'!F7)","v":90},{"$f":"IF(H5=\"\",\"\",'(1) Setup'!G7)","v":110},{"$f":"IF(I5=\"\",\"\",'(1) Setup'!H7)","v":130},{"$f":"IF(J5=\"\",\"\",'(1) Setup'!I7)","v":155},{"$f":"IF(K5=\"\",\"\",'(1) Setup'!J7)","v":185},{"$f":"IF(L5=\"\",\"\",'(1) Setup'!K7)","v":200},{"$f":"IF(M5=\"\",\"\",'(1) Setup'!L7)","v":225},{"$f":"IF(N5=\"\",\"\",'(1) Setup'!M7)","v":245},{"$f":"IF(O5=\"\",\"\",'(1) Setup'!N7)","v":265}]
[null,null,null,null,"Final Weight",{"$f":"IF(F5=\"\",\"\",'(1) Setup'!E9)","v":90},{"$f":"IF(G5=\"\",\"\",'(1) Setup'!F9)","v":110},{"$f":"IF(H5=\"\",\"\",'(1) Setup'!G9)","v":130},{"$f":"IF(I5=\"\",\"\",'(1) Setup'!H9)","v":155},{"$f":"IF(J5=\"\",\"\",'(1) Setup'!I9)","v":185},{"$f":"IF(K5=\"\",\"\",'(1) Setup'!J9)","v":200},{"$f":"IF(L5=\"\",\"\",'(1) Setup'!K9)","v":225},{"$f":"IF(M5=\"\",\"\",'(1) Setup'!L9)","v":245},{"$f":"IF(N5=\"\",\"\",'(1) Setup'!M9)","v":265},{"$f":"IF(O5=\"\",\"\",'(1) Setup'!N9)","v":300},"Initial Overall F/G"]
[null,"Production Change to Evaluate",null,null,"Initial F/G",{"$f":"'(2) NE and SID Lysine'!C54","v":1.9764372634899374},{"$f":"'(2) NE and SID Lysine'!D54","v":2.1474418246055014},{"$f":"'(2) NE and SID Lysine'!E54","v":2.2682106025463171},{"$f":"'(2) NE and SID Lysine'!F54","v":2.421408893316749},{"$f":"'(2) NE and SID Lysine'!G54","v":2.6392835798508401},{"$f":"'(2) NE and SID Lysine'!H54","v":2.8490252722926193},{"$f":"'(2) NE and SID Lysine'!I54","v":3.0655752647909633},{"$f":"'(2) NE and SID Lysine'!J54","v":3.3522221198435482},{"$f":"'(2) NE and SID Lysine'!K54","v":3.6561012617202135},{"$f":"'(2) NE and SID Lysine'!L54","v":3.5822430305229047},{"$f":"SUM(F23:O23)/SUM(F22:O22)","v":2.7524948609108542}]
[null,"Production Change","Expected F/G Response, % "]
[null,"A",0.05,null,null,"Select the change to be used in each phase, Scenario 1"]
[null,"B",2.5000000000000001E-2,null,"Scenario 1",null,null,null,null,null,null,null,null,null,null,"Overall F/G Scenario 1","% Change"]
[null,null,"A",null,"New F/G",{"$f":"IF(F11=\"\",F8,(F8-(IF(F11=\"A\",(VLOOKUP(F11,$B$10:$C$11,2,FALSE)*F8),IF(F11=\"B\",VLOOKUP(F11,$B$10:$C$11,2,FALSE)*F8,IF(F11=\"C\",VLOOKUP(F11,$B$10:$C$11,2,FALSE)*F8,IF(F11=\"D\",VLOOKUP(F11,$B$10:$C$11,2,FALSE)*F8,0)))))))","v":1.9764372634899374},{"$f":"IF(G11=\"\",G8,(G8-(IF(G11=\"A\",(VLOOKUP(G11,$B$10:$C$14,2,FALSE)*G8),IF(G11=\"B\",VLOOKUP(G11,$B$10:$C$14,2,FALSE)*G8,IF(G11=\"C\",VLOOKUP(G11,$B$10:$C$14,2,FALSE)*G8,IF(G11=\"D\",VLOOKUP(G11,$B$10:$C$14,2,FALSE)*G8,0)))))))","v":2.1474418246055014},2.2682106025463171,2.421408893316749,2.6392835798508401,2.8490252722926193,3.0655752647909633,3.3522221198435482,3.6561012617202135,3.5822430305229047,{"$f":"SUM(F24:O24)/SUM($F$22:$O$22)","v":2.7524948609108542},{"$f":"ABS((P8-P12)/P8)","v":0}]
[]
[null,null,null,null,null,"Select the change to be used in each phase, Scenario 2"]
[null,null,null,null,"Scenario 2",null,null,null,null,null,null,null,null,null,null,"Overall F/G Scenario 2","% Change"]
[null,null,null,null,"New F/G",{"$f":"IF(F15=\"\",F8,(F8-(IF(F15=\"A\",(VLOOKUP(F15,$B$10:$C$14,2,FALSE)*F8),IF(F15=\"B\",VLOOKUP(F15,$B$10:$C$14,2,FALSE)*F8,IF(F15=\"C\",VLOOKUP(F15,$B$10:$C$14,2,FALSE)*F8,IF(F15=\"D\",VLOOKUP(F15,$B$10:$C$14,2,FALSE)*F8,0)))))))","v":1.9764372634899374},2.1474418246055014,2.2682106025463171,2.421408893316749,2.6392835798508401,2.8490252722926193,3.0655752647909633,3.3522221198435482,3.6561012617202135,3.5822430305229047,{"$f":"SUM(F25:O25)/SUM($F$22:$O$22)","v":2.7524948609108542},{"$f":"ABS((P8-P16)/P8)","v":0}]
[]
[]
[]
[]
[]
[null,null,null,null,"Initial Gain",{"$f":"IF(F5=1,F7-F6,0)","v":45},{"$f":"IF(G5=2,G7-G6,0)","v":20},{"$f":"IF(H5=3,H7-H6,0)","v":20},{"$f":"IF(I5=4,I7-I6,0)","v":25},{"$f":"IF(J5=5,J7-J6,0)","v":30},{"$f":"IF(K5=6,K7-K6,0)","v":15},{"$f":"IF(L5=7,L7-L6,0)","v":25},{"$f":"IF(M5=8,M7-M6,0)","v":20},{"$f":"IF(N5=9,N7-N6,0)","v":20},{"$f":"IF(O5=10,O7-O6,0)","v":35}]
[null,null,null,null,"Intial Feed Intake",{"$f":"F8*F22","v":88.939676857047189},42.948836492110026,45.364212050926341,60.535222332918728,79.178507395525202,42.735379084389287,76.639381619774085,67.044442396870963,73.122025234404276,125.37850606830166]
[null,null,null,null,"Scenario 1 Intake",{"$f":"F12*F22","v":88.939676857047189},42.948836492110026,45.364212050926341,60.535222332918728,79.178507395525202,42.735379084389287,76.639381619774085,67.044442396870963,73.122025234404276,125.37850606830166]
[null,null,null,null,"Scenario 2 Intake",{"$f":"F16*F22","v":88.939676857047189},42.948836492110026,45.364212050926341,60.535222332918728,79.178507395525202,42.735379084389287,76.639381619774085,67.044442396870963,73.122025234404276,125.37850606830166]

{"sheet":"(8) Mortality","index":9,"n_rows":24,"n_cols":10,"rows_kept":24,"cut":false,"hidden":false,"merged":[[3,0,3,8]]}
[]
[]
[]
["Step 8: Effects of Mortality on F/G"]
[null,"0% Mortality","Initial","Scenario 1","Scenario 2","Scenario 3","Scenario 4","Scenario 5","Scenario 6"]
["Initial BW, lb",{"$f":"'(1) Setup'!$B$7","v":45},{"$f":"'(1) Setup'!$B$7","v":45},{"$f":"'(1) Setup'!$B$7","v":45},{"$f":"'(1) Setup'!$B$7","v":45},{"$f":"'(1) Setup'!$B$7","v":45},{"$f":"'(1) Setup'!$B$7","v":45},{"$f":"'(1) Setup'!$B$7","v":45},{"$f":"'(1) Setup'!$B$7","v":45}]
["Final BW, lb",{"$f":"'(1) Setup'!$B$9","v":300},{"$f":"'(1) Setup'!$B$9","v":300},{"$f":"'(1) Setup'!$B$9","v":300},{"$f":"'(1) Setup'!$B$9","v":300},{"$f":"'(1) Setup'!$B$9","v":300},{"$f":"'(1) Setup'!$B$9","v":300},{"$f":"'(1) Setup'!$B$9","v":300},{"$f":"'(1) Setup'!$B$9","v":300}]
["Mortality, %",0,{"$f":"'(1) Setup'!B15","v":0.02},null,null,0.08,0.1,0.12,0.09,"*Pig mortalites are assumed to have consumed 50% of the feed budget"]
["Overall F/G",{"$f":"C9","v":2.75},{"$f":"'(1) Setup'!B21","v":2.75}]
[]
["Start Wt",{"$f":"B6","v":45},{"$f":"C6","v":45},{"$f":"D6","v":45},45,45,45,45,45]
["Mkt Wt",{"$f":"B7","v":300},{"$f":"C7","v":300},{"$f":"D7","v":300},300,300,300,300,300]
["Gain",{"$f":"B12-B11","v":255},{"$f":"C12-C11","v":255},{"$f":"D12-D11","v":255},255,255,255,255,255]
["FG",{"$f":"$C$9","v":2.75},{"$f":"$C$9","v":2.75},2.75,2.75,2.75,2.75,2.75,2.75]
["Fd/pig",{"$f":"B13*B14","v":701.25},{"$f":"C13*C14","v":701.25},{"$f":"D13*D14","v":701.25},701.25,701.25,701.25,701.25,701.25]
["Pigs Marketed",1000,{"$f":"$B$16*(1-C8)","v":980},{"$f":"$B$16*(1-D8)","v":1000},1000,920,900,880,910]
["Fd/mkted pigs",{"$f":"B15*B16","v":701250},{"$f":"C15*C16","v":687225},{"$f":"D15*D16","v":701250},701250,645150,631125,617100,638137.5]
["Fd/dead pig ",{"$f":"B15/2","v":350.625},{"$f":"C15/2","v":350.625},327.75,327.75,327.75,327.75,327.75,327.75]
["Fd/dead pigs",null,{"$f":"($B$16-C16)*C18","v":7012.5},{"$f":"($B$16-D16)*D18","v":0},0,26220,32775,39330,29497.5]
["Gain/1000 pig",{"$f":"B13*B16","v":255000},{"$f":"C13*C16","v":249900},255000,255000,234600,229500,224400,232050]
["F/G",{"$f":"B17/B20","v":2.75},{"$f":"SUM(C17,C19)/C20","v":2.7780612244897958},2.75,2.75,2.861764705882353,2.8928104575163398,2.9252673796791444,2.8771170006464124]
["F/G Adjustment, %",null,{"$f":"1-(B21/C21)","v":1.0101010101010055E-2},{"$f":"$C$22","v":1.0101010101010055E-2},{"$f":"$C$22","v":1.0101010101010055E-2},1.0101010101010055E-2,1.0101010101010055E-2,1.0101010101010055E-2,1.0101010101010055E-2]
["Overall F/G",null,{"$f":"C21-(C21*C22)","v":2.75},{"$f":"IF(D8=\"\",0,(D21-(D21*D22)))","v":0},{"$f":"IF(E8=\"\",0,(E21-(E21*E22)))","v":0},{"$f":"F21-(F21*F22)","v":2.8328579916815211},2.8635901498646597,2.8957192243288503,2.8480552127610954]
["% Change",null,null,{"$f":"IF(D8=\"\",0,ABS(($C$23-D23)/$C$23))","v":0},{"$f":"IF(E8=\"\",0,ABS(($C$23-E23)/$C$23))","v":0},{"$f":"1-(F23/$C$23)","v":-3.0130178793280393E-2},-4.1305509041694499E-2,-5.298880884685464E-2,-3.5656441004034756E-2]

{"sheet":"Summary","index":10,"n_rows":38,"n_cols":6,"rows_kept":38,"cut":false,"hidden":false,"merged":[[34,0,34,1],[34,2,34,3],[34,4,34,5],[1,0,1,1],[1,2,1,3],[25,0,25,1],[25,2,25,3],[25,4,25,5],[30,0,30,1],[30,2,30,3],[30,4,30,5],[11,4,11,5],[11,2,11,3],[11,0,11,1],[15,0,15,1],[15,2,15,3],[15,4,15,5],[0,0,0,1],[0,2,0,3],[0,4,0,5],[5,0,5,1],[5,2,5,3],[5,4,5,5]]}
["Current Practice",null,"Scenario 1",null,"Scenario 2"]
["NE and SID lysine",null,"NE and SID lysine"]
["       F/G",{"$f":"'(2) NE and SID Lysine'!M23","v":2.7524948609108542},"       F/G",{"$f":"'(2) NE and SID Lysine'!M34","v":0}]
[null,null,"       % Change",{"$f":"'(2) NE and SID Lysine'!M35","v":0}]
[]
["Ractopamine",null,"Ractopamine",null,"Ractopamine"]
["       Level, g/ton",{"$f":"'(3) Ractopamine'!N9","v":9},"       Level, g/ton",{"$f":"'(3) Ractopamine'!O9","v":0},"       Level, g/ton",{"$f":"'(3) Ractopamine'!P9","v":0}]
["       Duration, d",{"$f":"'(3) Ractopamine'!N10","v":17},"       Duration, d",{"$f":"'(3) Ractopamine'!O10","v":0},"       Duration, d",{"$f":"'(3) Ractopamine'!P10","v":0}]
["       F/G",{"$f":"'(3) Ractopamine'!N11","v":2.75},"       F/G",{"$f":"'(3) Ractopamine'!O11","v":0},"       F/G",{"$f":"'(3) Ractopamine'!P11","v":0}]
[null,null,"       % Change",{"$f":"'(3) Ractopamine'!O12","v":0},"       % Change",{"$f":"'(3) Ractopamine'!P12","v":0}]
[]
["Temperature",null,"Temperature",null,"Temperature"]
["       F/G",{"$f":"'(4) Temperature'!M13","v":2.7500000000000004},"       F/G",{"$f":"'(4) Temperature'!M17","v":0},"       F/G",{"$f":"'(4) Temperature'!M21","v":0}]
[null,null,"       % Change",{"$f":"'(4) Temperature'!N17","v":0},"       % Change",{"$f":"'(4) Temperature'!N21","v":0}]
[]
["Feed Processing",null,"Feed Processing",null,"Feed Processing"]
["       Diet Form",{"$f":"'(5) Feed Processing'!B5","v":"Pellet"},"       Diet Form",{"$f":"'(5) Feed Processing'!C5","v":0},"       Diet Form",{"$f":"'(5) Feed Processing'!D5","v":0}]
["       % Fines",{"$f":"'(5) Feed Processing'!B7","v":55},"       % Fines",{"$f":"'(5) Feed Processing'!C7","v":0},"       % Fines",{"$f":"'(5) Feed Processing'!D7","v":0}]
["       F/G",{"$f":"'(5) Feed Processing'!B8","v":2.75},"       F/G",{"$f":"'(5) Feed Processing'!C8","v":{"$error":"#N/A"}},"       F/G",{"$f":"'(5) Feed Processing'!D8","v":{"$error":"#N/A"}}]
[null,null,"      % Change",{"$f":"'(5) Feed Processing'!C16","v":{"$error":"#N/A"}},"      % Change",{"$f":"'(5) Feed Processing'!D16","v":{"$error":"#N/A"}}]
[]
["       Particle Size",{"$f":"'(5) Feed Processing'!G5","v":550},"       Particle Size",{"$f":"'(5) Feed Processing'!H5","v":0},"       Particle Size",{"$f":"'(5) Feed Processing'!I5","v":0}]
["       F/G",{"$f":"'(5) Feed Processing'!G7","v":2.75},"       F/G",{"$f":"'(5) Feed Processing'!H7","v":0},"       F/G",{"$f":"'(5) Feed Processing'!I7","v":0}]
[null,null,"       % Change",{"$f":"'(5) Feed Processing'!H8","v":0},"       % Change",{"$f":"'(5) Feed Processing'!I8","v":0}]
[]
["Floor Space",null,"Floor Space",null,"Floor Space"]
["       Floor Space/pig, ft2",{"$f":"'(6) Floor Space'!B7","v":7.8},"       Floor Space/pig, ft2",{"$f":"'(6) Floor Space'!C7","v":0},"       Floor Space/pig, ft2",{"$f":"'(6) Floor Space'!D7","v":0}]
["       F/G",{"$f":"'(6) Floor Space'!B16","v":2.75},"       F/G",{"$f":"'(6) Floor Space'!C16","v":0},"       F/G",{"$f":"'(6) Floor Space'!D16","v":0}]
[null,null,"       % Change",{"$f":"'(6) Floor Space'!C17","v":0},"       % Change",{"$f":"'(6) Floor Space'!D17","v":0}]
[]
["Production Management",null,"Production Management",null,"Production Management"]
["       F/G",{"$f":"'(7) Production Management'!P8","v":2.7524948609108542},"       F/G",{"$f":"'(7) Production Management'!P12","v":2.7524948609108542},"       F/G",{"$f":"'(7) Production Management'!P16","v":2.7524948609108542}]
[null,null,"       % Change",{"$f":"'(7) Production Management'!Q12","v":0},"       % Change",{"$f":"'(7) Production Management'!Q16","v":0}]
[]
["Mortality",null,"Mortality",null,"Mortality"]
["       % Mortality",{"$f":"'(8) Mortality'!C8","v":0.02},"       % Mortality",{"$f":"'(8) Mortality'!D8","v":0},"       % Mortality",{"$f":"'(8) Mortality'!E8","v":0}]
["       F/G",{"$f":"'(8) Mortality'!C23","v":2.75},"       F/G",{"$f":"'(8) Mortality'!D23","v":0},"       F/G",{"$f":"'(8) Mortality'!E23","v":0}]
[null,null,"       % Change",{"$f":"'(8) Mortality'!D24","v":0},"       % Change",{"$f":"'(8) Mortality'!E24","v":0}]

{"sheet":"Sheet2","index":11,"n_rows":2,"n_cols":1,"rows_kept":2,"cut":false,"hidden":false,"merged":[]}
[{"$f":"1/((0.000096*(1145*2.204))-(0.0025*(AVERAGE(22.686,54.446)))+(0.003071*1.5)+0.3257)","v":2.1001556677384041}]
[{"$f":"1/((0.000096*(1166*2.204))-(0.0025*(AVERAGE(54.446,90.744)))+(0.003071*1.5)+0.3257)","v":2.5282791563225495}]

{"sheet":"Sheet4","index":12,"n_rows":0,"n_cols":0,"rows_kept":0,"cut":false,"hidden":false,"merged":[]}